BEGIN:VCALENDAR
VERSION:2.0
PRODID:-//Hamilton Schools District 328 - ECPv6.15.12.2//NONSGML v1.0//EN
CALSCALE:GREGORIAN
METHOD:PUBLISH
X-ORIGINAL-URL:https://hhs328.com
X-WR-CALDESC:Events for Hamilton Schools District 328
REFRESH-INTERVAL;VALUE=DURATION:PT1H
X-Robots-Tag:noindex
X-PUBLISHED-TTL:PT1H
BEGIN:VTIMEZONE
TZID:America/Chicago
BEGIN:DAYLIGHT
TZOFFSETFROM:-0600
TZOFFSETTO:-0500
TZNAME:CDT
DTSTART:20240310T080000
END:DAYLIGHT
BEGIN:STANDARD
TZOFFSETFROM:-0500
TZOFFSETTO:-0600
TZNAME:CST
DTSTART:20241103T070000
END:STANDARD
BEGIN:DAYLIGHT
TZOFFSETFROM:-0600
TZOFFSETTO:-0500
TZNAME:CDT
DTSTART:20250309T080000
END:DAYLIGHT
BEGIN:STANDARD
TZOFFSETFROM:-0500
TZOFFSETTO:-0600
TZNAME:CST
DTSTART:20251102T070000
END:STANDARD
BEGIN:DAYLIGHT
TZOFFSETFROM:-0600
TZOFFSETTO:-0500
TZNAME:CDT
DTSTART:20260308T080000
END:DAYLIGHT
BEGIN:STANDARD
TZOFFSETFROM:-0500
TZOFFSETTO:-0600
TZNAME:CST
DTSTART:20261101T070000
END:STANDARD
END:VTIMEZONE
BEGIN:VEVENT
DTSTART;VALUE=DATE:20251211
DTEND;VALUE=DATE:20251212
DTSTAMP:20260425T131909
CREATED:20251125T114153Z
LAST-MODIFIED:20251211T121150Z
UID:254030-1765411200-1765497599@hhs328.com
SUMMARY:X-mas Dress Up: Christmas in July
DESCRIPTION:
URL:https://hhs328.com/event/x-mas-dress-up-christmas-in-july/
CATEGORIES:School Calendar
ATTACH;FMTTYPE=image/jpeg:https://hhs328.com/wp-content/uploads/2021/01/Hamilton-Logo-3.jpg
END:VEVENT
BEGIN:VEVENT
DTSTART;TZID=America/Chicago:20251211T112400
DTEND;TZID=America/Chicago:20251211T115400
DTSTAMP:20260425T131909
CREATED:20250206T214159Z
LAST-MODIFIED:20251211T121150Z
UID:251313-1765452240-1765454040@hhs328.com
SUMMARY:FFA Meeting
DESCRIPTION:
URL:https://hhs328.com/event/ffa-meeting-231/
CATEGORIES:School Calendar
ATTACH;FMTTYPE=image/jpeg:https://hhs328.com/wp-content/uploads/2021/01/Hamilton-Logo-3.jpg
END:VEVENT
BEGIN:VEVENT
DTSTART;TZID=America/Chicago:20251211T180000
DTEND;TZID=America/Chicago:20251211T190000
DTSTAMP:20260425T131909
CREATED:20251125T121146Z
LAST-MODIFIED:20251211T122649Z
UID:254048-1765476000-1765479600@hhs328.com
SUMMARY:3rd-5th Grade Holiday Concert @ HHS Gym
DESCRIPTION:
URL:https://hhs328.com/event/3rd-5th-grade-holiday-concert-hhs-gym/
CATEGORIES:District Calendar
ATTACH;FMTTYPE=image/jpeg:https://hhs328.com/wp-content/uploads/2021/01/Hamilton-Logo-3.jpg
END:VEVENT
BEGIN:VEVENT
DTSTART;TZID=America/Chicago:20251211T180000
DTEND;TZID=America/Chicago:20251211T190000
DTSTAMP:20260425T131909
CREATED:20251206T134148Z
LAST-MODIFIED:20251211T134156Z
UID:254143-1765476000-1765479600@hhs328.com
SUMMARY:HSBBB Freshmen vs Illini West @ Warsaw
DESCRIPTION:
URL:https://hhs328.com/event/hsbbb-freshmen-vs-illini-west-warsaw-2/
CATEGORIES:West Hancock Titans
ATTACH;FMTTYPE=image/jpeg:https://hhs328.com/wp-content/uploads/2021/01/Hamilton-Logo-3.jpg
END:VEVENT
BEGIN:VEVENT
DTSTART;TZID=America/Chicago:20251211T180000
DTEND;TZID=America/Chicago:20251211T200000
DTSTAMP:20260425T131909
CREATED:20250830T215656Z
LAST-MODIFIED:20251103T235650Z
UID:253049-1765476000-1765483200@hhs328.com
SUMMARY:HSGBB @ Lewistown
DESCRIPTION:
URL:https://hhs328.com/event/hsgbb-lewistown-2/
CATEGORIES:West Hancock Titans
ATTACH;FMTTYPE=image/jpeg:https://hhs328.com/wp-content/uploads/2021/01/Hamilton-Logo-3.jpg
END:VEVENT
BEGIN:VEVENT
DTSTART;TZID=America/Chicago:20251211T180000
DTEND;TZID=America/Chicago:20251211T210000
DTSTAMP:20260425T131909
CREATED:20250830T215656Z
LAST-MODIFIED:20251211T134156Z
UID:253048-1765476000-1765486800@hhs328.com
SUMMARY:Wrestling @ Beardstown
DESCRIPTION:
URL:https://hhs328.com/event/wrestling-beardstown/
CATEGORIES:West Hancock Titans
ATTACH;FMTTYPE=image/jpeg:https://hhs328.com/wp-content/uploads/2021/01/Hamilton-Logo-3.jpg
END:VEVENT
END:VCALENDAR