BEGIN:VCALENDAR
VERSION:2.0
PRODID:-//Hamilton Schools District 328 - ECPv6.15.12.2//NONSGML v1.0//EN
CALSCALE:GREGORIAN
METHOD:PUBLISH
X-ORIGINAL-URL:https://hhs328.com
X-WR-CALDESC:Events for Hamilton Schools District 328
REFRESH-INTERVAL;VALUE=DURATION:PT1H
X-Robots-Tag:noindex
X-PUBLISHED-TTL:PT1H
BEGIN:VTIMEZONE
TZID:America/Chicago
BEGIN:DAYLIGHT
TZOFFSETFROM:-0600
TZOFFSETTO:-0500
TZNAME:CDT
DTSTART:20240310T080000
END:DAYLIGHT
BEGIN:STANDARD
TZOFFSETFROM:-0500
TZOFFSETTO:-0600
TZNAME:CST
DTSTART:20241103T070000
END:STANDARD
BEGIN:DAYLIGHT
TZOFFSETFROM:-0600
TZOFFSETTO:-0500
TZNAME:CDT
DTSTART:20250309T080000
END:DAYLIGHT
BEGIN:STANDARD
TZOFFSETFROM:-0500
TZOFFSETTO:-0600
TZNAME:CST
DTSTART:20251102T070000
END:STANDARD
BEGIN:DAYLIGHT
TZOFFSETFROM:-0600
TZOFFSETTO:-0500
TZNAME:CDT
DTSTART:20260308T080000
END:DAYLIGHT
BEGIN:STANDARD
TZOFFSETFROM:-0500
TZOFFSETTO:-0600
TZNAME:CST
DTSTART:20261101T070000
END:STANDARD
END:VTIMEZONE
BEGIN:VEVENT
DTSTART;VALUE=DATE:20251220
DTEND;VALUE=DATE:20251221
DTSTAMP:20260425T192429
CREATED:20250905T221157Z
LAST-MODIFIED:20251220T191155Z
UID:253107-1766188800-1766275199@hhs328.com
SUMMARY:HSBBB @ Great Western Shootout (Abingdon/Avon)
DESCRIPTION:
URL:https://hhs328.com/event/hsbbb-great-western-shootout-abingdon-avon/
CATEGORIES:West Hancock Titans
ATTACH;FMTTYPE=image/jpeg:https://hhs328.com/wp-content/uploads/2021/01/Hamilton-Logo-3.jpg
END:VEVENT
BEGIN:VEVENT
DTSTART;TZID=America/Chicago:20251220T090000
DTEND;TZID=America/Chicago:20251220T120000
DTSTAMP:20260425T192429
CREATED:20251210T134150Z
LAST-MODIFIED:20251219T185700Z
UID:254172-1766221200-1766232000@hhs328.com
SUMMARY:HSBBB Freshmen Jamboree vs Central Lee & Macomb@ Warsaw
DESCRIPTION:
URL:https://hhs328.com/event/hsbbb-freshmen-jamboree-vs-central-lee-macomb-warsaw/
CATEGORIES:West Hancock Titans
ATTACH;FMTTYPE=image/jpeg:https://hhs328.com/wp-content/uploads/2021/01/Hamilton-Logo-3.jpg
END:VEVENT
BEGIN:VEVENT
DTSTART;TZID=America/Chicago:20251220T180000
DTEND;TZID=America/Chicago:20251220T190000
DTSTAMP:20260425T192429
CREATED:20250905T221157Z
LAST-MODIFIED:20251220T191155Z
UID:253106-1766253600-1766257200@hhs328.com
SUMMARY:HSGBB @ JWCC Rumble on the River vs Cairo\, MO. (Quincy)
DESCRIPTION:
URL:https://hhs328.com/event/hsgbb-jwcc-rumble-on-the-river-vs-cairo-mo-quincy/
CATEGORIES:West Hancock Titans
ATTACH;FMTTYPE=image/jpeg:https://hhs328.com/wp-content/uploads/2021/01/Hamilton-Logo-3.jpg
END:VEVENT
END:VCALENDAR