BEGIN:VCALENDAR
VERSION:2.0
PRODID:-//Hamilton Schools District 328 - ECPv6.15.12.2//NONSGML v1.0//EN
CALSCALE:GREGORIAN
METHOD:PUBLISH
X-WR-CALNAME:Hamilton Schools District 328
X-ORIGINAL-URL:https://hhs328.com
X-WR-CALDESC:Events for Hamilton Schools District 328
REFRESH-INTERVAL;VALUE=DURATION:PT1H
X-Robots-Tag:noindex
X-PUBLISHED-TTL:PT1H
BEGIN:VTIMEZONE
TZID:America/Chicago
BEGIN:DAYLIGHT
TZOFFSETFROM:-0600
TZOFFSETTO:-0500
TZNAME:CDT
DTSTART:20250309T080000
END:DAYLIGHT
BEGIN:STANDARD
TZOFFSETFROM:-0500
TZOFFSETTO:-0600
TZNAME:CST
DTSTART:20251102T070000
END:STANDARD
BEGIN:DAYLIGHT
TZOFFSETFROM:-0600
TZOFFSETTO:-0500
TZNAME:CDT
DTSTART:20260308T080000
END:DAYLIGHT
BEGIN:STANDARD
TZOFFSETFROM:-0500
TZOFFSETTO:-0600
TZNAME:CST
DTSTART:20261101T070000
END:STANDARD
BEGIN:DAYLIGHT
TZOFFSETFROM:-0600
TZOFFSETTO:-0500
TZNAME:CDT
DTSTART:20270314T080000
END:DAYLIGHT
BEGIN:STANDARD
TZOFFSETFROM:-0500
TZOFFSETTO:-0600
TZNAME:CST
DTSTART:20271107T070000
END:STANDARD
END:VTIMEZONE
BEGIN:VEVENT
DTSTART;VALUE=DATE:20260107
DTEND;VALUE=DATE:20260108
DTSTAMP:20260424T135801
CREATED:20260106T095647Z
LAST-MODIFIED:20260107T095648Z
UID:254382-1767744000-1767830399@hhs328.com
SUMMARY:Marines Lunch Visit
DESCRIPTION:
URL:https://hhs328.com/event/marines-lunch-visit-2/
CATEGORIES:School Calendar
ATTACH;FMTTYPE=image/jpeg:https://hhs328.com/wp-content/uploads/2021/01/Hamilton-Logo-3.jpg
END:VEVENT
BEGIN:VEVENT
DTSTART;TZID=America/Chicago:20260107T112400
DTEND;TZID=America/Chicago:20260107T115400
DTSTAMP:20260424T135801
CREATED:20250313T232703Z
LAST-MODIFIED:20260107T095648Z
UID:251597-1767785040-1767786840@hhs328.com
SUMMARY:NHS Meeting
DESCRIPTION:
URL:https://hhs328.com/event/nhs-meeting-32/
CATEGORIES:School Calendar
ATTACH;FMTTYPE=image/jpeg:https://hhs328.com/wp-content/uploads/2021/01/Hamilton-Logo-3.jpg
END:VEVENT
BEGIN:VEVENT
DTSTART;TZID=America/Chicago:20260107T173000
DTEND;TZID=America/Chicago:20260107T193000
DTSTAMP:20260424T135801
CREATED:20260101T114152Z
LAST-MODIFIED:20260107T122654Z
UID:254338-1767807000-1767814200@hhs328.com
SUMMARY:5/6 Boys Basketball @ Nauvoo/Colusa
DESCRIPTION:
URL:https://hhs328.com/event/5-6-boys-basketball-nauvoo-colusa/
CATEGORIES:Cardinal Athletics
ATTACH;FMTTYPE=image/jpeg:https://hhs328.com/wp-content/uploads/2021/01/Hamilton-Logo-3.jpg
END:VEVENT
BEGIN:VEVENT
DTSTART;TZID=America/Chicago:20260107T180000
DTEND;TZID=America/Chicago:20260107T200000
DTSTAMP:20260424T135801
CREATED:20250910T222706Z
LAST-MODIFIED:20260107T121154Z
UID:253183-1767808800-1767816000@hhs328.com
SUMMARY:HSBBB @ Mercer County
DESCRIPTION:
URL:https://hhs328.com/event/hsbbb-mercer-county/
CATEGORIES:West Hancock Titans
ATTACH;FMTTYPE=image/jpeg:https://hhs328.com/wp-content/uploads/2021/01/Hamilton-Logo-3.jpg
END:VEVENT
END:VCALENDAR