BEGIN:VCALENDAR
VERSION:2.0
PRODID:-//Hamilton Schools District 328 - ECPv6.15.12.2//NONSGML v1.0//EN
CALSCALE:GREGORIAN
METHOD:PUBLISH
X-ORIGINAL-URL:https://hhs328.com
X-WR-CALDESC:Events for Hamilton Schools District 328
REFRESH-INTERVAL;VALUE=DURATION:PT1H
X-Robots-Tag:noindex
X-PUBLISHED-TTL:PT1H
BEGIN:VTIMEZONE
TZID:America/Chicago
BEGIN:DAYLIGHT
TZOFFSETFROM:-0600
TZOFFSETTO:-0500
TZNAME:CDT
DTSTART:20250309T080000
END:DAYLIGHT
BEGIN:STANDARD
TZOFFSETFROM:-0500
TZOFFSETTO:-0600
TZNAME:CST
DTSTART:20251102T070000
END:STANDARD
BEGIN:DAYLIGHT
TZOFFSETFROM:-0600
TZOFFSETTO:-0500
TZNAME:CDT
DTSTART:20260308T080000
END:DAYLIGHT
BEGIN:STANDARD
TZOFFSETFROM:-0500
TZOFFSETTO:-0600
TZNAME:CST
DTSTART:20261101T070000
END:STANDARD
BEGIN:DAYLIGHT
TZOFFSETFROM:-0600
TZOFFSETTO:-0500
TZNAME:CDT
DTSTART:20270314T080000
END:DAYLIGHT
BEGIN:STANDARD
TZOFFSETFROM:-0500
TZOFFSETTO:-0600
TZNAME:CST
DTSTART:20271107T070000
END:STANDARD
END:VTIMEZONE
BEGIN:VEVENT
DTSTART;VALUE=DATE:20260122
DTEND;VALUE=DATE:20260123
DTSTAMP:20260425T092859
CREATED:20251126T115656Z
LAST-MODIFIED:20260122T102653Z
UID:254069-1769040000-1769126399@hhs328.com
SUMMARY:CEO Presentation - So/Jr- 4th Hour
DESCRIPTION:
URL:https://hhs328.com/event/ceo-presentation-so-jr-4th-hour/
CATEGORIES:School Calendar
ATTACH;FMTTYPE=image/jpeg:https://hhs328.com/wp-content/uploads/2021/01/Hamilton-Logo-3.jpg
END:VEVENT
BEGIN:VEVENT
DTSTART;TZID=America/Chicago:20260122T112400
DTEND;TZID=America/Chicago:20260122T115400
DTSTAMP:20260425T092859
CREATED:20250326T094159Z
LAST-MODIFIED:20260122T102653Z
UID:251688-1769081040-1769082840@hhs328.com
SUMMARY:FFA Meeting
DESCRIPTION:
URL:https://hhs328.com/event/ffa-meeting-243/
CATEGORIES:School Calendar
ATTACH;FMTTYPE=image/jpeg:https://hhs328.com/wp-content/uploads/2021/01/Hamilton-Logo-3.jpg
END:VEVENT
BEGIN:VEVENT
DTSTART;TZID=America/Chicago:20260122T173000
DTEND;TZID=America/Chicago:20260122T193000
DTSTAMP:20260425T092859
CREATED:20251102T061216Z
LAST-MODIFIED:20260122T134152Z
UID:253732-1769103000-1769110200@hhs328.com
SUMMARY:JH Volleyball @ LaHarpe
DESCRIPTION:
URL:https://hhs328.com/event/jh-volleyball-laharpe-3/
CATEGORIES:Cardinal Athletics
ATTACH;FMTTYPE=image/jpeg:https://hhs328.com/wp-content/uploads/2021/01/Hamilton-Logo-3.jpg
END:VEVENT
BEGIN:VEVENT
DTSTART;TZID=America/Chicago:20260122T180000
DTEND;TZID=America/Chicago:20260122T200000
DTSTAMP:20260425T092859
CREATED:20250919T225657Z
LAST-MODIFIED:20260122T131150Z
UID:253264-1769104800-1769112000@hhs328.com
SUMMARY:HSGBB @ Liberty
DESCRIPTION:
URL:https://hhs328.com/event/hsgbb-liberty-2/
CATEGORIES:West Hancock Titans
ATTACH;FMTTYPE=image/jpeg:https://hhs328.com/wp-content/uploads/2021/01/Hamilton-Logo-3.jpg
END:VEVENT
BEGIN:VEVENT
DTSTART;TZID=America/Chicago:20260122T180000
DTEND;TZID=America/Chicago:20260122T210000
DTSTAMP:20260425T092859
CREATED:20250919T225657Z
LAST-MODIFIED:20260122T131150Z
UID:253263-1769104800-1769115600@hhs328.com
SUMMARY:Wrestling vs QND\, Pasyon\, IW
DESCRIPTION:
URL:https://hhs328.com/event/wrestling-vs-qnd-pasyon-iw/
CATEGORIES:West Hancock Titans
ATTACH;FMTTYPE=image/jpeg:https://hhs328.com/wp-content/uploads/2021/01/Hamilton-Logo-3.jpg
END:VEVENT
END:VCALENDAR