BEGIN:VCALENDAR
VERSION:2.0
PRODID:-//Hamilton Schools District 328 - ECPv6.15.12.2//NONSGML v1.0//EN
CALSCALE:GREGORIAN
METHOD:PUBLISH
X-WR-CALNAME:Hamilton Schools District 328
X-ORIGINAL-URL:https://hhs328.com
X-WR-CALDESC:Events for Hamilton Schools District 328
REFRESH-INTERVAL;VALUE=DURATION:PT1H
X-Robots-Tag:noindex
X-PUBLISHED-TTL:PT1H
BEGIN:VTIMEZONE
TZID:America/Chicago
BEGIN:DAYLIGHT
TZOFFSETFROM:-0600
TZOFFSETTO:-0500
TZNAME:CDT
DTSTART:20250309T080000
END:DAYLIGHT
BEGIN:STANDARD
TZOFFSETFROM:-0500
TZOFFSETTO:-0600
TZNAME:CST
DTSTART:20251102T070000
END:STANDARD
BEGIN:DAYLIGHT
TZOFFSETFROM:-0600
TZOFFSETTO:-0500
TZNAME:CDT
DTSTART:20260308T080000
END:DAYLIGHT
BEGIN:STANDARD
TZOFFSETFROM:-0500
TZOFFSETTO:-0600
TZNAME:CST
DTSTART:20261101T070000
END:STANDARD
BEGIN:DAYLIGHT
TZOFFSETFROM:-0600
TZOFFSETTO:-0500
TZNAME:CDT
DTSTART:20270314T080000
END:DAYLIGHT
BEGIN:STANDARD
TZOFFSETFROM:-0500
TZOFFSETTO:-0600
TZNAME:CST
DTSTART:20271107T070000
END:STANDARD
END:VTIMEZONE
BEGIN:VEVENT
DTSTART;VALUE=DATE:20260205
DTEND;VALUE=DATE:20260206
DTSTAMP:20260424T133505
CREATED:20250926T225655Z
LAST-MODIFIED:20260205T162654Z
UID:253338-1770249600-1770335999@hhs328.com
SUMMARY:Wrestling Duel Team Sectionals
DESCRIPTION:
URL:https://hhs328.com/event/wrestling-duel-team-sectionals/
CATEGORIES:West Hancock Titans
ATTACH;FMTTYPE=image/jpeg:https://hhs328.com/wp-content/uploads/2021/01/Hamilton-Logo-3.jpg
END:VEVENT
BEGIN:VEVENT
DTSTART;TZID=America/Chicago:20260205T112400
DTEND;TZID=America/Chicago:20260205T115400
DTSTAMP:20260424T133505
CREATED:20250403T114152Z
LAST-MODIFIED:20260205T151155Z
UID:251751-1770290640-1770292440@hhs328.com
SUMMARY:FFA Meeting
DESCRIPTION:
URL:https://hhs328.com/event/ffa-meeting-247/
CATEGORIES:School Calendar
ATTACH;FMTTYPE=image/jpeg:https://hhs328.com/wp-content/uploads/2021/01/Hamilton-Logo-3.jpg
END:VEVENT
BEGIN:VEVENT
DTSTART;TZID=America/Chicago:20260205T160000
DTEND;TZID=America/Chicago:20260205T170000
DTSTAMP:20260424T133505
CREATED:20260130T152657Z
LAST-MODIFIED:20260205T162654Z
UID:254632-1770307200-1770310800@hhs328.com
SUMMARY:Scholastic Bowl vs Liberty
DESCRIPTION:
URL:https://hhs328.com/event/scholastic-bowl-vs-liberty/
CATEGORIES:West Hancock Titans
ATTACH;FMTTYPE=image/jpeg:https://hhs328.com/wp-content/uploads/2021/01/Hamilton-Logo-3.jpg
END:VEVENT
BEGIN:VEVENT
DTSTART;TZID=America/Chicago:20260205T180000
DTEND;TZID=America/Chicago:20260205T200000
DTSTAMP:20260424T133505
CREATED:20250926T225655Z
LAST-MODIFIED:20260205T162654Z
UID:253339-1770314400-1770321600@hhs328.com
SUMMARY:HSGBB vs West Central @ Hamilton
DESCRIPTION:
URL:https://hhs328.com/event/hsgbb-vs-west-central-hamilton/
CATEGORIES:West Hancock Titans
ATTACH;FMTTYPE=image/jpeg:https://hhs328.com/wp-content/uploads/2021/01/Hamilton-Logo-3.jpg
END:VEVENT
BEGIN:VEVENT
DTSTART;TZID=America/Chicago:20260205T180000
DTEND;TZID=America/Chicago:20260205T200000
DTSTAMP:20260424T133505
CREATED:20260101T114153Z
LAST-MODIFIED:20260205T164158Z
UID:254344-1770314400-1770321600@hhs328.com
SUMMARY:5/6 Boys Basketball @ Unity
DESCRIPTION:
URL:https://hhs328.com/event/5-6-boys-basketball-unity/
CATEGORIES:Cardinal Athletics
ATTACH;FMTTYPE=image/jpeg:https://hhs328.com/wp-content/uploads/2021/01/Hamilton-Logo-3.jpg
END:VEVENT
END:VCALENDAR