BEGIN:VCALENDAR
VERSION:2.0
PRODID:-//Hamilton Schools District 328 - ECPv6.15.12.2//NONSGML v1.0//EN
CALSCALE:GREGORIAN
METHOD:PUBLISH
X-WR-CALNAME:Hamilton Schools District 328
X-ORIGINAL-URL:https://hhs328.com
X-WR-CALDESC:Events for Hamilton Schools District 328
REFRESH-INTERVAL;VALUE=DURATION:PT1H
X-Robots-Tag:noindex
X-PUBLISHED-TTL:PT1H
BEGIN:VTIMEZONE
TZID:America/Chicago
BEGIN:DAYLIGHT
TZOFFSETFROM:-0600
TZOFFSETTO:-0500
TZNAME:CDT
DTSTART:20250309T080000
END:DAYLIGHT
BEGIN:STANDARD
TZOFFSETFROM:-0500
TZOFFSETTO:-0600
TZNAME:CST
DTSTART:20251102T070000
END:STANDARD
BEGIN:DAYLIGHT
TZOFFSETFROM:-0600
TZOFFSETTO:-0500
TZNAME:CDT
DTSTART:20260308T080000
END:DAYLIGHT
BEGIN:STANDARD
TZOFFSETFROM:-0500
TZOFFSETTO:-0600
TZNAME:CST
DTSTART:20261101T070000
END:STANDARD
BEGIN:DAYLIGHT
TZOFFSETFROM:-0600
TZOFFSETTO:-0500
TZNAME:CDT
DTSTART:20270314T080000
END:DAYLIGHT
BEGIN:STANDARD
TZOFFSETFROM:-0500
TZOFFSETTO:-0600
TZNAME:CST
DTSTART:20271107T070000
END:STANDARD
END:VTIMEZONE
BEGIN:VEVENT
DTSTART;TZID=America/Chicago:20260210T071500
DTEND;TZID=America/Chicago:20260210T080000
DTSTAMP:20260424T021404
CREATED:20260205T151154Z
LAST-MODIFIED:20260209T151151Z
UID:254687-1770707700-1770710400@hhs328.com
SUMMARY:Youth Alive Mtg
DESCRIPTION:
URL:https://hhs328.com/event/youth-alive-mtg/
CATEGORIES:School Calendar
ATTACH;FMTTYPE=image/jpeg:https://hhs328.com/wp-content/uploads/2021/01/Hamilton-Logo-3.jpg
END:VEVENT
BEGIN:VEVENT
DTSTART;TZID=America/Chicago:20260210T112400
DTEND;TZID=America/Chicago:20260210T115400
DTSTAMP:20260424T021404
CREATED:20250404T115654Z
LAST-MODIFIED:20260210T151148Z
UID:251759-1770722640-1770724440@hhs328.com
SUMMARY:FFA Meeting
DESCRIPTION:
URL:https://hhs328.com/event/ffa-meeting-248/
CATEGORIES:School Calendar
ATTACH;FMTTYPE=image/jpeg:https://hhs328.com/wp-content/uploads/2021/01/Hamilton-Logo-3.jpg
END:VEVENT
BEGIN:VEVENT
DTSTART;TZID=America/Chicago:20260210T173000
DTEND;TZID=America/Chicago:20260210T193000
DTSTAMP:20260424T021404
CREATED:20251102T061229Z
LAST-MODIFIED:20260210T165647Z
UID:253738-1770744600-1770751800@hhs328.com
SUMMARY:JH Volleyball vs Unity
DESCRIPTION:
URL:https://hhs328.com/event/jh-volleyball-vs-unity/
CATEGORIES:Cardinal Athletics
ATTACH;FMTTYPE=image/jpeg:https://hhs328.com/wp-content/uploads/2021/01/Hamilton-Logo-3.jpg
END:VEVENT
BEGIN:VEVENT
DTSTART;TZID=America/Chicago:20260210T180000
DTEND;TZID=America/Chicago:20260210T200000
DTSTAMP:20260424T021404
CREATED:20250930T231155Z
LAST-MODIFIED:20260210T162650Z
UID:253379-1770746400-1770753600@hhs328.com
SUMMARY:HSGBB vs Central/Southeastern - Senior Night
DESCRIPTION:
URL:https://hhs328.com/event/hsgbb-vs-central-southeastern/
CATEGORIES:West Hancock Titans
ATTACH;FMTTYPE=image/jpeg:https://hhs328.com/wp-content/uploads/2021/01/Hamilton-Logo-3.jpg
END:VEVENT
END:VCALENDAR