BEGIN:VCALENDAR
VERSION:2.0
PRODID:-//Hamilton Schools District 328 - ECPv6.15.12.2//NONSGML v1.0//EN
CALSCALE:GREGORIAN
METHOD:PUBLISH
X-WR-CALNAME:Hamilton Schools District 328
X-ORIGINAL-URL:https://hhs328.com
X-WR-CALDESC:Events for Hamilton Schools District 328
REFRESH-INTERVAL;VALUE=DURATION:PT1H
X-Robots-Tag:noindex
X-PUBLISHED-TTL:PT1H
BEGIN:VTIMEZONE
TZID:America/Chicago
BEGIN:DAYLIGHT
TZOFFSETFROM:-0600
TZOFFSETTO:-0500
TZNAME:CDT
DTSTART:20250309T080000
END:DAYLIGHT
BEGIN:STANDARD
TZOFFSETFROM:-0500
TZOFFSETTO:-0600
TZNAME:CST
DTSTART:20251102T070000
END:STANDARD
BEGIN:DAYLIGHT
TZOFFSETFROM:-0600
TZOFFSETTO:-0500
TZNAME:CDT
DTSTART:20260308T080000
END:DAYLIGHT
BEGIN:STANDARD
TZOFFSETFROM:-0500
TZOFFSETTO:-0600
TZNAME:CST
DTSTART:20261101T070000
END:STANDARD
BEGIN:DAYLIGHT
TZOFFSETFROM:-0600
TZOFFSETTO:-0500
TZNAME:CDT
DTSTART:20270314T080000
END:DAYLIGHT
BEGIN:STANDARD
TZOFFSETFROM:-0500
TZOFFSETTO:-0600
TZNAME:CST
DTSTART:20271107T070000
END:STANDARD
END:VTIMEZONE
BEGIN:VEVENT
DTSTART;TZID=America/Chicago:20260212T112400
DTEND;TZID=America/Chicago:20260212T115400
DTSTAMP:20260424T032947
CREATED:20250418T132658Z
LAST-MODIFIED:20260212T151157Z
UID:251841-1770895440-1770897240@hhs328.com
SUMMARY:FFA Meeting
DESCRIPTION:
URL:https://hhs328.com/event/ffa-meeting-249/
CATEGORIES:School Calendar
ATTACH;FMTTYPE=image/jpeg:https://hhs328.com/wp-content/uploads/2021/01/Hamilton-Logo-3.jpg
END:VEVENT
BEGIN:VEVENT
DTSTART;TZID=America/Chicago:20260212T160000
DTEND;TZID=America/Chicago:20260212T170000
DTSTAMP:20260424T032947
CREATED:20260206T162656Z
LAST-MODIFIED:20260212T164150Z
UID:254709-1770912000-1770915600@hhs328.com
SUMMARY:Scholastic Bowl vs Southeastern
DESCRIPTION:
URL:https://hhs328.com/event/scholastic-bowl-vs-southeastern/
CATEGORIES:West Hancock Titans
ATTACH;FMTTYPE=image/jpeg:https://hhs328.com/wp-content/uploads/2021/01/Hamilton-Logo-3.jpg
END:VEVENT
BEGIN:VEVENT
DTSTART;TZID=America/Chicago:20260212T170000
DTEND;TZID=America/Chicago:20260212T190000
DTSTAMP:20260424T032947
CREATED:20260108T122714Z
LAST-MODIFIED:20260212T171148Z
UID:254414-1770915600-1770922800@hhs328.com
SUMMARY:5/6 Volleyball vs Carthage
DESCRIPTION:
URL:https://hhs328.com/event/5-6-volleyball-vs-carthage-2/
CATEGORIES:Cardinal Athletics
ATTACH;FMTTYPE=image/jpeg:https://hhs328.com/wp-content/uploads/2021/01/Hamilton-Logo-3.jpg
END:VEVENT
BEGIN:VEVENT
DTSTART;TZID=America/Chicago:20260212T181500
DTEND;TZID=America/Chicago:20260212T201500
DTSTAMP:20260424T032947
CREATED:20250902T215653Z
LAST-MODIFIED:20260212T164150Z
UID:253064-1770920100-1770927300@hhs328.com
SUMMARY:HSBBB vs Rushville/Industry @ Warsaw - Senior Night - CANCELED
DESCRIPTION:
URL:https://hhs328.com/event/hsbbb-vs-rushville-industry-warsaw/
CATEGORIES:West Hancock Titans
ATTACH;FMTTYPE=image/jpeg:https://hhs328.com/wp-content/uploads/2021/01/Hamilton-Logo-3.jpg
END:VEVENT
END:VCALENDAR