BEGIN:VCALENDAR
VERSION:2.0
PRODID:-//Hamilton Schools District 328 - ECPv6.15.12.2//NONSGML v1.0//EN
CALSCALE:GREGORIAN
METHOD:PUBLISH
X-WR-CALNAME:Hamilton Schools District 328
X-ORIGINAL-URL:https://hhs328.com
X-WR-CALDESC:Events for Hamilton Schools District 328
REFRESH-INTERVAL;VALUE=DURATION:PT1H
X-Robots-Tag:noindex
X-PUBLISHED-TTL:PT1H
BEGIN:VTIMEZONE
TZID:America/Chicago
BEGIN:DAYLIGHT
TZOFFSETFROM:-0600
TZOFFSETTO:-0500
TZNAME:CDT
DTSTART:20250309T080000
END:DAYLIGHT
BEGIN:STANDARD
TZOFFSETFROM:-0500
TZOFFSETTO:-0600
TZNAME:CST
DTSTART:20251102T070000
END:STANDARD
BEGIN:DAYLIGHT
TZOFFSETFROM:-0600
TZOFFSETTO:-0500
TZNAME:CDT
DTSTART:20260308T080000
END:DAYLIGHT
BEGIN:STANDARD
TZOFFSETFROM:-0500
TZOFFSETTO:-0600
TZNAME:CST
DTSTART:20261101T070000
END:STANDARD
BEGIN:DAYLIGHT
TZOFFSETFROM:-0600
TZOFFSETTO:-0500
TZNAME:CDT
DTSTART:20270314T080000
END:DAYLIGHT
BEGIN:STANDARD
TZOFFSETFROM:-0500
TZOFFSETTO:-0600
TZNAME:CST
DTSTART:20271107T070000
END:STANDARD
END:VTIMEZONE
BEGIN:VEVENT
DTSTART;VALUE=DATE:20260213
DTEND;VALUE=DATE:20260214
DTSTAMP:20260424T060011
CREATED:20250708T192651Z
LAST-MODIFIED:20260213T154155Z
UID:252642-1770940800-1771027199@hhs328.com
SUMMARY:Teacher's Institute - No School
DESCRIPTION:
URL:https://hhs328.com/event/teachers-institute-no-school/
CATEGORIES:District Calendar
ATTACH;FMTTYPE=image/jpeg:https://hhs328.com/wp-content/uploads/2021/01/Hamilton-Logo-3.jpg
END:VEVENT
BEGIN:VEVENT
DTSTART;TZID=America/Chicago:20260213T173000
DTEND;TZID=America/Chicago:20260213T183000
DTSTAMP:20260424T060011
CREATED:20260123T132652Z
LAST-MODIFIED:20260213T164157Z
UID:254578-1771003800-1771007400@hhs328.com
SUMMARY:HSGBB Varsity vs QND @ Hamilton
DESCRIPTION:
URL:https://hhs328.com/event/hsgbb-varsity-vs-qnd-hamilton/
CATEGORIES:West Hancock Titans
ATTACH;FMTTYPE=image/jpeg:https://hhs328.com/wp-content/uploads/2021/01/Hamilton-Logo-3.jpg
END:VEVENT
BEGIN:VEVENT
DTSTART;TZID=America/Chicago:20260213T173000
DTEND;TZID=America/Chicago:20260213T183000
DTSTAMP:20260424T060011
CREATED:20260206T162656Z
LAST-MODIFIED:20260213T164157Z
UID:254711-1771003800-1771007400@hhs328.com
SUMMARY:Dance Showcase @ Hamilton Elementary
DESCRIPTION:
URL:https://hhs328.com/event/dance-showcase-hamilton-elementary/
CATEGORIES:West Hancock Titans
ATTACH;FMTTYPE=image/jpeg:https://hhs328.com/wp-content/uploads/2021/01/Hamilton-Logo-3.jpg
END:VEVENT
BEGIN:VEVENT
DTSTART;TZID=America/Chicago:20260213T180000
DTEND;TZID=America/Chicago:20260213T200000
DTSTAMP:20260424T060011
CREATED:20251001T231158Z
LAST-MODIFIED:20251103T235654Z
UID:253389-1771005600-1771012800@hhs328.com
SUMMARY:HSBBB @ Southeastern
DESCRIPTION:
URL:https://hhs328.com/event/hsbbb-southeastern-2/
CATEGORIES:West Hancock Titans
ATTACH;FMTTYPE=image/jpeg:https://hhs328.com/wp-content/uploads/2021/01/Hamilton-Logo-3.jpg
END:VEVENT
BEGIN:VEVENT
DTSTART;TZID=America/Chicago:20260213T180000
DTEND;TZID=America/Chicago:20260213T200000
DTSTAMP:20260424T060011
CREATED:20260206T162656Z
LAST-MODIFIED:20260213T164157Z
UID:254713-1771005600-1771012800@hhs328.com
SUMMARY:HSBBB @ Southeastern
DESCRIPTION:
URL:https://hhs328.com/event/hsbbb-southeastern-3/
CATEGORIES:West Hancock Titans
ATTACH;FMTTYPE=image/jpeg:https://hhs328.com/wp-content/uploads/2021/01/Hamilton-Logo-3.jpg
END:VEVENT
END:VCALENDAR