BEGIN:VCALENDAR
VERSION:2.0
PRODID:-//Hamilton Schools District 328 - ECPv6.15.12.2//NONSGML v1.0//EN
CALSCALE:GREGORIAN
METHOD:PUBLISH
X-ORIGINAL-URL:https://hhs328.com
X-WR-CALDESC:Events for Hamilton Schools District 328
REFRESH-INTERVAL;VALUE=DURATION:PT1H
X-Robots-Tag:noindex
X-PUBLISHED-TTL:PT1H
BEGIN:VTIMEZONE
TZID:America/Chicago
BEGIN:DAYLIGHT
TZOFFSETFROM:-0600
TZOFFSETTO:-0500
TZNAME:CDT
DTSTART:20250309T080000
END:DAYLIGHT
BEGIN:STANDARD
TZOFFSETFROM:-0500
TZOFFSETTO:-0600
TZNAME:CST
DTSTART:20251102T070000
END:STANDARD
BEGIN:DAYLIGHT
TZOFFSETFROM:-0600
TZOFFSETTO:-0500
TZNAME:CDT
DTSTART:20260308T080000
END:DAYLIGHT
BEGIN:STANDARD
TZOFFSETFROM:-0500
TZOFFSETTO:-0600
TZNAME:CST
DTSTART:20261101T070000
END:STANDARD
BEGIN:DAYLIGHT
TZOFFSETFROM:-0600
TZOFFSETTO:-0500
TZNAME:CDT
DTSTART:20270314T080000
END:DAYLIGHT
BEGIN:STANDARD
TZOFFSETFROM:-0500
TZOFFSETTO:-0600
TZNAME:CST
DTSTART:20271107T070000
END:STANDARD
END:VTIMEZONE
BEGIN:VEVENT
DTSTART;VALUE=DATE:20260214
DTEND;VALUE=DATE:20260216
DTSTAMP:20260424T072917
CREATED:20260206T162656Z
LAST-MODIFIED:20260215T165702Z
UID:254714-1771027200-1771199999@hhs328.com
SUMMARY:Dance @ IDTA State Competition
DESCRIPTION:
URL:https://hhs328.com/event/dance-idta-state-competition/
CATEGORIES:West Hancock Titans
ATTACH;FMTTYPE=image/jpeg:https://hhs328.com/wp-content/uploads/2021/01/Hamilton-Logo-3.jpg
END:VEVENT
BEGIN:VEVENT
DTSTART;TZID=America/Chicago:20260214T133000
DTEND;TZID=America/Chicago:20260214T143000
DTSTAMP:20260424T072917
CREATED:20251002T231155Z
LAST-MODIFIED:20260214T164154Z
UID:253401-1771075800-1771079400@hhs328.com
SUMMARY:Girls Basketball Regionals Illini West vs Beardstown @ Illini West
DESCRIPTION:
URL:https://hhs328.com/event/hsgbb-regionals-3/
CATEGORIES:West Hancock Titans
ATTACH;FMTTYPE=image/jpeg:https://hhs328.com/wp-content/uploads/2021/01/Hamilton-Logo-3.jpg
END:VEVENT
BEGIN:VEVENT
DTSTART;TZID=America/Chicago:20260214T150000
DTEND;TZID=America/Chicago:20260214T160000
DTSTAMP:20260424T072917
CREATED:20260206T162656Z
LAST-MODIFIED:20260214T164154Z
UID:254712-1771081200-1771084800@hhs328.com
SUMMARY:HSBBB Varsity @ Riverton Shootout vs. Bloomington Central Catholic
DESCRIPTION:
URL:https://hhs328.com/event/hsbbb-varsity-riverton-shootout-vs-bloomington-central-catholic/
CATEGORIES:West Hancock Titans
ATTACH;FMTTYPE=image/jpeg:https://hhs328.com/wp-content/uploads/2021/01/Hamilton-Logo-3.jpg
END:VEVENT
BEGIN:VEVENT
DTSTART;TZID=America/Chicago:20260214T160000
DTEND;TZID=America/Chicago:20260214T180000
DTSTAMP:20260424T072917
CREATED:20260211T154147Z
LAST-MODIFIED:20260214T154153Z
UID:254770-1771084800-1771092000@hhs328.com
SUMMARY:Hamilton Music Boosters Bingo Night
DESCRIPTION:
URL:https://hhs328.com/event/hamilton-music-boosters-bingo-night/
CATEGORIES:District Calendar
ATTACH;FMTTYPE=image/jpeg:https://hhs328.com/wp-content/uploads/2021/01/Hamilton-Logo-3.jpg
END:VEVENT
END:VCALENDAR