BEGIN:VCALENDAR
VERSION:2.0
PRODID:-//Hamilton Schools District 328 - ECPv6.15.12.2//NONSGML v1.0//EN
CALSCALE:GREGORIAN
METHOD:PUBLISH
X-ORIGINAL-URL:https://hhs328.com
X-WR-CALDESC:Events for Hamilton Schools District 328
REFRESH-INTERVAL;VALUE=DURATION:PT1H
X-Robots-Tag:noindex
X-PUBLISHED-TTL:PT1H
BEGIN:VTIMEZONE
TZID:America/Chicago
BEGIN:DAYLIGHT
TZOFFSETFROM:-0600
TZOFFSETTO:-0500
TZNAME:CDT
DTSTART:20250309T080000
END:DAYLIGHT
BEGIN:STANDARD
TZOFFSETFROM:-0500
TZOFFSETTO:-0600
TZNAME:CST
DTSTART:20251102T070000
END:STANDARD
BEGIN:DAYLIGHT
TZOFFSETFROM:-0600
TZOFFSETTO:-0500
TZNAME:CDT
DTSTART:20260308T080000
END:DAYLIGHT
BEGIN:STANDARD
TZOFFSETFROM:-0500
TZOFFSETTO:-0600
TZNAME:CST
DTSTART:20261101T070000
END:STANDARD
BEGIN:DAYLIGHT
TZOFFSETFROM:-0600
TZOFFSETTO:-0500
TZNAME:CDT
DTSTART:20270314T080000
END:DAYLIGHT
BEGIN:STANDARD
TZOFFSETFROM:-0500
TZOFFSETTO:-0600
TZNAME:CST
DTSTART:20271107T070000
END:STANDARD
END:VTIMEZONE
BEGIN:VEVENT
DTSTART;VALUE=DATE:20260219
DTEND;VALUE=DATE:20260222
DTSTAMP:20260424T034321
CREATED:20251004T232657Z
LAST-MODIFIED:20260221T172651Z
UID:253469-1771459200-1771718399@hhs328.com
SUMMARY:Wrestling State
DESCRIPTION:
URL:https://hhs328.com/event/wrestling-state-3/
CATEGORIES:West Hancock Titans
ATTACH;FMTTYPE=image/jpeg:https://hhs328.com/wp-content/uploads/2021/01/Hamilton-Logo-3.jpg
END:VEVENT
BEGIN:VEVENT
DTSTART;VALUE=DATE:20260220
DTEND;VALUE=DATE:20260221
DTSTAMP:20260424T034321
CREATED:20260122T102652Z
LAST-MODIFIED:20260220T151154Z
UID:254549-1771545600-1771631999@hhs328.com
SUMMARY:Marine Lunch Visit
DESCRIPTION:
URL:https://hhs328.com/event/marine-lunch-visit-2/
CATEGORIES:School Calendar
ATTACH;FMTTYPE=image/jpeg:https://hhs328.com/wp-content/uploads/2021/01/Hamilton-Logo-3.jpg
END:VEVENT
BEGIN:VEVENT
DTSTART;TZID=America/Chicago:20260220T112400
DTEND;TZID=America/Chicago:20260220T122400
DTSTAMP:20260424T034321
CREATED:20260210T151148Z
LAST-MODIFIED:20260220T151154Z
UID:254751-1771586640-1771590240@hhs328.com
SUMMARY:Lunch and Learn - Applying for Scholarships
DESCRIPTION:
URL:https://hhs328.com/event/lunch-and-learn-applying-for-scholarships/
CATEGORIES:School Calendar
ATTACH;FMTTYPE=image/jpeg:https://hhs328.com/wp-content/uploads/2021/01/Hamilton-Logo-3.jpg
END:VEVENT
BEGIN:VEVENT
DTSTART;TZID=America/Chicago:20260220T181500
DTEND;TZID=America/Chicago:20260220T201500
DTSTAMP:20260424T034321
CREATED:20260212T164149Z
LAST-MODIFIED:20260220T172649Z
UID:254787-1771611300-1771618500@hhs328.com
SUMMARY:HSBBB vs Rushville/Industry
DESCRIPTION:
URL:https://hhs328.com/event/hsbbb-vs-rushville-industry/
CATEGORIES:West Hancock Titans
ATTACH;FMTTYPE=image/jpeg:https://hhs328.com/wp-content/uploads/2021/01/Hamilton-Logo-3.jpg
END:VEVENT
END:VCALENDAR