BEGIN:VCALENDAR
VERSION:2.0
PRODID:-//Hamilton Schools District 328 - ECPv6.15.12.2//NONSGML v1.0//EN
CALSCALE:GREGORIAN
METHOD:PUBLISH
X-WR-CALNAME:Hamilton Schools District 328
X-ORIGINAL-URL:https://hhs328.com
X-WR-CALDESC:Events for Hamilton Schools District 328
REFRESH-INTERVAL;VALUE=DURATION:PT1H
X-Robots-Tag:noindex
X-PUBLISHED-TTL:PT1H
BEGIN:VTIMEZONE
TZID:America/Chicago
BEGIN:DAYLIGHT
TZOFFSETFROM:-0600
TZOFFSETTO:-0500
TZNAME:CDT
DTSTART:20250309T080000
END:DAYLIGHT
BEGIN:STANDARD
TZOFFSETFROM:-0500
TZOFFSETTO:-0600
TZNAME:CST
DTSTART:20251102T070000
END:STANDARD
BEGIN:DAYLIGHT
TZOFFSETFROM:-0600
TZOFFSETTO:-0500
TZNAME:CDT
DTSTART:20260308T080000
END:DAYLIGHT
BEGIN:STANDARD
TZOFFSETFROM:-0500
TZOFFSETTO:-0600
TZNAME:CST
DTSTART:20261101T070000
END:STANDARD
BEGIN:DAYLIGHT
TZOFFSETFROM:-0600
TZOFFSETTO:-0500
TZNAME:CDT
DTSTART:20270314T080000
END:DAYLIGHT
BEGIN:STANDARD
TZOFFSETFROM:-0500
TZOFFSETTO:-0600
TZNAME:CST
DTSTART:20271107T070000
END:STANDARD
END:VTIMEZONE
BEGIN:VEVENT
DTSTART;VALUE=DATE:20260305
DTEND;VALUE=DATE:20260308
DTSTAMP:20260423T181608
CREATED:20251007T232700Z
LAST-MODIFIED:20260227T181152Z
UID:253491-1772668800-1772927999@hhs328.com
SUMMARY:HSGBB State
DESCRIPTION:
URL:https://hhs328.com/event/hsgbb-state-3/
CATEGORIES:West Hancock Titans
ATTACH;FMTTYPE=image/jpeg:https://hhs328.com/wp-content/uploads/2021/01/Hamilton-Logo-3.jpg
END:VEVENT
BEGIN:VEVENT
DTSTART;TZID=America/Chicago:20260305T112400
DTEND;TZID=America/Chicago:20260305T115400
DTSTAMP:20260423T181608
CREATED:20250508T141153Z
LAST-MODIFIED:20260305T165651Z
UID:251981-1772709840-1772711640@hhs328.com
SUMMARY:FFA Meeting
DESCRIPTION:
URL:https://hhs328.com/event/ffa-meeting-255/
CATEGORIES:School Calendar
ATTACH;FMTTYPE=image/jpeg:https://hhs328.com/wp-content/uploads/2021/01/Hamilton-Logo-3.jpg
END:VEVENT
BEGIN:VEVENT
DTSTART;TZID=America/Chicago:20260305T112400
DTEND;TZID=America/Chicago:20260305T122400
DTSTAMP:20260423T181608
CREATED:20260212T151156Z
LAST-MODIFIED:20260305T165651Z
UID:254780-1772709840-1772713440@hhs328.com
SUMMARY:Seniors - Jostens Announcement Delivery
DESCRIPTION:
URL:https://hhs328.com/event/seniors-jostens-announcement-delivery/
CATEGORIES:School Calendar
ATTACH;FMTTYPE=image/jpeg:https://hhs328.com/wp-content/uploads/2021/01/Hamilton-Logo-3.jpg
END:VEVENT
BEGIN:VEVENT
DTSTART;TZID=America/Chicago:20260305T183000
DTEND;TZID=America/Chicago:20260305T193000
DTSTAMP:20260423T181608
CREATED:20260114T101149Z
LAST-MODIFIED:20260305T165651Z
UID:254471-1772735400-1772739000@hhs328.com
SUMMARY:NHS Induction Ceremony
DESCRIPTION:
URL:https://hhs328.com/event/nhs-induction-ceremony/
CATEGORIES:School Calendar
ATTACH;FMTTYPE=image/jpeg:https://hhs328.com/wp-content/uploads/2021/01/Hamilton-Logo-3.jpg
END:VEVENT
END:VCALENDAR