BEGIN:VCALENDAR
VERSION:2.0
PRODID:-//Hamilton Schools District 328 - ECPv6.15.12.2//NONSGML v1.0//EN
CALSCALE:GREGORIAN
METHOD:PUBLISH
X-ORIGINAL-URL:https://hhs328.com
X-WR-CALDESC:Events for Hamilton Schools District 328
REFRESH-INTERVAL;VALUE=DURATION:PT1H
X-Robots-Tag:noindex
X-PUBLISHED-TTL:PT1H
BEGIN:VTIMEZONE
TZID:America/Chicago
BEGIN:DAYLIGHT
TZOFFSETFROM:-0600
TZOFFSETTO:-0500
TZNAME:CDT
DTSTART:20250309T080000
END:DAYLIGHT
BEGIN:STANDARD
TZOFFSETFROM:-0500
TZOFFSETTO:-0600
TZNAME:CST
DTSTART:20251102T070000
END:STANDARD
BEGIN:DAYLIGHT
TZOFFSETFROM:-0600
TZOFFSETTO:-0500
TZNAME:CDT
DTSTART:20260308T080000
END:DAYLIGHT
BEGIN:STANDARD
TZOFFSETFROM:-0500
TZOFFSETTO:-0600
TZNAME:CST
DTSTART:20261101T070000
END:STANDARD
BEGIN:DAYLIGHT
TZOFFSETFROM:-0600
TZOFFSETTO:-0500
TZNAME:CDT
DTSTART:20270314T080000
END:DAYLIGHT
BEGIN:STANDARD
TZOFFSETFROM:-0500
TZOFFSETTO:-0600
TZNAME:CST
DTSTART:20271107T070000
END:STANDARD
END:VTIMEZONE
BEGIN:VEVENT
DTSTART;VALUE=DATE:20260323
DTEND;VALUE=DATE:20260324
DTSTAMP:20260425T092926
CREATED:20260206T151201Z
LAST-MODIFIED:20260323T174148Z
UID:254703-1774224000-1774310399@hhs328.com
SUMMARY:Carl Sandburg College - Lunch Visit
DESCRIPTION:
URL:https://hhs328.com/event/carl-sandburg-college-lunch-visit/
CATEGORIES:School Calendar
ATTACH;FMTTYPE=image/jpeg:https://hhs328.com/wp-content/uploads/2021/01/Hamilton-Logo-3.jpg
END:VEVENT
BEGIN:VEVENT
DTSTART;TZID=America/Chicago:20260323T160000
DTEND;TZID=America/Chicago:20260323T200000
DTSTAMP:20260425T092926
CREATED:20260304T182657Z
LAST-MODIFIED:20260323T194151Z
UID:254956-1774281600-1774296000@hhs328.com
SUMMARY:Track @ WCC Indoor Conference Meet (Illinois College)
DESCRIPTION:
URL:https://hhs328.com/event/track-wcc-indoor-conference-meet-illinois-college/
CATEGORIES:West Hancock Titans
ATTACH;FMTTYPE=image/jpeg:https://hhs328.com/wp-content/uploads/2021/01/Hamilton-Logo-3.jpg
END:VEVENT
BEGIN:VEVENT
DTSTART;TZID=America/Chicago:20260323T163000
DTEND;TZID=America/Chicago:20260323T173000
DTSTAMP:20260425T092926
CREATED:20251014T232713Z
LAST-MODIFIED:20260323T194151Z
UID:253547-1774283400-1774287000@hhs328.com
SUMMARY:HSBB vs Rushville/Industry
DESCRIPTION:
URL:https://hhs328.com/event/hsbb-vs-rushville-industry-3/
CATEGORIES:West Hancock Titans
ATTACH;FMTTYPE=image/jpeg:https://hhs328.com/wp-content/uploads/2021/01/Hamilton-Logo-3.jpg
END:VEVENT
BEGIN:VEVENT
DTSTART;TZID=America/Chicago:20260323T163000
DTEND;TZID=America/Chicago:20260323T173000
DTSTAMP:20260425T092926
CREATED:20260117T125653Z
LAST-MODIFIED:20260323T194151Z
UID:254507-1774283400-1774287000@hhs328.com
SUMMARY:HSBB - JV @ QND
DESCRIPTION:
URL:https://hhs328.com/event/hsbb-jv-qnd/
CATEGORIES:West Hancock Titans
ATTACH;FMTTYPE=image/jpeg:https://hhs328.com/wp-content/uploads/2021/01/Hamilton-Logo-3.jpg
END:VEVENT
BEGIN:VEVENT
DTSTART;TZID=America/Chicago:20260323T163000
DTEND;TZID=America/Chicago:20260323T183000
DTSTAMP:20260425T092926
CREATED:20251015T232657Z
LAST-MODIFIED:20260323T194151Z
UID:253558-1774283400-1774290600@hhs328.com
SUMMARY:HSSB @ Beardstown
DESCRIPTION:
URL:https://hhs328.com/event/hssb-beardstown-3/
CATEGORIES:West Hancock Titans
ATTACH;FMTTYPE=image/jpeg:https://hhs328.com/wp-content/uploads/2021/01/Hamilton-Logo-3.jpg
END:VEVENT
END:VCALENDAR