BEGIN:VCALENDAR
VERSION:2.0
PRODID:-//Hamilton Schools District 328 - ECPv6.15.12.2//NONSGML v1.0//EN
CALSCALE:GREGORIAN
METHOD:PUBLISH
X-WR-CALNAME:Hamilton Schools District 328
X-ORIGINAL-URL:https://hhs328.com
X-WR-CALDESC:Events for Hamilton Schools District 328
REFRESH-INTERVAL;VALUE=DURATION:PT1H
X-Robots-Tag:noindex
X-PUBLISHED-TTL:PT1H
BEGIN:VTIMEZONE
TZID:America/Chicago
BEGIN:DAYLIGHT
TZOFFSETFROM:-0600
TZOFFSETTO:-0500
TZNAME:CDT
DTSTART:20250309T080000
END:DAYLIGHT
BEGIN:STANDARD
TZOFFSETFROM:-0500
TZOFFSETTO:-0600
TZNAME:CST
DTSTART:20251102T070000
END:STANDARD
BEGIN:DAYLIGHT
TZOFFSETFROM:-0600
TZOFFSETTO:-0500
TZNAME:CDT
DTSTART:20260308T080000
END:DAYLIGHT
BEGIN:STANDARD
TZOFFSETFROM:-0500
TZOFFSETTO:-0600
TZNAME:CST
DTSTART:20261101T070000
END:STANDARD
BEGIN:DAYLIGHT
TZOFFSETFROM:-0600
TZOFFSETTO:-0500
TZNAME:CDT
DTSTART:20270314T080000
END:DAYLIGHT
BEGIN:STANDARD
TZOFFSETFROM:-0500
TZOFFSETTO:-0600
TZNAME:CST
DTSTART:20271107T070000
END:STANDARD
END:VTIMEZONE
BEGIN:VEVENT
DTSTART;TZID=America/Chicago:20260407T112400
DTEND;TZID=America/Chicago:20260407T115400
DTSTAMP:20260423T105755
CREATED:20250617T175657Z
LAST-MODIFIED:20260331T175654Z
UID:252301-1775561040-1775562840@hhs328.com
SUMMARY:FFA Meeting
DESCRIPTION:
URL:https://hhs328.com/event/ffa-meeting-264/
CATEGORIES:School Calendar
ATTACH;FMTTYPE=image/jpeg:https://hhs328.com/wp-content/uploads/2021/01/Hamilton-Logo-3.jpg
END:VEVENT
BEGIN:VEVENT
DTSTART;TZID=America/Chicago:20260407T160000
DTEND;TZID=America/Chicago:20260407T200000
DTSTAMP:20260423T105755
CREATED:20251102T235658Z
LAST-MODIFIED:20260407T195701Z
UID:253792-1775577600-1775592000@hhs328.com
SUMMARY:Track @ Mediapolis - CANCELLED
DESCRIPTION:
URL:https://hhs328.com/event/track-mediapolis-3/
CATEGORIES:West Hancock Titans
ATTACH;FMTTYPE=image/jpeg:https://hhs328.com/wp-content/uploads/2021/01/Hamilton-Logo-3.jpg
END:VEVENT
BEGIN:VEVENT
DTSTART;TZID=America/Chicago:20260407T160000
DTEND;TZID=America/Chicago:20260407T200000
DTSTAMP:20260423T105755
CREATED:20260309T185651Z
LAST-MODIFIED:20260407T204150Z
UID:255015-1775577600-1775592000@hhs328.com
SUMMARY:JH Track @ Bushnell/Prarie City
DESCRIPTION:
URL:https://hhs328.com/event/jh-track-bushnell-prarie-city/
CATEGORIES:Cardinal Athletics
ATTACH;FMTTYPE=image/jpeg:https://hhs328.com/wp-content/uploads/2021/01/Hamilton-Logo-3.jpg
END:VEVENT
BEGIN:VEVENT
DTSTART;TZID=America/Chicago:20260407T163000
DTEND;TZID=America/Chicago:20260407T173000
DTSTAMP:20260423T105755
CREATED:20260304T182658Z
LAST-MODIFIED:20260407T195701Z
UID:254958-1775579400-1775583000@hhs328.com
SUMMARY:HSSB - JV @ Illini West
DESCRIPTION:
URL:https://hhs328.com/event/hssb-jv-illini-west/
CATEGORIES:West Hancock Titans
ATTACH;FMTTYPE=image/jpeg:https://hhs328.com/wp-content/uploads/2021/01/Hamilton-Logo-3.jpg
END:VEVENT
BEGIN:VEVENT
DTSTART;TZID=America/Chicago:20260407T163000
DTEND;TZID=America/Chicago:20260407T183000
DTSTAMP:20260423T105755
CREATED:20251103T235656Z
LAST-MODIFIED:20260407T195701Z
UID:253808-1775579400-1775586600@hhs328.com
SUMMARY:HSBB vs Beardstown
DESCRIPTION:
URL:https://hhs328.com/event/hsbb-vs-beardstown-3/
CATEGORIES:West Hancock Titans
ATTACH;FMTTYPE=image/jpeg:https://hhs328.com/wp-content/uploads/2021/01/Hamilton-Logo-3.jpg
END:VEVENT
END:VCALENDAR