BEGIN:VCALENDAR
VERSION:2.0
PRODID:-//Hamilton Schools District 328 - ECPv6.15.12.2//NONSGML v1.0//EN
CALSCALE:GREGORIAN
METHOD:PUBLISH
X-WR-CALNAME:Hamilton Schools District 328
X-ORIGINAL-URL:https://hhs328.com
X-WR-CALDESC:Events for Hamilton Schools District 328
REFRESH-INTERVAL;VALUE=DURATION:PT1H
X-Robots-Tag:noindex
X-PUBLISHED-TTL:PT1H
BEGIN:VTIMEZONE
TZID:America/Chicago
BEGIN:DAYLIGHT
TZOFFSETFROM:-0600
TZOFFSETTO:-0500
TZNAME:CDT
DTSTART:20250309T080000
END:DAYLIGHT
BEGIN:STANDARD
TZOFFSETFROM:-0500
TZOFFSETTO:-0600
TZNAME:CST
DTSTART:20251102T070000
END:STANDARD
BEGIN:DAYLIGHT
TZOFFSETFROM:-0600
TZOFFSETTO:-0500
TZNAME:CDT
DTSTART:20260308T080000
END:DAYLIGHT
BEGIN:STANDARD
TZOFFSETFROM:-0500
TZOFFSETTO:-0600
TZNAME:CST
DTSTART:20261101T070000
END:STANDARD
BEGIN:DAYLIGHT
TZOFFSETFROM:-0600
TZOFFSETTO:-0500
TZNAME:CDT
DTSTART:20270314T080000
END:DAYLIGHT
BEGIN:STANDARD
TZOFFSETFROM:-0500
TZOFFSETTO:-0600
TZNAME:CST
DTSTART:20271107T070000
END:STANDARD
END:VTIMEZONE
BEGIN:VEVENT
DTSTART;TZID=America/Chicago:20260414T112400
DTEND;TZID=America/Chicago:20260414T115400
DTSTAMP:20260423T111357
CREATED:20250617T175657Z
LAST-MODIFIED:20260331T175654Z
UID:252303-1776165840-1776167640@hhs328.com
SUMMARY:FFA Meeting
DESCRIPTION:
URL:https://hhs328.com/event/ffa-meeting-266/
CATEGORIES:School Calendar
ATTACH;FMTTYPE=image/jpeg:https://hhs328.com/wp-content/uploads/2021/01/Hamilton-Logo-3.jpg
END:VEVENT
BEGIN:VEVENT
DTSTART;TZID=America/Chicago:20260414T143000
DTEND;TZID=America/Chicago:20260414T183000
DTSTAMP:20260423T111357
CREATED:20260309T185651Z
LAST-MODIFIED:20260414T205652Z
UID:255016-1776177000-1776191400@hhs328.com
SUMMARY:JH Track @ Clark County
DESCRIPTION:
URL:https://hhs328.com/event/jh-track-clark-county-3/
CATEGORIES:Cardinal Athletics
ATTACH;FMTTYPE=image/jpeg:https://hhs328.com/wp-content/uploads/2021/01/Hamilton-Logo-3.jpg
END:VEVENT
BEGIN:VEVENT
DTSTART;TZID=America/Chicago:20260414T163000
DTEND;TZID=America/Chicago:20260414T183000
DTSTAMP:20260423T111357
CREATED:20251214T134156Z
LAST-MODIFIED:20260303T182655Z
UID:254208-1776184200-1776191400@hhs328.com
SUMMARY:HSSB @ Southeastern
DESCRIPTION:
URL:https://hhs328.com/event/hssb-southeastern-3/
CATEGORIES:West Hancock Titans
ATTACH;FMTTYPE=image/jpeg:https://hhs328.com/wp-content/uploads/2021/01/Hamilton-Logo-3.jpg
END:VEVENT
BEGIN:VEVENT
DTSTART;TZID=America/Chicago:20260414T163000
DTEND;TZID=America/Chicago:20260414T183000
DTSTAMP:20260423T111357
CREATED:20251214T134156Z
LAST-MODIFIED:20260414T201200Z
UID:254209-1776184200-1776191400@hhs328.com
SUMMARY:HSBB vs Unity
DESCRIPTION:
URL:https://hhs328.com/event/hsbb-vs-unity-3/
CATEGORIES:West Hancock Titans
ATTACH;FMTTYPE=image/jpeg:https://hhs328.com/wp-content/uploads/2021/01/Hamilton-Logo-3.jpg
END:VEVENT
END:VCALENDAR