BEGIN:VCALENDAR
VERSION:2.0
PRODID:-//Hamilton Schools District 328 - ECPv6.15.12.2//NONSGML v1.0//EN
CALSCALE:GREGORIAN
METHOD:PUBLISH
X-ORIGINAL-URL:https://hhs328.com
X-WR-CALDESC:Events for Hamilton Schools District 328
REFRESH-INTERVAL;VALUE=DURATION:PT1H
X-Robots-Tag:noindex
X-PUBLISHED-TTL:PT1H
BEGIN:VTIMEZONE
TZID:America/Chicago
BEGIN:DAYLIGHT
TZOFFSETFROM:-0600
TZOFFSETTO:-0500
TZNAME:CDT
DTSTART:20250309T080000
END:DAYLIGHT
BEGIN:STANDARD
TZOFFSETFROM:-0500
TZOFFSETTO:-0600
TZNAME:CST
DTSTART:20251102T070000
END:STANDARD
BEGIN:DAYLIGHT
TZOFFSETFROM:-0600
TZOFFSETTO:-0500
TZNAME:CDT
DTSTART:20260308T080000
END:DAYLIGHT
BEGIN:STANDARD
TZOFFSETFROM:-0500
TZOFFSETTO:-0600
TZNAME:CST
DTSTART:20261101T070000
END:STANDARD
BEGIN:DAYLIGHT
TZOFFSETFROM:-0600
TZOFFSETTO:-0500
TZNAME:CDT
DTSTART:20270314T080000
END:DAYLIGHT
BEGIN:STANDARD
TZOFFSETFROM:-0500
TZOFFSETTO:-0600
TZNAME:CST
DTSTART:20271107T070000
END:STANDARD
END:VTIMEZONE
BEGIN:VEVENT
DTSTART;TZID=America/Chicago:20260428T112400
DTEND;TZID=America/Chicago:20260428T115400
DTSTAMP:20260423T080414
CREATED:20250701T195655Z
LAST-MODIFIED:20260422T231152Z
UID:252590-1777375440-1777377240@hhs328.com
SUMMARY:FFA Meeting
DESCRIPTION:
URL:https://hhs328.com/event/ffa-meeting-270/
CATEGORIES:School Calendar
ATTACH;FMTTYPE=image/jpeg:https://hhs328.com/wp-content/uploads/2021/01/Hamilton-Logo-3.jpg
END:VEVENT
BEGIN:VEVENT
DTSTART;TZID=America/Chicago:20260428T163000
DTEND;TZID=America/Chicago:20260428T173000
DTSTAMP:20260423T080414
CREATED:20260110T122656Z
LAST-MODIFIED:20260416T202656Z
UID:254444-1777393800-1777397400@hhs328.com
SUMMARY:HSBB @ Camp Point/Central
DESCRIPTION:
URL:https://hhs328.com/event/hsbb-camp-point-central-2/
CATEGORIES:West Hancock Titans
ATTACH;FMTTYPE=image/jpeg:https://hhs328.com/wp-content/uploads/2021/01/Hamilton-Logo-3.jpg
END:VEVENT
BEGIN:VEVENT
DTSTART;TZID=America/Chicago:20260428T163000
DTEND;TZID=America/Chicago:20260428T183000
DTSTAMP:20260423T080414
CREATED:20260110T122656Z
LAST-MODIFIED:20260416T202656Z
UID:254445-1777393800-1777401000@hhs328.com
SUMMARY:HSSB vs Camp Point/Central
DESCRIPTION:
URL:https://hhs328.com/event/hssb-vs-camp-point-central-2/
CATEGORIES:West Hancock Titans
ATTACH;FMTTYPE=image/jpeg:https://hhs328.com/wp-content/uploads/2021/01/Hamilton-Logo-3.jpg
END:VEVENT
BEGIN:VEVENT
DTSTART;TZID=America/Chicago:20260428T163000
DTEND;TZID=America/Chicago:20260428T203000
DTSTAMP:20260423T080414
CREATED:20260109T122705Z
LAST-MODIFIED:20260416T202656Z
UID:254433-1777393800-1777408200@hhs328.com
SUMMARY:Track @ Keokuk
DESCRIPTION:
URL:https://hhs328.com/event/track-keokuk-3/
CATEGORIES:West Hancock Titans
ATTACH;FMTTYPE=image/jpeg:https://hhs328.com/wp-content/uploads/2021/01/Hamilton-Logo-3.jpg
END:VEVENT
BEGIN:VEVENT
DTSTART;TZID=America/Chicago:20260428T180000
DTEND;TZID=America/Chicago:20260428T190000
DTSTAMP:20260423T080414
CREATED:20260219T155649Z
LAST-MODIFIED:20260422T201150Z
UID:254854-1777399200-1777402800@hhs328.com
SUMMARY:K-2nd Grades Spring Concert
DESCRIPTION:
URL:https://hhs328.com/event/k-2nd-grades-spring-concert/
LOCATION:Hamilton High School\, 1100 Keokuk St\, Hamilton\, IL\, United States
CATEGORIES:District Calendar
ATTACH;FMTTYPE=image/jpeg:https://hhs328.com/wp-content/uploads/2021/01/Hamilton-Logo-3.jpg
END:VEVENT
END:VCALENDAR