BEGIN:VCALENDAR
VERSION:2.0
PRODID:-//Hamilton Schools District 328 - ECPv6.15.12.2//NONSGML v1.0//EN
CALSCALE:GREGORIAN
METHOD:PUBLISH
X-ORIGINAL-URL:https://hhs328.com
X-WR-CALDESC:Events for Hamilton Schools District 328
REFRESH-INTERVAL;VALUE=DURATION:PT1H
X-Robots-Tag:noindex
X-PUBLISHED-TTL:PT1H
BEGIN:VTIMEZONE
TZID:America/Chicago
BEGIN:DAYLIGHT
TZOFFSETFROM:-0600
TZOFFSETTO:-0500
TZNAME:CDT
DTSTART:20250309T080000
END:DAYLIGHT
BEGIN:STANDARD
TZOFFSETFROM:-0500
TZOFFSETTO:-0600
TZNAME:CST
DTSTART:20251102T070000
END:STANDARD
BEGIN:DAYLIGHT
TZOFFSETFROM:-0600
TZOFFSETTO:-0500
TZNAME:CDT
DTSTART:20260308T080000
END:DAYLIGHT
BEGIN:STANDARD
TZOFFSETFROM:-0500
TZOFFSETTO:-0600
TZNAME:CST
DTSTART:20261101T070000
END:STANDARD
BEGIN:DAYLIGHT
TZOFFSETFROM:-0600
TZOFFSETTO:-0500
TZNAME:CDT
DTSTART:20270314T080000
END:DAYLIGHT
BEGIN:STANDARD
TZOFFSETFROM:-0500
TZOFFSETTO:-0600
TZNAME:CST
DTSTART:20271107T070000
END:STANDARD
END:VTIMEZONE
BEGIN:VEVENT
DTSTART;TZID=America/Chicago:20260516T170000
DTEND;TZID=America/Chicago:20260516T180000
DTSTAMP:20260423T092930
CREATED:20250709T192657Z
LAST-MODIFIED:20260422T201150Z
UID:252676-1778950800-1778954400@hhs328.com
SUMMARY:Graduation
DESCRIPTION:
URL:https://hhs328.com/event/graduation/
CATEGORIES:District Calendar
ATTACH;FMTTYPE=image/jpeg:https://hhs328.com/wp-content/uploads/2021/01/Hamilton-Logo-3.jpg
END:VEVENT
END:VCALENDAR