BEGIN:VCALENDAR
VERSION:2.0
PRODID:-//Hamilton Schools District 328 - ECPv6.15.12.2//NONSGML v1.0//EN
CALSCALE:GREGORIAN
METHOD:PUBLISH
X-WR-CALNAME:Hamilton Schools District 328
X-ORIGINAL-URL:https://hhs328.com
X-WR-CALDESC:Events for Hamilton Schools District 328
REFRESH-INTERVAL;VALUE=DURATION:PT1H
X-Robots-Tag:noindex
X-PUBLISHED-TTL:PT1H
BEGIN:VTIMEZONE
TZID:America/Chicago
BEGIN:DAYLIGHT
TZOFFSETFROM:-0600
TZOFFSETTO:-0500
TZNAME:CDT
DTSTART:20250309T080000
END:DAYLIGHT
BEGIN:STANDARD
TZOFFSETFROM:-0500
TZOFFSETTO:-0600
TZNAME:CST
DTSTART:20251102T070000
END:STANDARD
BEGIN:DAYLIGHT
TZOFFSETFROM:-0600
TZOFFSETTO:-0500
TZNAME:CDT
DTSTART:20260308T080000
END:DAYLIGHT
BEGIN:STANDARD
TZOFFSETFROM:-0500
TZOFFSETTO:-0600
TZNAME:CST
DTSTART:20261101T070000
END:STANDARD
BEGIN:DAYLIGHT
TZOFFSETFROM:-0600
TZOFFSETTO:-0500
TZNAME:CDT
DTSTART:20270314T080000
END:DAYLIGHT
BEGIN:STANDARD
TZOFFSETFROM:-0500
TZOFFSETTO:-0600
TZNAME:CST
DTSTART:20271107T070000
END:STANDARD
END:VTIMEZONE
BEGIN:VEVENT
DTSTART;TZID=America/Chicago:20260511T160000
DTEND;TZID=America/Chicago:20260511T200000
DTSTAMP:20260423T141239
CREATED:20260201T155700Z
LAST-MODIFIED:20260416T202657Z
UID:254659-1778515200-1778529600@hhs328.com
SUMMARY:Boys Track @ Rushville
DESCRIPTION:
URL:https://hhs328.com/event/boys-track-rushville-3/
CATEGORIES:West Hancock Titans
ATTACH;FMTTYPE=image/jpeg:https://hhs328.com/wp-content/uploads/2021/01/Hamilton-Logo-3.jpg
END:VEVENT
BEGIN:VEVENT
DTSTART;TZID=America/Chicago:20260511T163000
DTEND;TZID=America/Chicago:20260511T183000
DTSTAMP:20260423T141239
CREATED:20260201T155700Z
LAST-MODIFIED:20260416T202657Z
UID:254660-1778517000-1778524200@hhs328.com
SUMMARY:HSBB @ Unity
DESCRIPTION:
URL:https://hhs328.com/event/hsbb-unity-2/
CATEGORIES:West Hancock Titans
ATTACH;FMTTYPE=image/jpeg:https://hhs328.com/wp-content/uploads/2021/01/Hamilton-Logo-3.jpg
END:VEVENT
BEGIN:VEVENT
DTSTART;TZID=America/Chicago:20260512T112400
DTEND;TZID=America/Chicago:20260512T115400
DTSTAMP:20260423T141239
CREATED:20250715T202702Z
LAST-MODIFIED:20260422T231151Z
UID:252714-1778585040-1778586840@hhs328.com
SUMMARY:FFA Meeting
DESCRIPTION:
URL:https://hhs328.com/event/ffa-meeting-274/
CATEGORIES:School Calendar
ATTACH;FMTTYPE=image/jpeg:https://hhs328.com/wp-content/uploads/2021/01/Hamilton-Logo-3.jpg
END:VEVENT
BEGIN:VEVENT
DTSTART;TZID=America/Chicago:20260512T160000
DTEND;TZID=America/Chicago:20260512T200000
DTSTAMP:20260423T141239
CREATED:20260202T155658Z
LAST-MODIFIED:20260416T202657Z
UID:254668-1778601600-1778616000@hhs328.com
SUMMARY:Track @ Camp Point
DESCRIPTION:
URL:https://hhs328.com/event/track-camp-point-6/
CATEGORIES:West Hancock Titans
ATTACH;FMTTYPE=image/jpeg:https://hhs328.com/wp-content/uploads/2021/01/Hamilton-Logo-3.jpg
END:VEVENT
BEGIN:VEVENT
DTSTART;TZID=America/Chicago:20260512T163000
DTEND;TZID=America/Chicago:20260512T183000
DTSTAMP:20260423T141239
CREATED:20251026T234156Z
LAST-MODIFIED:20260416T202657Z
UID:253658-1778603400-1778610600@hhs328.com
SUMMARY:HSSB vs West Prairie
DESCRIPTION:
URL:https://hhs328.com/event/hssb-vs-west-prairie-2/
CATEGORIES:West Hancock Titans
ATTACH;FMTTYPE=image/jpeg:https://hhs328.com/wp-content/uploads/2021/01/Hamilton-Logo-3.jpg
END:VEVENT
BEGIN:VEVENT
DTSTART;TZID=America/Chicago:20260512T163000
DTEND;TZID=America/Chicago:20260512T183000
DTSTAMP:20260423T141239
CREATED:20260205T162701Z
LAST-MODIFIED:20260416T202657Z
UID:254700-1778603400-1778610600@hhs328.com
SUMMARY:HSBB vs West Prairie (Senior Night)
DESCRIPTION:
URL:https://hhs328.com/event/hsbb-vs-west-prairie-3/
CATEGORIES:West Hancock Titans
ATTACH;FMTTYPE=image/jpeg:https://hhs328.com/wp-content/uploads/2021/01/Hamilton-Logo-3.jpg
END:VEVENT
BEGIN:VEVENT
DTSTART;VALUE=DATE:20260513
DTEND;VALUE=DATE:20260514
DTSTAMP:20260423T141239
CREATED:20260417T212701Z
LAST-MODIFIED:20260422T231151Z
UID:255297-1778630400-1778716799@hhs328.com
SUMMARY:Future Teacher Meeting 5A-5B
DESCRIPTION:
URL:https://hhs328.com/event/future-teacher-meeting-5a-5b-2/
CATEGORIES:School Calendar
ATTACH;FMTTYPE=image/jpeg:https://hhs328.com/wp-content/uploads/2021/01/Hamilton-Logo-3.jpg
END:VEVENT
BEGIN:VEVENT
DTSTART;VALUE=DATE:20260513
DTEND;VALUE=DATE:20260514
DTSTAMP:20260423T141239
CREATED:20260417T212701Z
LAST-MODIFIED:20260422T231151Z
UID:255298-1778630400-1778716799@hhs328.com
SUMMARY:Award's Night - 6:00 PM
DESCRIPTION:
URL:https://hhs328.com/event/awards-night-600-pm/
CATEGORIES:School Calendar
ATTACH;FMTTYPE=image/jpeg:https://hhs328.com/wp-content/uploads/2021/01/Hamilton-Logo-3.jpg
END:VEVENT
BEGIN:VEVENT
DTSTART;TZID=America/Chicago:20260513T163000
DTEND;TZID=America/Chicago:20260513T173000
DTSTAMP:20260423T141239
CREATED:20260208T162655Z
LAST-MODIFIED:20260416T202657Z
UID:254735-1778689800-1778693400@hhs328.com
SUMMARY:HSBB JV @ Sherrard
DESCRIPTION:
URL:https://hhs328.com/event/hsbb-jv-sherrard/
CATEGORIES:West Hancock Titans
ATTACH;FMTTYPE=image/jpeg:https://hhs328.com/wp-content/uploads/2021/01/Hamilton-Logo-3.jpg
END:VEVENT
BEGIN:VEVENT
DTSTART;TZID=America/Chicago:20260513T180000
DTEND;TZID=America/Chicago:20260513T190000
DTSTAMP:20260423T141239
CREATED:20260203T151204Z
LAST-MODIFIED:20260422T201150Z
UID:254671-1778695200-1778698800@hhs328.com
SUMMARY:High School Honors/Awards Night
DESCRIPTION:
URL:https://hhs328.com/event/high-school-honors-awards-night/
CATEGORIES:District Calendar
ATTACH;FMTTYPE=image/jpeg:https://hhs328.com/wp-content/uploads/2021/01/Hamilton-Logo-3.jpg
END:VEVENT
BEGIN:VEVENT
DTSTART;TZID=America/Chicago:20260514T112400
DTEND;TZID=America/Chicago:20260514T115400
DTSTAMP:20260423T141239
CREATED:20250717T204200Z
LAST-MODIFIED:20260422T231151Z
UID:252732-1778757840-1778759640@hhs328.com
SUMMARY:FFA Meeting
DESCRIPTION:
URL:https://hhs328.com/event/ffa-meeting-275/
CATEGORIES:School Calendar
ATTACH;FMTTYPE=image/jpeg:https://hhs328.com/wp-content/uploads/2021/01/Hamilton-Logo-3.jpg
END:VEVENT
BEGIN:VEVENT
DTSTART;TZID=America/Chicago:20260514T163000
DTEND;TZID=America/Chicago:20260514T173000
DTSTAMP:20260423T141239
CREATED:20260211T162655Z
LAST-MODIFIED:20260416T202658Z
UID:254774-1778776200-1778779800@hhs328.com
SUMMARY:HSBB @ Liberty
DESCRIPTION:
URL:https://hhs328.com/event/hsbb-liberty-3/
CATEGORIES:West Hancock Titans
ATTACH;FMTTYPE=image/jpeg:https://hhs328.com/wp-content/uploads/2021/01/Hamilton-Logo-3.jpg
END:VEVENT
BEGIN:VEVENT
DTSTART;TZID=America/Chicago:20260514T163000
DTEND;TZID=America/Chicago:20260514T183000
DTSTAMP:20260423T141239
CREATED:20260210T162656Z
LAST-MODIFIED:20260416T202658Z
UID:254760-1778776200-1778783400@hhs328.com
SUMMARY:HSSB vs Western
DESCRIPTION:
URL:https://hhs328.com/event/hssb-vs-western-3/
CATEGORIES:West Hancock Titans
ATTACH;FMTTYPE=image/jpeg:https://hhs328.com/wp-content/uploads/2021/01/Hamilton-Logo-3.jpg
END:VEVENT
BEGIN:VEVENT
DTSTART;TZID=America/Chicago:20260514T180000
DTEND;TZID=America/Chicago:20260514T190000
DTSTAMP:20260423T141239
CREATED:20260219T155649Z
LAST-MODIFIED:20260422T201150Z
UID:254857-1778781600-1778785200@hhs328.com
SUMMARY:Preschool Graduation
DESCRIPTION:
URL:https://hhs328.com/event/preschool-graduation/
LOCATION:Hamilton Elementary School\, 1830 Broadway St\, Hamilton\, IL\, United States
CATEGORIES:District Calendar
ATTACH;FMTTYPE=image/jpeg:https://hhs328.com/wp-content/uploads/2021/01/Hamilton-Logo-3.jpg
END:VEVENT
BEGIN:VEVENT
DTSTART;TZID=America/Chicago:20260515T163000
DTEND;TZID=America/Chicago:20260515T173000
DTSTAMP:20260423T141239
CREATED:20260214T164159Z
LAST-MODIFIED:20260303T182659Z
UID:254811-1778862600-1778866200@hhs328.com
SUMMARY:HSBB vs Southeastern
DESCRIPTION:
URL:https://hhs328.com/event/hsbb-vs-southeastern-3/
CATEGORIES:West Hancock Titans
ATTACH;FMTTYPE=image/jpeg:https://hhs328.com/wp-content/uploads/2021/01/Hamilton-Logo-3.jpg
END:VEVENT
BEGIN:VEVENT
DTSTART;TZID=America/Chicago:20260515T163000
DTEND;TZID=America/Chicago:20260515T173000
DTSTAMP:20260423T141239
CREATED:20260407T195703Z
LAST-MODIFIED:20260416T202658Z
UID:255239-1778862600-1778866200@hhs328.com
SUMMARY:HSBB Varsity vs Rockridge
DESCRIPTION:
URL:https://hhs328.com/event/hsbb-varsity-vs-rockridge/
CATEGORIES:West Hancock Titans
ATTACH;FMTTYPE=image/jpeg:https://hhs328.com/wp-content/uploads/2021/01/Hamilton-Logo-3.jpg
END:VEVENT
BEGIN:VEVENT
DTSTART;TZID=America/Chicago:20260516T170000
DTEND;TZID=America/Chicago:20260516T180000
DTSTAMP:20260423T141239
CREATED:20250709T192657Z
LAST-MODIFIED:20260422T201150Z
UID:252676-1778950800-1778954400@hhs328.com
SUMMARY:Graduation
DESCRIPTION:
URL:https://hhs328.com/event/graduation/
CATEGORIES:District Calendar
ATTACH;FMTTYPE=image/jpeg:https://hhs328.com/wp-content/uploads/2021/01/Hamilton-Logo-3.jpg
END:VEVENT
BEGIN:VEVENT
DTSTART;VALUE=DATE:20260518
DTEND;VALUE=DATE:20260524
DTSTAMP:20260423T141239
CREATED:20260214T164200Z
LAST-MODIFIED:20260416T202658Z
UID:254813-1779062400-1779580799@hhs328.com
SUMMARY:HSSB Regionals
DESCRIPTION:
URL:https://hhs328.com/event/hssb-regionals-3/
CATEGORIES:West Hancock Titans
ATTACH;FMTTYPE=image/jpeg:https://hhs328.com/wp-content/uploads/2021/01/Hamilton-Logo-3.jpg
END:VEVENT
BEGIN:VEVENT
DTSTART;TZID=America/Chicago:20260518T160000
DTEND;TZID=America/Chicago:20260518T200000
DTSTAMP:20260423T141239
CREATED:20260304T182702Z
LAST-MODIFIED:20260416T202658Z
UID:254960-1779120000-1779134400@hhs328.com
SUMMARY:Boys Track @ Bushnell/Prairie City
DESCRIPTION:
URL:https://hhs328.com/event/boys-track-bushnell-prairie-city-4/
CATEGORIES:West Hancock Titans
ATTACH;FMTTYPE=image/jpeg:https://hhs328.com/wp-content/uploads/2021/01/Hamilton-Logo-3.jpg
END:VEVENT
BEGIN:VEVENT
DTSTART;TZID=America/Chicago:20260518T163000
DTEND;TZID=America/Chicago:20260518T193000
DTSTAMP:20260423T141239
CREATED:20260319T194159Z
LAST-MODIFIED:20260416T202658Z
UID:255115-1779121800-1779132600@hhs328.com
SUMMARY:HSBB vs West Central
DESCRIPTION:
URL:https://hhs328.com/event/hsbb-vs-west-central-3/
CATEGORIES:West Hancock Titans
ATTACH;FMTTYPE=image/jpeg:https://hhs328.com/wp-content/uploads/2021/01/Hamilton-Logo-3.jpg
END:VEVENT
BEGIN:VEVENT
DTSTART;TZID=America/Chicago:20260519T112400
DTEND;TZID=America/Chicago:20260519T115400
DTSTAMP:20260423T141239
CREATED:20250722T204153Z
LAST-MODIFIED:20260422T231151Z
UID:252756-1779189840-1779191640@hhs328.com
SUMMARY:FFA Meeting
DESCRIPTION:
URL:https://hhs328.com/event/ffa-meeting-276/
CATEGORIES:School Calendar
ATTACH;FMTTYPE=image/jpeg:https://hhs328.com/wp-content/uploads/2021/01/Hamilton-Logo-3.jpg
END:VEVENT
BEGIN:VEVENT
DTSTART;TZID=America/Chicago:20260519T160000
DTEND;TZID=America/Chicago:20260519T200000
DTSTAMP:20260423T141239
CREATED:20260214T164200Z
LAST-MODIFIED:20260416T202658Z
UID:254812-1779206400-1779220800@hhs328.com
SUMMARY:Boys Track @ Bushnell/Prairie City
DESCRIPTION:
URL:https://hhs328.com/event/boys-track-bushnell-prairie-city-3/
CATEGORIES:West Hancock Titans
ATTACH;FMTTYPE=image/jpeg:https://hhs328.com/wp-content/uploads/2021/01/Hamilton-Logo-3.jpg
END:VEVENT
BEGIN:VEVENT
DTSTART;TZID=America/Chicago:20260519T163000
DTEND;TZID=America/Chicago:20260519T173000
DTSTAMP:20260423T141239
CREATED:20260215T165709Z
LAST-MODIFIED:20260416T202658Z
UID:254820-1779208200-1779211800@hhs328.com
SUMMARY:HSBB Varsity @ Farmington
DESCRIPTION:
URL:https://hhs328.com/event/hsbb-varsity-farmington/
CATEGORIES:West Hancock Titans
ATTACH;FMTTYPE=image/jpeg:https://hhs328.com/wp-content/uploads/2021/01/Hamilton-Logo-3.jpg
END:VEVENT
BEGIN:VEVENT
DTSTART;TZID=America/Chicago:20260519T163000
DTEND;TZID=America/Chicago:20260519T173000
DTSTAMP:20260423T141239
CREATED:20260320T194154Z
LAST-MODIFIED:20260416T202658Z
UID:255123-1779208200-1779211800@hhs328.com
SUMMARY:HSBB JV @ QHS
DESCRIPTION:
URL:https://hhs328.com/event/hsbb-jv-qhs-2/
CATEGORIES:West Hancock Titans
ATTACH;FMTTYPE=image/jpeg:https://hhs328.com/wp-content/uploads/2021/01/Hamilton-Logo-3.jpg
END:VEVENT
BEGIN:VEVENT
DTSTART;TZID=America/Chicago:20260519T183000
DTEND;TZID=America/Chicago:20260519T193000
DTSTAMP:20260423T141239
CREATED:20260219T155649Z
LAST-MODIFIED:20260422T201150Z
UID:254858-1779215400-1779219000@hhs328.com
SUMMARY:8th Grade Promotion
DESCRIPTION:
URL:https://hhs328.com/event/8th-grade-promotion-2/
LOCATION:Hamilton High School\, 1100 Keokuk St\, Hamilton\, IL\, United States
CATEGORIES:District Calendar
ATTACH;FMTTYPE=image/jpeg:https://hhs328.com/wp-content/uploads/2021/01/Hamilton-Logo-3.jpg
END:VEVENT
BEGIN:VEVENT
DTSTART;TZID=America/Chicago:20260520T163000
DTEND;TZID=America/Chicago:20260520T173000
DTSTAMP:20260423T141239
CREATED:20260304T182703Z
LAST-MODIFIED:20260416T202658Z
UID:254962-1779294600-1779298200@hhs328.com
SUMMARY:HSBB vs Sherrard
DESCRIPTION:
URL:https://hhs328.com/event/hsbb-vs-sherrard/
CATEGORIES:West Hancock Titans
ATTACH;FMTTYPE=image/jpeg:https://hhs328.com/wp-content/uploads/2021/01/Hamilton-Logo-3.jpg
END:VEVENT
BEGIN:VEVENT
DTSTART;TZID=America/Chicago:20260520T183000
DTEND;TZID=America/Chicago:20260520T203000
DTSTAMP:20260423T141239
CREATED:20240520T154152Z
LAST-MODIFIED:20260422T201150Z
UID:82112-1779301800-1779309000@hhs328.com
SUMMARY:Board Meeting
DESCRIPTION:
URL:https://hhs328.com/event/board-meeting-34/
CATEGORIES:District Calendar
ATTACH;FMTTYPE=image/jpeg:https://hhs328.com/wp-content/uploads/2021/01/Hamilton-Logo-3.jpg
END:VEVENT
BEGIN:VEVENT
DTSTART;TZID=America/Chicago:20260521T112400
DTEND;TZID=America/Chicago:20260521T115400
DTSTAMP:20260423T141239
CREATED:20250724T204153Z
LAST-MODIFIED:20260422T231151Z
UID:252775-1779362640-1779364440@hhs328.com
SUMMARY:FFA Meeting
DESCRIPTION:
URL:https://hhs328.com/event/ffa-meeting-277/
CATEGORIES:School Calendar
ATTACH;FMTTYPE=image/jpeg:https://hhs328.com/wp-content/uploads/2021/01/Hamilton-Logo-3.jpg
END:VEVENT
BEGIN:VEVENT
DTSTART;TZID=America/Chicago:20260521T163000
DTEND;TZID=America/Chicago:20260521T173000
DTSTAMP:20260423T141239
CREATED:20260304T182702Z
LAST-MODIFIED:20260416T202658Z
UID:254961-1779381000-1779384600@hhs328.com
SUMMARY:HSBB vs Camp Point/Central
DESCRIPTION:
URL:https://hhs328.com/event/hsbb-vs-camp-point-central-3/
CATEGORIES:West Hancock Titans
ATTACH;FMTTYPE=image/jpeg:https://hhs328.com/wp-content/uploads/2021/01/Hamilton-Logo-3.jpg
END:VEVENT
BEGIN:VEVENT
DTSTART;VALUE=DATE:20260522
DTEND;VALUE=DATE:20260523
DTSTAMP:20260423T141239
CREATED:20250708T192652Z
LAST-MODIFIED:20260422T201149Z
UID:252647-1779408000-1779494399@hhs328.com
SUMMARY:Last Day of School - 1pm dismissal - No more Snow Days
DESCRIPTION:
URL:https://hhs328.com/event/last-day-of-school-no-snow-days/
CATEGORIES:District Calendar
ATTACH;FMTTYPE=image/jpeg:https://hhs328.com/wp-content/uploads/2021/01/Hamilton-Logo-3.jpg
END:VEVENT
END:VCALENDAR