BEGIN:VCALENDAR
VERSION:2.0
PRODID:-//Hamilton Schools District 328 - ECPv6.15.12.2//NONSGML v1.0//EN
CALSCALE:GREGORIAN
METHOD:PUBLISH
X-ORIGINAL-URL:https://hhs328.com
X-WR-CALDESC:Events for Hamilton Schools District 328
REFRESH-INTERVAL;VALUE=DURATION:PT1H
X-Robots-Tag:noindex
X-PUBLISHED-TTL:PT1H
BEGIN:VTIMEZONE
TZID:America/Chicago
BEGIN:DAYLIGHT
TZOFFSETFROM:-0600
TZOFFSETTO:-0500
TZNAME:CDT
DTSTART:20240310T080000
END:DAYLIGHT
BEGIN:STANDARD
TZOFFSETFROM:-0500
TZOFFSETTO:-0600
TZNAME:CST
DTSTART:20241103T070000
END:STANDARD
BEGIN:DAYLIGHT
TZOFFSETFROM:-0600
TZOFFSETTO:-0500
TZNAME:CDT
DTSTART:20250309T080000
END:DAYLIGHT
BEGIN:STANDARD
TZOFFSETFROM:-0500
TZOFFSETTO:-0600
TZNAME:CST
DTSTART:20251102T070000
END:STANDARD
BEGIN:DAYLIGHT
TZOFFSETFROM:-0600
TZOFFSETTO:-0500
TZNAME:CDT
DTSTART:20260308T080000
END:DAYLIGHT
BEGIN:STANDARD
TZOFFSETFROM:-0500
TZOFFSETTO:-0600
TZNAME:CST
DTSTART:20261101T070000
END:STANDARD
END:VTIMEZONE
BEGIN:VEVENT
DTSTART;VALUE=DATE:20251124
DTEND;VALUE=DATE:20251125
DTSTAMP:20260425T210309
CREATED:20251122T112652Z
LAST-MODIFIED:20251124T114157Z
UID:254006-1763942400-1764028799@hhs328.com
SUMMARY:School Dress: Seen or Not Seen (Orange/Camo)
DESCRIPTION:
URL:https://hhs328.com/event/school-dress-seen-or-not-seen-orange-camo/
CATEGORIES:School Calendar
ATTACH;FMTTYPE=image/jpeg:https://hhs328.com/wp-content/uploads/2021/01/Hamilton-Logo-3.jpg
END:VEVENT
BEGIN:VEVENT
DTSTART;TZID=America/Chicago:20251124T180000
DTEND;TZID=America/Chicago:20251124T200000
DTSTAMP:20260425T210309
CREATED:20251102T061203Z
LAST-MODIFIED:20251124T125649Z
UID:253716-1764007200-1764014400@hhs328.com
SUMMARY:JH Boys Basketball vs Unity
DESCRIPTION:
URL:https://hhs328.com/event/jh-boys-basketball-vs-unity-2/
CATEGORIES:Cardinal Athletics
ATTACH;FMTTYPE=image/jpeg:https://hhs328.com/wp-content/uploads/2021/01/Hamilton-Logo-3.jpg
END:VEVENT
BEGIN:VEVENT
DTSTART;VALUE=DATE:20251125
DTEND;VALUE=DATE:20251126
DTSTAMP:20260425T210309
CREATED:20251122T112652Z
LAST-MODIFIED:20251125T114153Z
UID:254005-1764028800-1764115199@hhs328.com
SUMMARY:School Dress: Thankful (Dress as something Thankful/Sports Team)
DESCRIPTION:
URL:https://hhs328.com/event/school-dress-thankful-dress-as-something-thankful-sports-team/
CATEGORIES:School Calendar
ATTACH;FMTTYPE=image/jpeg:https://hhs328.com/wp-content/uploads/2021/01/Hamilton-Logo-3.jpg
END:VEVENT
BEGIN:VEVENT
DTSTART;TZID=America/Chicago:20251125T112400
DTEND;TZID=America/Chicago:20251125T115400
DTSTAMP:20260425T210309
CREATED:20231210T025418Z
LAST-MODIFIED:20251125T114153Z
UID:72985-1764069840-1764071640@hhs328.com
SUMMARY:FFA Meeting
DESCRIPTION:
URL:https://hhs328.com/event/ffa-meeting-226/
CATEGORIES:School Calendar
ATTACH;FMTTYPE=image/jpeg:https://hhs328.com/wp-content/uploads/2021/01/Hamilton-Logo-3.jpg
END:VEVENT
BEGIN:VEVENT
DTSTART;TZID=America/Chicago:20251125T170000
DTEND;TZID=America/Chicago:20251125T210000
DTSTAMP:20260425T210309
CREATED:20250823T212654Z
LAST-MODIFIED:20251125T124150Z
UID:252981-1764090000-1764104400@hhs328.com
SUMMARY:Wrestling @ Petersburg/Porta
DESCRIPTION:
URL:https://hhs328.com/event/wrestling-petersburg-porta-2/
CATEGORIES:West Hancock Titans
ATTACH;FMTTYPE=image/jpeg:https://hhs328.com/wp-content/uploads/2021/01/Hamilton-Logo-3.jpg
END:VEVENT
BEGIN:VEVENT
DTSTART;TZID=America/Chicago:20251125T180000
DTEND;TZID=America/Chicago:20251125T200000
DTSTAMP:20260425T210309
CREATED:20251102T061203Z
LAST-MODIFIED:20251125T125649Z
UID:253717-1764093600-1764100800@hhs328.com
SUMMARY:JH Boys Basketball @ Carthage
DESCRIPTION:
URL:https://hhs328.com/event/jh-boys-basketball-carthage-2/
CATEGORIES:Cardinal Athletics
ATTACH;FMTTYPE=image/jpeg:https://hhs328.com/wp-content/uploads/2021/01/Hamilton-Logo-3.jpg
END:VEVENT
BEGIN:VEVENT
DTSTART;TZID=America/Chicago:20251125T191500
DTEND;TZID=America/Chicago:20251125T201500
DTSTAMP:20260425T210309
CREATED:20250823T212655Z
LAST-MODIFIED:20251125T124150Z
UID:252983-1764098100-1764101700@hhs328.com
SUMMARY:HSBBB @ Tournament of Champions vs Washington @ Washington HS
DESCRIPTION:
URL:https://hhs328.com/event/hsbbb-tournament-of-champions-washington-hs/
CATEGORIES:West Hancock Titans
ATTACH;FMTTYPE=image/jpeg:https://hhs328.com/wp-content/uploads/2021/01/Hamilton-Logo-3.jpg
END:VEVENT
BEGIN:VEVENT
DTSTART;TZID=America/Chicago:20251125T193000
DTEND;TZID=America/Chicago:20251125T203000
DTSTAMP:20260425T210309
CREATED:20251115T122647Z
LAST-MODIFIED:20251125T125649Z
UID:253948-1764099000-1764102600@hhs328.com
SUMMARY:JH Girls Basketball Regionals vs Griggsville @ Western JH (Kinderhook)
DESCRIPTION:
URL:https://hhs328.com/event/jh-girls-basketball-regionals-vs-griggsville-western-jh-kinderhook/
CATEGORIES:Cardinal Athletics
ATTACH;FMTTYPE=image/jpeg:https://hhs328.com/wp-content/uploads/2021/01/Hamilton-Logo-3.jpg
END:VEVENT
BEGIN:VEVENT
DTSTART;VALUE=DATE:20251126
DTEND;VALUE=DATE:20251127
DTSTAMP:20260425T210309
CREATED:20251115T122648Z
LAST-MODIFIED:20251126T125649Z
UID:253949-1764115200-1764201599@hhs328.com
SUMMARY:JH Girls Basketball Regionals @ Western JH (Kinderhook)
DESCRIPTION:
URL:https://hhs328.com/event/jh-girls-basketball-regionals-western-jh-kinderhook/
CATEGORIES:Cardinal Athletics
ATTACH;FMTTYPE=image/jpeg:https://hhs328.com/wp-content/uploads/2021/01/Hamilton-Logo-3.jpg
END:VEVENT
BEGIN:VEVENT
DTSTART;VALUE=DATE:20251126
DTEND;VALUE=DATE:20251129
DTSTAMP:20260425T210309
CREATED:20250708T192651Z
LAST-MODIFIED:20251128T121153Z
UID:252632-1764115200-1764374399@hhs328.com
SUMMARY:Thanksgiving Break - No School
DESCRIPTION:
URL:https://hhs328.com/event/thanksgiving-break-no-school/
CATEGORIES:District Calendar
ATTACH;FMTTYPE=image/jpeg:https://hhs328.com/wp-content/uploads/2021/01/Hamilton-Logo-3.jpg
END:VEVENT
BEGIN:VEVENT
DTSTART;TZID=America/Chicago:20251126T133000
DTEND;TZID=America/Chicago:20251126T143000
DTSTAMP:20260425T210309
CREATED:20251104T235650Z
LAST-MODIFIED:20251126T124156Z
UID:253818-1764163800-1764167400@hhs328.com
SUMMARY:HSBBB @ Tournament of Champions vs Second Baptist School @ Washington HS
DESCRIPTION:
URL:https://hhs328.com/event/hsbbb-tournament-of-champions-vs-second-baptist-school-washington-hs/
CATEGORIES:West Hancock Titans
ATTACH;FMTTYPE=image/jpeg:https://hhs328.com/wp-content/uploads/2021/01/Hamilton-Logo-3.jpg
END:VEVENT
BEGIN:VEVENT
DTSTART;TZID=America/Chicago:20251126T180000
DTEND;TZID=America/Chicago:20251126T190000
DTSTAMP:20260425T210309
CREATED:20251104T235650Z
LAST-MODIFIED:20251126T124156Z
UID:253819-1764180000-1764183600@hhs328.com
SUMMARY:HSGBB @ Brown County Tourney vs Liberty
DESCRIPTION:
URL:https://hhs328.com/event/hsgbb-brown-county-tourney-vs-liberty/
CATEGORIES:West Hancock Titans
ATTACH;FMTTYPE=image/jpeg:https://hhs328.com/wp-content/uploads/2021/01/Hamilton-Logo-3.jpg
END:VEVENT
BEGIN:VEVENT
DTSTART;TZID=America/Chicago:20251127T112400
DTEND;TZID=America/Chicago:20251127T115400
DTSTAMP:20260425T210309
CREATED:20231210T025418Z
LAST-MODIFIED:20251127T115653Z
UID:72986-1764242640-1764244440@hhs328.com
SUMMARY:FFA Meeting
DESCRIPTION:
URL:https://hhs328.com/event/ffa-meeting-227/
CATEGORIES:School Calendar
ATTACH;FMTTYPE=image/jpeg:https://hhs328.com/wp-content/uploads/2021/01/Hamilton-Logo-3.jpg
END:VEVENT
BEGIN:VEVENT
DTSTART;TZID=America/Chicago:20251128T113000
DTEND;TZID=America/Chicago:20251128T123000
DTSTAMP:20260425T210309
CREATED:20251104T235650Z
LAST-MODIFIED:20251128T125656Z
UID:253820-1764329400-1764333000@hhs328.com
SUMMARY:HSBBB @ Tournament of Champions vs South Pointe @ Washington HS
DESCRIPTION:
URL:https://hhs328.com/event/hsbbb-tournament-of-champions-vs-south-pointe-washington-hs/
CATEGORIES:West Hancock Titans
ATTACH;FMTTYPE=image/jpeg:https://hhs328.com/wp-content/uploads/2021/01/Hamilton-Logo-3.jpg
END:VEVENT
BEGIN:VEVENT
DTSTART;TZID=America/Chicago:20251128T180000
DTEND;TZID=America/Chicago:20251128T190000
DTSTAMP:20260425T210309
CREATED:20251104T235650Z
LAST-MODIFIED:20251128T125656Z
UID:253822-1764352800-1764356400@hhs328.com
SUMMARY:HSGBB @ Brown County Tourney vs Unity
DESCRIPTION:
URL:https://hhs328.com/event/hsgbb-brown-county-tourney-vs-unity/
CATEGORIES:West Hancock Titans
ATTACH;FMTTYPE=image/jpeg:https://hhs328.com/wp-content/uploads/2021/01/Hamilton-Logo-3.jpg
END:VEVENT
BEGIN:VEVENT
DTSTART;VALUE=DATE:20251129
DTEND;VALUE=DATE:20251130
DTSTAMP:20260425T210309
CREATED:20251104T235650Z
LAST-MODIFIED:20251129T131202Z
UID:253821-1764374400-1764460799@hhs328.com
SUMMARY:HSBBB @ Tournament of Champions @ Washington HS
DESCRIPTION:
URL:https://hhs328.com/event/hsbbb-tournament-of-champions-washington-hs-2/
CATEGORIES:West Hancock Titans
ATTACH;FMTTYPE=image/jpeg:https://hhs328.com/wp-content/uploads/2021/01/Hamilton-Logo-3.jpg
END:VEVENT
BEGIN:VEVENT
DTSTART;VALUE=DATE:20251129
DTEND;VALUE=DATE:20251130
DTSTAMP:20260425T210309
CREATED:20251104T235650Z
LAST-MODIFIED:20251129T131202Z
UID:253823-1764374400-1764460799@hhs328.com
SUMMARY:HSGBB @ Brown County Tourney
DESCRIPTION:
URL:https://hhs328.com/event/hsgbb-brown-county-tourney-3/
CATEGORIES:West Hancock Titans
ATTACH;FMTTYPE=image/jpeg:https://hhs328.com/wp-content/uploads/2021/01/Hamilton-Logo-3.jpg
END:VEVENT
BEGIN:VEVENT
DTSTART;TZID=America/Chicago:20251201T170000
DTEND;TZID=America/Chicago:20251201T180000
DTSTAMP:20260425T210309
CREATED:20251003T221147Z
LAST-MODIFIED:20251201T121150Z
UID:253409-1764608400-1764612000@hhs328.com
SUMMARY:Music Boosters Meeting @ Elementary Band Room
DESCRIPTION:
URL:https://hhs328.com/event/music-boosters-meeting-elementary-band-room-3/
CATEGORIES:District Calendar
ATTACH;FMTTYPE=image/jpeg:https://hhs328.com/wp-content/uploads/2021/01/Hamilton-Logo-3.jpg
END:VEVENT
BEGIN:VEVENT
DTSTART;TZID=America/Chicago:20251201T180000
DTEND;TZID=America/Chicago:20251201T200000
DTSTAMP:20260425T210309
CREATED:20250825T212701Z
LAST-MODIFIED:20251201T132651Z
UID:252995-1764612000-1764619200@hhs328.com
SUMMARY:HSGBB vs Illini West @ Hamilton
DESCRIPTION:
URL:https://hhs328.com/event/hsgbb-vs-illini-west-hamilton-2/
CATEGORIES:West Hancock Titans
ATTACH;FMTTYPE=image/jpeg:https://hhs328.com/wp-content/uploads/2021/01/Hamilton-Logo-3.jpg
END:VEVENT
BEGIN:VEVENT
DTSTART;TZID=America/Chicago:20251201T180000
DTEND;TZID=America/Chicago:20251201T200000
DTSTAMP:20260425T210309
CREATED:20251102T061203Z
LAST-MODIFIED:20251201T134155Z
UID:253718-1764612000-1764619200@hhs328.com
SUMMARY:JH Boys Basketball @ Macomb
DESCRIPTION:
URL:https://hhs328.com/event/jh-boys-basketball-macomb-2/
CATEGORIES:Cardinal Athletics
ATTACH;FMTTYPE=image/jpeg:https://hhs328.com/wp-content/uploads/2021/01/Hamilton-Logo-3.jpg
END:VEVENT
BEGIN:VEVENT
DTSTART;TZID=America/Chicago:20251202T112400
DTEND;TZID=America/Chicago:20251202T115400
DTSTAMP:20260425T210309
CREATED:20231210T025419Z
LAST-MODIFIED:20251202T115652Z
UID:72987-1764674640-1764676440@hhs328.com
SUMMARY:FFA Meeting
DESCRIPTION:
URL:https://hhs328.com/event/ffa-meeting-228/
CATEGORIES:School Calendar
ATTACH;FMTTYPE=image/jpeg:https://hhs328.com/wp-content/uploads/2021/01/Hamilton-Logo-3.jpg
END:VEVENT
BEGIN:VEVENT
DTSTART;TZID=America/Chicago:20251202T173000
DTEND;TZID=America/Chicago:20251202T203000
DTSTAMP:20260425T210309
CREATED:20250826T212709Z
LAST-MODIFIED:20251202T132653Z
UID:253001-1764696600-1764707400@hhs328.com
SUMMARY:Wrestling vs Macomb @ Hamilton
DESCRIPTION:
URL:https://hhs328.com/event/wrestling-vs-macomb/
CATEGORIES:West Hancock Titans
ATTACH;FMTTYPE=image/jpeg:https://hhs328.com/wp-content/uploads/2021/01/Hamilton-Logo-3.jpg
END:VEVENT
BEGIN:VEVENT
DTSTART;TZID=America/Chicago:20251202T180000
DTEND;TZID=America/Chicago:20251202T200000
DTSTAMP:20260425T210309
CREATED:20250828T214202Z
LAST-MODIFIED:20251202T132653Z
UID:253016-1764698400-1764705600@hhs328.com
SUMMARY:HSGBB @ Keokuk
DESCRIPTION:
URL:https://hhs328.com/event/hsgbb-keokuk-2/
CATEGORIES:West Hancock Titans
ATTACH;FMTTYPE=image/jpeg:https://hhs328.com/wp-content/uploads/2021/01/Hamilton-Logo-3.jpg
END:VEVENT
BEGIN:VEVENT
DTSTART;TZID=America/Chicago:20251203T112400
DTEND;TZID=America/Chicago:20251203T115400
DTSTAMP:20260425T210309
CREATED:20250130T205829Z
LAST-MODIFIED:20251203T115647Z
UID:251267-1764761040-1764762840@hhs328.com
SUMMARY:NHS Meeting
DESCRIPTION:
URL:https://hhs328.com/event/nhs-meeting-31/
CATEGORIES:School Calendar
ATTACH;FMTTYPE=image/jpeg:https://hhs328.com/wp-content/uploads/2021/01/Hamilton-Logo-3.jpg
END:VEVENT
BEGIN:VEVENT
DTSTART;TZID=America/Chicago:20251203T180000
DTEND;TZID=America/Chicago:20251203T200000
DTSTAMP:20260425T210309
CREATED:20250828T214202Z
LAST-MODIFIED:20251203T132651Z
UID:253017-1764784800-1764792000@hhs328.com
SUMMARY:HSBBB vs Monmouth/Roseville @ Warsaw
DESCRIPTION:
URL:https://hhs328.com/event/hsbbb-vs-monmouth-roseville-warsaw-2/
CATEGORIES:West Hancock Titans
ATTACH;FMTTYPE=image/jpeg:https://hhs328.com/wp-content/uploads/2021/01/Hamilton-Logo-3.jpg
END:VEVENT
BEGIN:VEVENT
DTSTART;VALUE=DATE:20251204
DTEND;VALUE=DATE:20251205
DTSTAMP:20260425T210309
CREATED:20251125T114152Z
LAST-MODIFIED:20251204T115654Z
UID:254026-1764806400-1764892799@hhs328.com
SUMMARY:X-mas Dress Up: Mad About Plaid
DESCRIPTION:
URL:https://hhs328.com/event/x-mas-dress-up-mad-about-plaid/
CATEGORIES:School Calendar
ATTACH;FMTTYPE=image/jpeg:https://hhs328.com/wp-content/uploads/2021/01/Hamilton-Logo-3.jpg
END:VEVENT
BEGIN:VEVENT
DTSTART;TZID=America/Chicago:20251204T112400
DTEND;TZID=America/Chicago:20251204T115400
DTSTAMP:20260425T210309
CREATED:20231210T025419Z
LAST-MODIFIED:20251204T115654Z
UID:72988-1764847440-1764849240@hhs328.com
SUMMARY:FFA Meeting
DESCRIPTION:
URL:https://hhs328.com/event/ffa-meeting-229/
CATEGORIES:School Calendar
ATTACH;FMTTYPE=image/jpeg:https://hhs328.com/wp-content/uploads/2021/01/Hamilton-Logo-3.jpg
END:VEVENT
BEGIN:VEVENT
DTSTART;TZID=America/Chicago:20251204T173000
DTEND;TZID=America/Chicago:20251204T193000
DTSTAMP:20260425T210309
CREATED:20250828T214202Z
LAST-MODIFIED:20251204T134154Z
UID:253018-1764869400-1764876600@hhs328.com
SUMMARY:HSGBB @ QND
DESCRIPTION:
URL:https://hhs328.com/event/hsgbb-qnd-2/
CATEGORIES:West Hancock Titans
ATTACH;FMTTYPE=image/jpeg:https://hhs328.com/wp-content/uploads/2021/01/Hamilton-Logo-3.jpg
END:VEVENT
BEGIN:VEVENT
DTSTART;TZID=America/Chicago:20251204T180000
DTEND;TZID=America/Chicago:20251204T200000
DTSTAMP:20260425T210309
CREATED:20251102T061203Z
LAST-MODIFIED:20251204T135657Z
UID:253719-1764871200-1764878400@hhs328.com
SUMMARY:JH Boys Basketball vs West Prairie
DESCRIPTION:
URL:https://hhs328.com/event/jh-boys-basketball-vs-west-prairie-2/
CATEGORIES:Cardinal Athletics
ATTACH;FMTTYPE=image/jpeg:https://hhs328.com/wp-content/uploads/2021/01/Hamilton-Logo-3.jpg
END:VEVENT
BEGIN:VEVENT
DTSTART;VALUE=DATE:20251205
DTEND;VALUE=DATE:20251206
DTSTAMP:20260425T210309
CREATED:20251125T114152Z
LAST-MODIFIED:20251205T115652Z
UID:254027-1764892800-1764979199@hhs328.com
SUMMARY:X-mas Dress Up: Santa/Holiday Hat
DESCRIPTION:
URL:https://hhs328.com/event/x-mas-dress-up-santa-holiday-hat/
CATEGORIES:School Calendar
ATTACH;FMTTYPE=image/jpeg:https://hhs328.com/wp-content/uploads/2021/01/Hamilton-Logo-3.jpg
END:VEVENT
END:VCALENDAR