BEGIN:VCALENDAR
VERSION:2.0
PRODID:-//Hamilton Schools District 328 - ECPv6.15.12.2//NONSGML v1.0//EN
CALSCALE:GREGORIAN
METHOD:PUBLISH
X-ORIGINAL-URL:https://hhs328.com
X-WR-CALDESC:Events for Hamilton Schools District 328
REFRESH-INTERVAL;VALUE=DURATION:PT1H
X-Robots-Tag:noindex
X-PUBLISHED-TTL:PT1H
BEGIN:VTIMEZONE
TZID:America/Chicago
BEGIN:DAYLIGHT
TZOFFSETFROM:-0600
TZOFFSETTO:-0500
TZNAME:CDT
DTSTART:20250309T080000
END:DAYLIGHT
BEGIN:STANDARD
TZOFFSETFROM:-0500
TZOFFSETTO:-0600
TZNAME:CST
DTSTART:20251102T070000
END:STANDARD
BEGIN:DAYLIGHT
TZOFFSETFROM:-0600
TZOFFSETTO:-0500
TZNAME:CDT
DTSTART:20260308T080000
END:DAYLIGHT
BEGIN:STANDARD
TZOFFSETFROM:-0500
TZOFFSETTO:-0600
TZNAME:CST
DTSTART:20261101T070000
END:STANDARD
BEGIN:DAYLIGHT
TZOFFSETFROM:-0600
TZOFFSETTO:-0500
TZNAME:CDT
DTSTART:20270314T080000
END:DAYLIGHT
BEGIN:STANDARD
TZOFFSETFROM:-0500
TZOFFSETTO:-0600
TZNAME:CST
DTSTART:20271107T070000
END:STANDARD
END:VTIMEZONE
BEGIN:VEVENT
DTSTART;VALUE=DATE:20260525
DTEND;VALUE=DATE:20260531
DTSTAMP:20260423T110251
CREATED:20260215T165710Z
LAST-MODIFIED:20260416T202658Z
UID:254823-1779667200-1780185599@hhs328.com
SUMMARY:HSBB Regionals
DESCRIPTION:
URL:https://hhs328.com/event/hsbb-regionals-3/
CATEGORIES:West Hancock Titans
ATTACH;FMTTYPE=image/jpeg:https://hhs328.com/wp-content/uploads/2021/01/Hamilton-Logo-3.jpg
END:VEVENT
BEGIN:VEVENT
DTSTART;TZID=America/Chicago:20260528T112400
DTEND;TZID=America/Chicago:20260528T115400
DTSTAMP:20260423T110251
CREATED:20250731T211159Z
LAST-MODIFIED:20260422T231152Z
UID:252814-1779967440-1779969240@hhs328.com
SUMMARY:FFA Meeting
DESCRIPTION:
URL:https://hhs328.com/event/ffa-meeting-279/
CATEGORIES:School Calendar
ATTACH;FMTTYPE=image/jpeg:https://hhs328.com/wp-content/uploads/2021/01/Hamilton-Logo-3.jpg
END:VEVENT
BEGIN:VEVENT
DTSTART;TZID=America/Chicago:20260601T170000
DTEND;TZID=America/Chicago:20260601T180000
DTSTAMP:20260423T110251
CREATED:20251003T221149Z
LAST-MODIFIED:20260422T201149Z
UID:253417-1780333200-1780336800@hhs328.com
SUMMARY:Music Boosters Meeting @ Elementary Band Room
DESCRIPTION:
URL:https://hhs328.com/event/music-boosters-meeting-elementary-band-room-9/
CATEGORIES:District Calendar
ATTACH;FMTTYPE=image/jpeg:https://hhs328.com/wp-content/uploads/2021/01/Hamilton-Logo-3.jpg
END:VEVENT
BEGIN:VEVENT
DTSTART;TZID=America/Chicago:20260602T112400
DTEND;TZID=America/Chicago:20260602T115400
DTSTAMP:20260423T110251
CREATED:20250807T214202Z
LAST-MODIFIED:20260422T231152Z
UID:252855-1780399440-1780401240@hhs328.com
SUMMARY:FFA Meeting
DESCRIPTION:
URL:https://hhs328.com/event/ffa-meeting-280/
CATEGORIES:School Calendar
ATTACH;FMTTYPE=image/jpeg:https://hhs328.com/wp-content/uploads/2021/01/Hamilton-Logo-3.jpg
END:VEVENT
BEGIN:VEVENT
DTSTART;VALUE=DATE:20260603
DTEND;VALUE=DATE:20260607
DTSTAMP:20260423T110251
CREATED:20260216T165659Z
LAST-MODIFIED:20260416T202658Z
UID:254831-1780444800-1780790399@hhs328.com
SUMMARY:HSBB Sectionals
DESCRIPTION:
URL:https://hhs328.com/event/hsbb-sectionals-3/
CATEGORIES:West Hancock Titans
ATTACH;FMTTYPE=image/jpeg:https://hhs328.com/wp-content/uploads/2021/01/Hamilton-Logo-3.jpg
END:VEVENT
BEGIN:VEVENT
DTSTART;TZID=America/Chicago:20260603T112400
DTEND;TZID=America/Chicago:20260603T115400
DTSTAMP:20260423T110251
CREATED:20250812T214153Z
LAST-MODIFIED:20260422T231152Z
UID:252878-1780485840-1780487640@hhs328.com
SUMMARY:NHS Meeting
DESCRIPTION:
URL:https://hhs328.com/event/nhs-meeting-37/
CATEGORIES:School Calendar
ATTACH;FMTTYPE=image/jpeg:https://hhs328.com/wp-content/uploads/2021/01/Hamilton-Logo-3.jpg
END:VEVENT
BEGIN:VEVENT
DTSTART;TZID=America/Chicago:20260604T112400
DTEND;TZID=America/Chicago:20260604T115400
DTSTAMP:20260423T110251
CREATED:20250814T214159Z
LAST-MODIFIED:20260422T231152Z
UID:252889-1780572240-1780574040@hhs328.com
SUMMARY:FFA Meeting
DESCRIPTION:
URL:https://hhs328.com/event/ffa-meeting-281/
CATEGORIES:School Calendar
ATTACH;FMTTYPE=image/jpeg:https://hhs328.com/wp-content/uploads/2021/01/Hamilton-Logo-3.jpg
END:VEVENT
BEGIN:VEVENT
DTSTART;VALUE=DATE:20260608
DTEND;VALUE=DATE:20260609
DTSTAMP:20260423T110251
CREATED:20260217T165656Z
LAST-MODIFIED:20260416T202658Z
UID:254842-1780876800-1780963199@hhs328.com
SUMMARY:HSBB Super Sectionals
DESCRIPTION:
URL:https://hhs328.com/event/hsbb-super-sectionals-3/
CATEGORIES:West Hancock Titans
ATTACH;FMTTYPE=image/jpeg:https://hhs328.com/wp-content/uploads/2021/01/Hamilton-Logo-3.jpg
END:VEVENT
BEGIN:VEVENT
DTSTART;TZID=America/Chicago:20260609T112400
DTEND;TZID=America/Chicago:20260609T115400
DTSTAMP:20260423T110251
CREATED:20250821T221155Z
LAST-MODIFIED:20260422T231152Z
UID:252966-1781004240-1781006040@hhs328.com
SUMMARY:FFA Meeting
DESCRIPTION:
URL:https://hhs328.com/event/ffa-meeting-282/
CATEGORIES:School Calendar
ATTACH;FMTTYPE=image/jpeg:https://hhs328.com/wp-content/uploads/2021/01/Hamilton-Logo-3.jpg
END:VEVENT
BEGIN:VEVENT
DTSTART;TZID=America/Chicago:20260611T112400
DTEND;TZID=America/Chicago:20260611T115400
DTSTAMP:20260423T110251
CREATED:20250821T221155Z
LAST-MODIFIED:20260422T231152Z
UID:252967-1781177040-1781178840@hhs328.com
SUMMARY:FFA Meeting
DESCRIPTION:
URL:https://hhs328.com/event/ffa-meeting-283/
CATEGORIES:School Calendar
ATTACH;FMTTYPE=image/jpeg:https://hhs328.com/wp-content/uploads/2021/01/Hamilton-Logo-3.jpg
END:VEVENT
BEGIN:VEVENT
DTSTART;VALUE=DATE:20260612
DTEND;VALUE=DATE:20260614
DTSTAMP:20260423T110251
CREATED:20260218T171205Z
LAST-MODIFIED:20260416T202658Z
UID:254850-1781222400-1781395199@hhs328.com
SUMMARY:HSBB State
DESCRIPTION:
URL:https://hhs328.com/event/hsbb-state-3/
CATEGORIES:West Hancock Titans
ATTACH;FMTTYPE=image/jpeg:https://hhs328.com/wp-content/uploads/2021/01/Hamilton-Logo-3.jpg
END:VEVENT
BEGIN:VEVENT
DTSTART;TZID=America/Chicago:20260616T112400
DTEND;TZID=America/Chicago:20260616T115400
DTSTAMP:20260423T110251
CREATED:20250826T221159Z
LAST-MODIFIED:20260422T231152Z
UID:253003-1781609040-1781610840@hhs328.com
SUMMARY:FFA Meeting
DESCRIPTION:
URL:https://hhs328.com/event/ffa-meeting-284/
CATEGORIES:School Calendar
ATTACH;FMTTYPE=image/jpeg:https://hhs328.com/wp-content/uploads/2021/01/Hamilton-Logo-3.jpg
END:VEVENT
BEGIN:VEVENT
DTSTART;TZID=America/Chicago:20260617T183000
DTEND;TZID=America/Chicago:20260617T203000
DTSTAMP:20260423T110251
CREATED:20240617T154155Z
LAST-MODIFIED:20260422T201149Z
UID:82295-1781721000-1781728200@hhs328.com
SUMMARY:Board Meeting
DESCRIPTION:
URL:https://hhs328.com/event/board-meeting-35/
CATEGORIES:District Calendar
ATTACH;FMTTYPE=image/jpeg:https://hhs328.com/wp-content/uploads/2021/01/Hamilton-Logo-3.jpg
END:VEVENT
BEGIN:VEVENT
DTSTART;TZID=America/Chicago:20260618T112400
DTEND;TZID=America/Chicago:20260618T115400
DTSTAMP:20260423T110251
CREATED:20250827T221200Z
LAST-MODIFIED:20260422T231152Z
UID:253011-1781781840-1781783640@hhs328.com
SUMMARY:FFA Meeting
DESCRIPTION:
URL:https://hhs328.com/event/ffa-meeting-285/
CATEGORIES:School Calendar
ATTACH;FMTTYPE=image/jpeg:https://hhs328.com/wp-content/uploads/2021/01/Hamilton-Logo-3.jpg
END:VEVENT
BEGIN:VEVENT
DTSTART;TZID=America/Chicago:20260623T112400
DTEND;TZID=America/Chicago:20260623T115400
DTSTAMP:20260423T110251
CREATED:20250827T221200Z
LAST-MODIFIED:20260422T231152Z
UID:253012-1782213840-1782215640@hhs328.com
SUMMARY:FFA Meeting
DESCRIPTION:
URL:https://hhs328.com/event/ffa-meeting-286/
CATEGORIES:School Calendar
ATTACH;FMTTYPE=image/jpeg:https://hhs328.com/wp-content/uploads/2021/01/Hamilton-Logo-3.jpg
END:VEVENT
BEGIN:VEVENT
DTSTART;TZID=America/Chicago:20260625T112400
DTEND;TZID=America/Chicago:20260625T115400
DTSTAMP:20260423T110251
CREATED:20250925T232656Z
LAST-MODIFIED:20260422T231152Z
UID:253332-1782386640-1782388440@hhs328.com
SUMMARY:FFA Meeting
DESCRIPTION:
URL:https://hhs328.com/event/ffa-meeting-287/
CATEGORIES:School Calendar
ATTACH;FMTTYPE=image/jpeg:https://hhs328.com/wp-content/uploads/2021/01/Hamilton-Logo-3.jpg
END:VEVENT
BEGIN:VEVENT
DTSTART;TZID=America/Chicago:20260627T080000
DTEND;TZID=America/Chicago:20260627T120000
DTSTAMP:20260423T110251
CREATED:20260205T152648Z
LAST-MODIFIED:20260422T201149Z
UID:254696-1782547200-1782561600@hhs328.com
SUMMARY:Citywide Cleanup
DESCRIPTION:
URL:https://hhs328.com/event/citywide-cleanup/
CATEGORIES:District Calendar
ATTACH;FMTTYPE=image/jpeg:https://hhs328.com/wp-content/uploads/2021/01/Hamilton-Logo-3.jpg
END:VEVENT
BEGIN:VEVENT
DTSTART;TZID=America/Chicago:20260630T112400
DTEND;TZID=America/Chicago:20260630T115400
DTSTAMP:20260423T110251
CREATED:20250929T232653Z
LAST-MODIFIED:20260422T231152Z
UID:253363-1782818640-1782820440@hhs328.com
SUMMARY:FFA Meeting
DESCRIPTION:
URL:https://hhs328.com/event/ffa-meeting-288/
CATEGORIES:School Calendar
ATTACH;FMTTYPE=image/jpeg:https://hhs328.com/wp-content/uploads/2021/01/Hamilton-Logo-3.jpg
END:VEVENT
BEGIN:VEVENT
DTSTART;TZID=America/Chicago:20260701T112400
DTEND;TZID=America/Chicago:20260701T115400
DTSTAMP:20260423T110251
CREATED:20250930T232706Z
LAST-MODIFIED:20260422T231152Z
UID:253382-1782905040-1782906840@hhs328.com
SUMMARY:NHS Meeting
DESCRIPTION:
URL:https://hhs328.com/event/nhs-meeting-39/
CATEGORIES:School Calendar
ATTACH;FMTTYPE=image/jpeg:https://hhs328.com/wp-content/uploads/2021/01/Hamilton-Logo-3.jpg
END:VEVENT
BEGIN:VEVENT
DTSTART;TZID=America/Chicago:20260702T112400
DTEND;TZID=America/Chicago:20260702T115400
DTSTAMP:20260423T110251
CREATED:20251001T232656Z
LAST-MODIFIED:20260422T231152Z
UID:253394-1782991440-1782993240@hhs328.com
SUMMARY:FFA Meeting
DESCRIPTION:
URL:https://hhs328.com/event/ffa-meeting-289/
CATEGORIES:School Calendar
ATTACH;FMTTYPE=image/jpeg:https://hhs328.com/wp-content/uploads/2021/01/Hamilton-Logo-3.jpg
END:VEVENT
BEGIN:VEVENT
DTSTART;TZID=America/Chicago:20260706T170000
DTEND;TZID=America/Chicago:20260706T180000
DTSTAMP:20260423T110251
CREATED:20251003T221149Z
LAST-MODIFIED:20260422T201150Z
UID:253418-1783357200-1783360800@hhs328.com
SUMMARY:Music Boosters Meeting @ Elementary Band Room
DESCRIPTION:
URL:https://hhs328.com/event/music-boosters-meeting-elementary-band-room-10/
CATEGORIES:District Calendar
ATTACH;FMTTYPE=image/jpeg:https://hhs328.com/wp-content/uploads/2021/01/Hamilton-Logo-3.jpg
END:VEVENT
BEGIN:VEVENT
DTSTART;TZID=America/Chicago:20260707T112400
DTEND;TZID=America/Chicago:20260707T115400
DTSTAMP:20260423T110251
CREATED:20251002T234154Z
LAST-MODIFIED:20260422T231152Z
UID:253404-1783423440-1783425240@hhs328.com
SUMMARY:FFA Meeting
DESCRIPTION:
URL:https://hhs328.com/event/ffa-meeting-290/
CATEGORIES:School Calendar
ATTACH;FMTTYPE=image/jpeg:https://hhs328.com/wp-content/uploads/2021/01/Hamilton-Logo-3.jpg
END:VEVENT
BEGIN:VEVENT
DTSTART;TZID=America/Chicago:20260709T112400
DTEND;TZID=America/Chicago:20260709T115400
DTSTAMP:20260423T110251
CREATED:20251007T234200Z
LAST-MODIFIED:20260422T231152Z
UID:253493-1783596240-1783598040@hhs328.com
SUMMARY:FFA Meeting
DESCRIPTION:
URL:https://hhs328.com/event/ffa-meeting-291/
CATEGORIES:School Calendar
ATTACH;FMTTYPE=image/jpeg:https://hhs328.com/wp-content/uploads/2021/01/Hamilton-Logo-3.jpg
END:VEVENT
BEGIN:VEVENT
DTSTART;TZID=America/Chicago:20260714T112400
DTEND;TZID=America/Chicago:20260714T115400
DTSTAMP:20260423T110251
CREATED:20251009T234154Z
LAST-MODIFIED:20260422T231153Z
UID:253509-1784028240-1784030040@hhs328.com
SUMMARY:FFA Meeting
DESCRIPTION:
URL:https://hhs328.com/event/ffa-meeting-292/
CATEGORIES:School Calendar
ATTACH;FMTTYPE=image/jpeg:https://hhs328.com/wp-content/uploads/2021/01/Hamilton-Logo-3.jpg
END:VEVENT
BEGIN:VEVENT
DTSTART;TZID=America/Chicago:20260715T183000
DTEND;TZID=America/Chicago:20260715T203000
DTSTAMP:20260423T110251
CREATED:20240715T164150Z
LAST-MODIFIED:20260422T201150Z
UID:82503-1784140200-1784147400@hhs328.com
SUMMARY:Board Meeting
DESCRIPTION:
URL:https://hhs328.com/event/board-meeting-36/
CATEGORIES:District Calendar
ATTACH;FMTTYPE=image/jpeg:https://hhs328.com/wp-content/uploads/2021/01/Hamilton-Logo-3.jpg
END:VEVENT
BEGIN:VEVENT
DTSTART;TZID=America/Chicago:20260716T112400
DTEND;TZID=America/Chicago:20260716T115400
DTSTAMP:20260423T110251
CREATED:20251009T234154Z
LAST-MODIFIED:20260422T231153Z
UID:253510-1784201040-1784202840@hhs328.com
SUMMARY:FFA Meeting
DESCRIPTION:
URL:https://hhs328.com/event/ffa-meeting-293/
CATEGORIES:School Calendar
ATTACH;FMTTYPE=image/jpeg:https://hhs328.com/wp-content/uploads/2021/01/Hamilton-Logo-3.jpg
END:VEVENT
BEGIN:VEVENT
DTSTART;TZID=America/Chicago:20260721T112400
DTEND;TZID=America/Chicago:20260721T115400
DTSTAMP:20260423T110251
CREATED:20251014T234205Z
LAST-MODIFIED:20260422T231153Z
UID:253549-1784633040-1784634840@hhs328.com
SUMMARY:FFA Meeting
DESCRIPTION:
URL:https://hhs328.com/event/ffa-meeting-294/
CATEGORIES:School Calendar
ATTACH;FMTTYPE=image/jpeg:https://hhs328.com/wp-content/uploads/2021/01/Hamilton-Logo-3.jpg
END:VEVENT
BEGIN:VEVENT
DTSTART;TZID=America/Chicago:20260723T112400
DTEND;TZID=America/Chicago:20260723T115400
DTSTAMP:20260423T110251
CREATED:20251016T234153Z
LAST-MODIFIED:20260422T231153Z
UID:253583-1784805840-1784807640@hhs328.com
SUMMARY:FFA Meeting
DESCRIPTION:
URL:https://hhs328.com/event/ffa-meeting-295/
CATEGORIES:School Calendar
ATTACH;FMTTYPE=image/jpeg:https://hhs328.com/wp-content/uploads/2021/01/Hamilton-Logo-3.jpg
END:VEVENT
BEGIN:VEVENT
DTSTART;TZID=America/Chicago:20260728T112400
DTEND;TZID=America/Chicago:20260728T115400
DTSTAMP:20260423T110251
CREATED:20251016T234153Z
LAST-MODIFIED:20260422T231153Z
UID:253584-1785237840-1785239640@hhs328.com
SUMMARY:FFA Meeting
DESCRIPTION:
URL:https://hhs328.com/event/ffa-meeting-296/
CATEGORIES:School Calendar
ATTACH;FMTTYPE=image/jpeg:https://hhs328.com/wp-content/uploads/2021/01/Hamilton-Logo-3.jpg
END:VEVENT
BEGIN:VEVENT
DTSTART;TZID=America/Chicago:20260730T112400
DTEND;TZID=America/Chicago:20260730T115400
DTSTAMP:20260423T110251
CREATED:20251020T235653Z
LAST-MODIFIED:20260422T231153Z
UID:253615-1785410640-1785412440@hhs328.com
SUMMARY:FFA Meeting
DESCRIPTION:
URL:https://hhs328.com/event/ffa-meeting-297/
CATEGORIES:School Calendar
ATTACH;FMTTYPE=image/jpeg:https://hhs328.com/wp-content/uploads/2021/01/Hamilton-Logo-3.jpg
END:VEVENT
END:VCALENDAR