BEGIN:VCALENDAR
VERSION:2.0
PRODID:-//Hamilton Schools District 328 - ECPv6.15.12.2//NONSGML v1.0//EN
CALSCALE:GREGORIAN
METHOD:PUBLISH
X-WR-CALNAME:Hamilton Schools District 328
X-ORIGINAL-URL:https://hhs328.com
X-WR-CALDESC:Events for Hamilton Schools District 328
REFRESH-INTERVAL;VALUE=DURATION:PT1H
X-Robots-Tag:noindex
X-PUBLISHED-TTL:PT1H
BEGIN:VTIMEZONE
TZID:America/Chicago
BEGIN:DAYLIGHT
TZOFFSETFROM:-0600
TZOFFSETTO:-0500
TZNAME:CDT
DTSTART:20250309T080000
END:DAYLIGHT
BEGIN:STANDARD
TZOFFSETFROM:-0500
TZOFFSETTO:-0600
TZNAME:CST
DTSTART:20251102T070000
END:STANDARD
BEGIN:DAYLIGHT
TZOFFSETFROM:-0600
TZOFFSETTO:-0500
TZNAME:CDT
DTSTART:20260308T080000
END:DAYLIGHT
BEGIN:STANDARD
TZOFFSETFROM:-0500
TZOFFSETTO:-0600
TZNAME:CST
DTSTART:20261101T070000
END:STANDARD
BEGIN:DAYLIGHT
TZOFFSETFROM:-0600
TZOFFSETTO:-0500
TZNAME:CDT
DTSTART:20270314T080000
END:DAYLIGHT
BEGIN:STANDARD
TZOFFSETFROM:-0500
TZOFFSETTO:-0600
TZNAME:CST
DTSTART:20271107T070000
END:STANDARD
END:VTIMEZONE
BEGIN:VEVENT
DTSTART;TZID=America/Chicago:20260427T163000
DTEND;TZID=America/Chicago:20260427T183000
DTSTAMP:20260423T062727
CREATED:20260107T121159Z
LAST-MODIFIED:20260416T202656Z
UID:254398-1777307400-1777314600@hhs328.com
SUMMARY:HSSB @ Unity
DESCRIPTION:
URL:https://hhs328.com/event/hssb-unity-2/
CATEGORIES:West Hancock Titans
ATTACH;FMTTYPE=image/jpeg:https://hhs328.com/wp-content/uploads/2021/01/Hamilton-Logo-3.jpg
END:VEVENT
BEGIN:VEVENT
DTSTART;TZID=America/Chicago:20260428T112400
DTEND;TZID=America/Chicago:20260428T115400
DTSTAMP:20260423T062727
CREATED:20250701T195655Z
LAST-MODIFIED:20260422T231152Z
UID:252590-1777375440-1777377240@hhs328.com
SUMMARY:FFA Meeting
DESCRIPTION:
URL:https://hhs328.com/event/ffa-meeting-270/
CATEGORIES:School Calendar
ATTACH;FMTTYPE=image/jpeg:https://hhs328.com/wp-content/uploads/2021/01/Hamilton-Logo-3.jpg
END:VEVENT
BEGIN:VEVENT
DTSTART;TZID=America/Chicago:20260428T163000
DTEND;TZID=America/Chicago:20260428T173000
DTSTAMP:20260423T062727
CREATED:20260110T122656Z
LAST-MODIFIED:20260416T202656Z
UID:254444-1777393800-1777397400@hhs328.com
SUMMARY:HSBB @ Camp Point/Central
DESCRIPTION:
URL:https://hhs328.com/event/hsbb-camp-point-central-2/
CATEGORIES:West Hancock Titans
ATTACH;FMTTYPE=image/jpeg:https://hhs328.com/wp-content/uploads/2021/01/Hamilton-Logo-3.jpg
END:VEVENT
BEGIN:VEVENT
DTSTART;TZID=America/Chicago:20260428T163000
DTEND;TZID=America/Chicago:20260428T183000
DTSTAMP:20260423T062727
CREATED:20260110T122656Z
LAST-MODIFIED:20260416T202656Z
UID:254445-1777393800-1777401000@hhs328.com
SUMMARY:HSSB vs Camp Point/Central
DESCRIPTION:
URL:https://hhs328.com/event/hssb-vs-camp-point-central-2/
CATEGORIES:West Hancock Titans
ATTACH;FMTTYPE=image/jpeg:https://hhs328.com/wp-content/uploads/2021/01/Hamilton-Logo-3.jpg
END:VEVENT
BEGIN:VEVENT
DTSTART;TZID=America/Chicago:20260428T163000
DTEND;TZID=America/Chicago:20260428T203000
DTSTAMP:20260423T062727
CREATED:20260109T122705Z
LAST-MODIFIED:20260416T202656Z
UID:254433-1777393800-1777408200@hhs328.com
SUMMARY:Track @ Keokuk
DESCRIPTION:
URL:https://hhs328.com/event/track-keokuk-3/
CATEGORIES:West Hancock Titans
ATTACH;FMTTYPE=image/jpeg:https://hhs328.com/wp-content/uploads/2021/01/Hamilton-Logo-3.jpg
END:VEVENT
BEGIN:VEVENT
DTSTART;TZID=America/Chicago:20260428T180000
DTEND;TZID=America/Chicago:20260428T190000
DTSTAMP:20260423T062727
CREATED:20260219T155649Z
LAST-MODIFIED:20260422T201150Z
UID:254854-1777399200-1777402800@hhs328.com
SUMMARY:K-2nd Grades Spring Concert
DESCRIPTION:
URL:https://hhs328.com/event/k-2nd-grades-spring-concert/
LOCATION:Hamilton High School\, 1100 Keokuk St\, Hamilton\, IL\, United States
CATEGORIES:District Calendar
ATTACH;FMTTYPE=image/jpeg:https://hhs328.com/wp-content/uploads/2021/01/Hamilton-Logo-3.jpg
END:VEVENT
BEGIN:VEVENT
DTSTART;VALUE=DATE:20260429
DTEND;VALUE=DATE:20260430
DTSTAMP:20260423T062727
CREATED:20260326T175654Z
LAST-MODIFIED:20260422T231152Z
UID:255161-1777420800-1777507199@hhs328.com
SUMMARY:Quincy Lunch Visit
DESCRIPTION:
URL:https://hhs328.com/event/quincy-lunch-visit/
CATEGORIES:School Calendar
ATTACH;FMTTYPE=image/jpeg:https://hhs328.com/wp-content/uploads/2021/01/Hamilton-Logo-3.jpg
END:VEVENT
BEGIN:VEVENT
DTSTART;VALUE=DATE:20260429
DTEND;VALUE=DATE:20260430
DTSTAMP:20260423T062727
CREATED:20260417T212649Z
LAST-MODIFIED:20260422T231152Z
UID:255296-1777420800-1777507199@hhs328.com
SUMMARY:Future Teacher Meeting 5A-5B
DESCRIPTION:
URL:https://hhs328.com/event/future-teacher-meeting-5a-5b/
CATEGORIES:School Calendar
ATTACH;FMTTYPE=image/jpeg:https://hhs328.com/wp-content/uploads/2021/01/Hamilton-Logo-3.jpg
END:VEVENT
BEGIN:VEVENT
DTSTART;TZID=America/Chicago:20260429T160000
DTEND;TZID=America/Chicago:20260429T200000
DTSTAMP:20260423T062727
CREATED:20260309T185652Z
LAST-MODIFIED:20260422T211151Z
UID:255019-1777478400-1777492800@hhs328.com
SUMMARY:JH Track @ Hancock County Meet (Warsaw)
DESCRIPTION:
URL:https://hhs328.com/event/jh-track-hancock-county-meet-warsaw/
CATEGORIES:Cardinal Athletics
ATTACH;FMTTYPE=image/jpeg:https://hhs328.com/wp-content/uploads/2021/01/Hamilton-Logo-3.jpg
END:VEVENT
BEGIN:VEVENT
DTSTART;TZID=America/Chicago:20260429T163000
DTEND;TZID=America/Chicago:20260429T183000
DTSTAMP:20260423T062727
CREATED:20260111T122655Z
LAST-MODIFIED:20260416T202656Z
UID:254456-1777480200-1777487400@hhs328.com
SUMMARY:HSBB vs Clark County
DESCRIPTION:
URL:https://hhs328.com/event/hsbb-vs-clark-county-3/
CATEGORIES:West Hancock Titans
ATTACH;FMTTYPE=image/jpeg:https://hhs328.com/wp-content/uploads/2021/01/Hamilton-Logo-3.jpg
END:VEVENT
BEGIN:VEVENT
DTSTART;TZID=America/Chicago:20260429T163000
DTEND;TZID=America/Chicago:20260429T183000
DTSTAMP:20260423T062727
CREATED:20260113T122703Z
LAST-MODIFIED:20260416T202656Z
UID:254468-1777480200-1777487400@hhs328.com
SUMMARY:HSSB @ QND
DESCRIPTION:
URL:https://hhs328.com/event/hssb-qnd-2/
CATEGORIES:West Hancock Titans
ATTACH;FMTTYPE=image/jpeg:https://hhs328.com/wp-content/uploads/2021/01/Hamilton-Logo-3.jpg
END:VEVENT
BEGIN:VEVENT
DTSTART;TZID=America/Chicago:20260430T112400
DTEND;TZID=America/Chicago:20260430T115400
DTSTAMP:20260423T062727
CREATED:20250702T195652Z
LAST-MODIFIED:20260422T231152Z
UID:252596-1777548240-1777550040@hhs328.com
SUMMARY:FFA Meeting
DESCRIPTION:
URL:https://hhs328.com/event/ffa-meeting-271/
CATEGORIES:School Calendar
ATTACH;FMTTYPE=image/jpeg:https://hhs328.com/wp-content/uploads/2021/01/Hamilton-Logo-3.jpg
END:VEVENT
BEGIN:VEVENT
DTSTART;TZID=America/Chicago:20260430T160000
DTEND;TZID=America/Chicago:20260430T200000
DTSTAMP:20260423T062727
CREATED:20260114T124156Z
LAST-MODIFIED:20260416T202656Z
UID:254477-1777564800-1777579200@hhs328.com
SUMMARY:Track - Titan Relays
DESCRIPTION:
URL:https://hhs328.com/event/track-titan-relays-2/
CATEGORIES:West Hancock Titans
ATTACH;FMTTYPE=image/jpeg:https://hhs328.com/wp-content/uploads/2021/01/Hamilton-Logo-3.jpg
END:VEVENT
BEGIN:VEVENT
DTSTART;TZID=America/Chicago:20260430T160000
DTEND;TZID=America/Chicago:20260430T200000
DTSTAMP:20260423T062727
CREATED:20260309T185652Z
LAST-MODIFIED:20260422T211151Z
UID:255020-1777564800-1777579200@hhs328.com
SUMMARY:JH Track @ Rushville
DESCRIPTION:
URL:https://hhs328.com/event/jh-track-rushville/
CATEGORIES:Cardinal Athletics
ATTACH;FMTTYPE=image/jpeg:https://hhs328.com/wp-content/uploads/2021/01/Hamilton-Logo-3.jpg
END:VEVENT
BEGIN:VEVENT
DTSTART;TZID=America/Chicago:20260430T163000
DTEND;TZID=America/Chicago:20260430T173000
DTSTAMP:20260423T062727
CREATED:20260114T124156Z
LAST-MODIFIED:20260416T202656Z
UID:254476-1777566600-1777570200@hhs328.com
SUMMARY:HSBB vs Camp Point/Central
DESCRIPTION:
URL:https://hhs328.com/event/hsbb-vs-camp-point-central-2/
CATEGORIES:West Hancock Titans
ATTACH;FMTTYPE=image/jpeg:https://hhs328.com/wp-content/uploads/2021/01/Hamilton-Logo-3.jpg
END:VEVENT
BEGIN:VEVENT
DTSTART;TZID=America/Chicago:20260430T163000
DTEND;TZID=America/Chicago:20260430T183000
DTSTAMP:20260423T062727
CREATED:20260115T125657Z
LAST-MODIFIED:20260416T202656Z
UID:254486-1777566600-1777573800@hhs328.com
SUMMARY:HSSB @ Camp Point/Central
DESCRIPTION:
URL:https://hhs328.com/event/hssb-camp-point-central-2/
CATEGORIES:West Hancock Titans
ATTACH;FMTTYPE=image/jpeg:https://hhs328.com/wp-content/uploads/2021/01/Hamilton-Logo-3.jpg
END:VEVENT
BEGIN:VEVENT
DTSTART;TZID=America/Chicago:20260430T180000
DTEND;TZID=America/Chicago:20260430T190000
DTSTAMP:20260423T062727
CREATED:20260219T155649Z
LAST-MODIFIED:20260422T201150Z
UID:254855-1777572000-1777575600@hhs328.com
SUMMARY:3rd-5th Grades Spring Concert
DESCRIPTION:
URL:https://hhs328.com/event/3rd-5th-grades-spring-concert/
LOCATION:Hamilton High School\, 1100 Keokuk St\, Hamilton\, IL\, United States
CATEGORIES:District Calendar
ATTACH;FMTTYPE=image/jpeg:https://hhs328.com/wp-content/uploads/2021/01/Hamilton-Logo-3.jpg
END:VEVENT
BEGIN:VEVENT
DTSTART;TZID=America/Chicago:20260501T130000
DTEND;TZID=America/Chicago:20260501T140000
DTSTAMP:20260423T062727
CREATED:20260110T111148Z
LAST-MODIFIED:20260422T201150Z
UID:254440-1777640400-1777644000@hhs328.com
SUMMARY:School Improvement - Early Dismissal
DESCRIPTION:
URL:https://hhs328.com/event/school-improvement-early-dismissal-4/
CATEGORIES:District Calendar
ATTACH;FMTTYPE=image/jpeg:https://hhs328.com/wp-content/uploads/2021/01/Hamilton-Logo-3.jpg
END:VEVENT
BEGIN:VEVENT
DTSTART;TZID=America/Chicago:20260501T160000
DTEND;TZID=America/Chicago:20260501T180000
DTSTAMP:20260423T062727
CREATED:20260325T194158Z
LAST-MODIFIED:20260416T202656Z
UID:255157-1777651200-1777658400@hhs328.com
SUMMARY:HSBB - JV @ Rushville/Industry
DESCRIPTION:
URL:https://hhs328.com/event/hsbb-jv-rushville-industry/
CATEGORIES:West Hancock Titans
ATTACH;FMTTYPE=image/jpeg:https://hhs328.com/wp-content/uploads/2021/01/Hamilton-Logo-3.jpg
END:VEVENT
BEGIN:VEVENT
DTSTART;TZID=America/Chicago:20260504T160000
DTEND;TZID=America/Chicago:20260504T200000
DTSTAMP:20260423T062727
CREATED:20260116T125705Z
LAST-MODIFIED:20260416T202657Z
UID:254496-1777910400-1777924800@hhs328.com
SUMMARY:Track @ Monmouth/Roseville
DESCRIPTION:
URL:https://hhs328.com/event/track-monmouth-roseville-5/
CATEGORIES:West Hancock Titans
ATTACH;FMTTYPE=image/jpeg:https://hhs328.com/wp-content/uploads/2021/01/Hamilton-Logo-3.jpg
END:VEVENT
BEGIN:VEVENT
DTSTART;TZID=America/Chicago:20260504T163000
DTEND;TZID=America/Chicago:20260504T173000
DTSTAMP:20260423T062727
CREATED:20260118T125705Z
LAST-MODIFIED:20260416T202657Z
UID:254519-1777912200-1777915800@hhs328.com
SUMMARY:HSBB JV vs Illini West
DESCRIPTION:
URL:https://hhs328.com/event/hsbb-jv-vs-illini-west-2/
CATEGORIES:West Hancock Titans
ATTACH;FMTTYPE=image/jpeg:https://hhs328.com/wp-content/uploads/2021/01/Hamilton-Logo-3.jpg
END:VEVENT
BEGIN:VEVENT
DTSTART;TZID=America/Chicago:20260504T163000
DTEND;TZID=America/Chicago:20260504T183000
DTSTAMP:20260423T062727
CREATED:20260118T125705Z
LAST-MODIFIED:20260416T202656Z
UID:254518-1777912200-1777919400@hhs328.com
SUMMARY:HSSB @ West Central
DESCRIPTION:
URL:https://hhs328.com/event/hssb-west-central-2/
CATEGORIES:West Hancock Titans
ATTACH;FMTTYPE=image/jpeg:https://hhs328.com/wp-content/uploads/2021/01/Hamilton-Logo-3.jpg
END:VEVENT
BEGIN:VEVENT
DTSTART;TZID=America/Chicago:20260504T170000
DTEND;TZID=America/Chicago:20260504T180000
DTSTAMP:20260423T062727
CREATED:20251003T221149Z
LAST-MODIFIED:20260422T201150Z
UID:253416-1777914000-1777917600@hhs328.com
SUMMARY:Music Boosters Meeting @ Elementary Band Room
DESCRIPTION:
URL:https://hhs328.com/event/music-boosters-meeting-elementary-band-room-8/
CATEGORIES:District Calendar
ATTACH;FMTTYPE=image/jpeg:https://hhs328.com/wp-content/uploads/2021/01/Hamilton-Logo-3.jpg
END:VEVENT
BEGIN:VEVENT
DTSTART;TZID=America/Chicago:20260505T112400
DTEND;TZID=America/Chicago:20260505T115400
DTSTAMP:20260423T062727
CREATED:20250703T195654Z
LAST-MODIFIED:20260422T231152Z
UID:252602-1777980240-1777982040@hhs328.com
SUMMARY:FFA Meeting
DESCRIPTION:
URL:https://hhs328.com/event/ffa-meeting-272/
CATEGORIES:School Calendar
ATTACH;FMTTYPE=image/jpeg:https://hhs328.com/wp-content/uploads/2021/01/Hamilton-Logo-3.jpg
END:VEVENT
BEGIN:VEVENT
DTSTART;TZID=America/Chicago:20260505T160000
DTEND;TZID=America/Chicago:20260505T200000
DTSTAMP:20260423T062727
CREATED:20260309T185652Z
LAST-MODIFIED:20260422T211151Z
UID:255021-1777996800-1778011200@hhs328.com
SUMMARY:JH Track @ Nauvoo/Colusa (Warsaw)
DESCRIPTION:
URL:https://hhs328.com/event/jh-track-nauvoo-colusa-warsaw-4/
CATEGORIES:Cardinal Athletics
ATTACH;FMTTYPE=image/jpeg:https://hhs328.com/wp-content/uploads/2021/01/Hamilton-Logo-3.jpg
END:VEVENT
BEGIN:VEVENT
DTSTART;TZID=America/Chicago:20260505T161500
DTEND;TZID=America/Chicago:20260505T201500
DTSTAMP:20260423T062727
CREATED:20260121T131200Z
LAST-MODIFIED:20260416T202657Z
UID:254542-1777997700-1778012100@hhs328.com
SUMMARY:Girls Track @ Bushnell/Prairie City
DESCRIPTION:
URL:https://hhs328.com/event/girls-track-bushnell-prairie-city-3/
CATEGORIES:West Hancock Titans
ATTACH;FMTTYPE=image/jpeg:https://hhs328.com/wp-content/uploads/2021/01/Hamilton-Logo-3.jpg
END:VEVENT
BEGIN:VEVENT
DTSTART;TZID=America/Chicago:20260505T163000
DTEND;TZID=America/Chicago:20260505T183000
DTSTAMP:20260423T062727
CREATED:20260120T125705Z
LAST-MODIFIED:20260416T202657Z
UID:254534-1777998600-1778005800@hhs328.com
SUMMARY:HSBB @ Illini West
DESCRIPTION:
URL:https://hhs328.com/event/hsbb-illini-west-2/
CATEGORIES:West Hancock Titans
ATTACH;FMTTYPE=image/jpeg:https://hhs328.com/wp-content/uploads/2021/01/Hamilton-Logo-3.jpg
END:VEVENT
BEGIN:VEVENT
DTSTART;TZID=America/Chicago:20260505T163000
DTEND;TZID=America/Chicago:20260505T183000
DTSTAMP:20260423T062727
CREATED:20260121T131200Z
LAST-MODIFIED:20260416T202657Z
UID:254543-1777998600-1778005800@hhs328.com
SUMMARY:HSSB vs Rushville/Industry
DESCRIPTION:
URL:https://hhs328.com/event/hssb-vs-rushville-industry-2/
CATEGORIES:West Hancock Titans
ATTACH;FMTTYPE=image/jpeg:https://hhs328.com/wp-content/uploads/2021/01/Hamilton-Logo-3.jpg
END:VEVENT
BEGIN:VEVENT
DTSTART;TZID=America/Chicago:20260506T080000
DTEND;TZID=America/Chicago:20260506T120000
DTSTAMP:20260423T062727
CREATED:20250804T214155Z
LAST-MODIFIED:20260422T231152Z
UID:252832-1778054400-1778068800@hhs328.com
SUMMARY:AP English Lit & Comp Exam
DESCRIPTION:
URL:https://hhs328.com/event/ap-english-lit-comp-exam/
CATEGORIES:School Calendar
ATTACH;FMTTYPE=image/jpeg:https://hhs328.com/wp-content/uploads/2021/01/Hamilton-Logo-3.jpg
END:VEVENT
BEGIN:VEVENT
DTSTART;TZID=America/Chicago:20260506T112400
DTEND;TZID=America/Chicago:20260506T115400
DTSTAMP:20260423T062727
CREATED:20250708T195706Z
LAST-MODIFIED:20260422T231152Z
UID:252653-1778066640-1778068440@hhs328.com
SUMMARY:NHS Meeting
DESCRIPTION:
URL:https://hhs328.com/event/nhs-meeting-36/
CATEGORIES:School Calendar
ATTACH;FMTTYPE=image/jpeg:https://hhs328.com/wp-content/uploads/2021/01/Hamilton-Logo-3.jpg
END:VEVENT
END:VCALENDAR