BEGIN:VCALENDAR
VERSION:2.0
PRODID:-//Hamilton Schools District 328 - ECPv6.15.12.2//NONSGML v1.0//EN
CALSCALE:GREGORIAN
METHOD:PUBLISH
X-WR-CALNAME:Hamilton Schools District 328
X-ORIGINAL-URL:https://hhs328.com
X-WR-CALDESC:Events for Hamilton Schools District 328
REFRESH-INTERVAL;VALUE=DURATION:PT1H
X-Robots-Tag:noindex
X-PUBLISHED-TTL:PT1H
BEGIN:VTIMEZONE
TZID:America/Chicago
BEGIN:DAYLIGHT
TZOFFSETFROM:-0600
TZOFFSETTO:-0500
TZNAME:CDT
DTSTART:20250309T080000
END:DAYLIGHT
BEGIN:STANDARD
TZOFFSETFROM:-0500
TZOFFSETTO:-0600
TZNAME:CST
DTSTART:20251102T070000
END:STANDARD
BEGIN:DAYLIGHT
TZOFFSETFROM:-0600
TZOFFSETTO:-0500
TZNAME:CDT
DTSTART:20260308T080000
END:DAYLIGHT
BEGIN:STANDARD
TZOFFSETFROM:-0500
TZOFFSETTO:-0600
TZNAME:CST
DTSTART:20261101T070000
END:STANDARD
BEGIN:DAYLIGHT
TZOFFSETFROM:-0600
TZOFFSETTO:-0500
TZNAME:CDT
DTSTART:20270314T080000
END:DAYLIGHT
BEGIN:STANDARD
TZOFFSETFROM:-0500
TZOFFSETTO:-0600
TZNAME:CST
DTSTART:20271107T070000
END:STANDARD
END:VTIMEZONE
BEGIN:VEVENT
DTSTART;TZID=America/Chicago:20260110T080000
DTEND;TZID=America/Chicago:20260110T140000
DTSTAMP:20260425T084709
CREATED:20251105T235653Z
LAST-MODIFIED:20260110T122651Z
UID:253850-1768032000-1768053600@hhs328.com
SUMMARY:Wrestling @ QND Varsity Tourney
DESCRIPTION:
URL:https://hhs328.com/event/wrestling-qnd-varsity-tourney-3/
CATEGORIES:West Hancock Titans
ATTACH;FMTTYPE=image/jpeg:https://hhs328.com/wp-content/uploads/2021/01/Hamilton-Logo-3.jpg
END:VEVENT
BEGIN:VEVENT
DTSTART;TZID=America/Chicago:20260110T130000
DTEND;TZID=America/Chicago:20260110T150000
DTSTAMP:20260425T084709
CREATED:20251016T232654Z
LAST-MODIFIED:20260110T122651Z
UID:253576-1768050000-1768057200@hhs328.com
SUMMARY:HSGBB @ Peoria Notre Dame
DESCRIPTION:
URL:https://hhs328.com/event/hsgbb-peoria-notre-dame/
CATEGORIES:West Hancock Titans
ATTACH;FMTTYPE=image/jpeg:https://hhs328.com/wp-content/uploads/2021/01/Hamilton-Logo-3.jpg
END:VEVENT
BEGIN:VEVENT
DTSTART;TZID=America/Chicago:20260112T173000
DTEND;TZID=America/Chicago:20260112T193000
DTSTAMP:20260425T084709
CREATED:20251102T061204Z
LAST-MODIFIED:20260112T125647Z
UID:253722-1768239000-1768246200@hhs328.com
SUMMARY:JH Boys Basketball @ Nauvoo/Colusa
DESCRIPTION:
URL:https://hhs328.com/event/jh-boys-basketball-nauvoo-colusa-2/
CATEGORIES:Cardinal Athletics
ATTACH;FMTTYPE=image/jpeg:https://hhs328.com/wp-content/uploads/2021/01/Hamilton-Logo-3.jpg
END:VEVENT
BEGIN:VEVENT
DTSTART;TZID=America/Chicago:20260112T180000
DTEND;TZID=America/Chicago:20260112T190000
DTSTAMP:20260425T084709
CREATED:20250913T222656Z
LAST-MODIFIED:20260112T122650Z
UID:253207-1768240800-1768244400@hhs328.com
SUMMARY:HSGBB Varsity @ Beardstown
DESCRIPTION:
URL:https://hhs328.com/event/hsgbb-beardstown-2/
CATEGORIES:West Hancock Titans
ATTACH;FMTTYPE=image/jpeg:https://hhs328.com/wp-content/uploads/2021/01/Hamilton-Logo-3.jpg
END:VEVENT
BEGIN:VEVENT
DTSTART;TZID=America/Chicago:20260112T180000
DTEND;TZID=America/Chicago:20260112T200000
DTSTAMP:20260425T084709
CREATED:20251102T061216Z
LAST-MODIFIED:20260112T125647Z
UID:253728-1768240800-1768248000@hhs328.com
SUMMARY:JH Volleyball @ Western
DESCRIPTION:
URL:https://hhs328.com/event/jh-volleyball-western/
CATEGORIES:Cardinal Athletics
ATTACH;FMTTYPE=image/jpeg:https://hhs328.com/wp-content/uploads/2021/01/Hamilton-Logo-3.jpg
END:VEVENT
BEGIN:VEVENT
DTSTART;TZID=America/Chicago:20260112T180000
DTEND;TZID=America/Chicago:20260112T200000
DTSTAMP:20260425T084709
CREATED:20260101T114152Z
LAST-MODIFIED:20260112T125648Z
UID:254339-1768240800-1768248000@hhs328.com
SUMMARY:5/6 Boys Basketball vs Carthage
DESCRIPTION:
URL:https://hhs328.com/event/5-6-boys-basketball-vs-carthage/
CATEGORIES:Cardinal Athletics
ATTACH;FMTTYPE=image/jpeg:https://hhs328.com/wp-content/uploads/2021/01/Hamilton-Logo-3.jpg
END:VEVENT
BEGIN:VEVENT
DTSTART;TZID=America/Chicago:20260113T112400
DTEND;TZID=America/Chicago:20260113T115400
DTSTAMP:20260425T084709
CREATED:20250315T232703Z
LAST-MODIFIED:20260113T101157Z
UID:251611-1768303440-1768305240@hhs328.com
SUMMARY:FFA Meeting
DESCRIPTION:
URL:https://hhs328.com/event/ffa-meeting-240/
CATEGORIES:School Calendar
ATTACH;FMTTYPE=image/jpeg:https://hhs328.com/wp-content/uploads/2021/01/Hamilton-Logo-3.jpg
END:VEVENT
BEGIN:VEVENT
DTSTART;TZID=America/Chicago:20260113T170000
DTEND;TZID=America/Chicago:20260113T210000
DTSTAMP:20260425T084709
CREATED:20251105T235654Z
LAST-MODIFIED:20260113T122657Z
UID:253851-1768323600-1768338000@hhs328.com
SUMMARY:Wrestling @ Monmouth United
DESCRIPTION:
URL:https://hhs328.com/event/wrestling-monmouth-united/
CATEGORIES:West Hancock Titans
ATTACH;FMTTYPE=image/jpeg:https://hhs328.com/wp-content/uploads/2021/01/Hamilton-Logo-3.jpg
END:VEVENT
BEGIN:VEVENT
DTSTART;TZID=America/Chicago:20260113T180000
DTEND;TZID=America/Chicago:20260113T200000
DTSTAMP:20260425T084709
CREATED:20251102T061216Z
LAST-MODIFIED:20260113T125651Z
UID:253729-1768327200-1768334400@hhs328.com
SUMMARY:JH Volleyball @ Southeastern
DESCRIPTION:
URL:https://hhs328.com/event/jh-volleyball-southeastern-2/
CATEGORIES:Cardinal Athletics
ATTACH;FMTTYPE=image/jpeg:https://hhs328.com/wp-content/uploads/2021/01/Hamilton-Logo-3.jpg
END:VEVENT
BEGIN:VEVENT
DTSTART;TZID=America/Chicago:20260113T193000
DTEND;TZID=America/Chicago:20260113T203000
DTSTAMP:20260425T084709
CREATED:20250912T222652Z
LAST-MODIFIED:20260113T122657Z
UID:253199-1768332600-1768336200@hhs328.com
SUMMARY:HSBBB @ Hancock County Invitational  vs Southeastern @ Southeastern
DESCRIPTION:
URL:https://hhs328.com/event/hsbbb-hancock-county-invitational-southeastern/
CATEGORIES:West Hancock Titans
ATTACH;FMTTYPE=image/jpeg:https://hhs328.com/wp-content/uploads/2021/01/Hamilton-Logo-3.jpg
END:VEVENT
BEGIN:VEVENT
DTSTART;TZID=America/Chicago:20260114T180000
DTEND;TZID=America/Chicago:20260114T200000
DTSTAMP:20260425T084709
CREATED:20250913T222656Z
LAST-MODIFIED:20260114T124150Z
UID:253208-1768413600-1768420800@hhs328.com
SUMMARY:HSGBB @ Clark County (Kahoka)
DESCRIPTION:
URL:https://hhs328.com/event/hsgbb-clark-county-kahoka/
CATEGORIES:West Hancock Titans
ATTACH;FMTTYPE=image/jpeg:https://hhs328.com/wp-content/uploads/2021/01/Hamilton-Logo-3.jpg
END:VEVENT
BEGIN:VEVENT
DTSTART;TZID=America/Chicago:20260115T112400
DTEND;TZID=America/Chicago:20260115T115400
DTSTAMP:20260425T084709
CREATED:20250318T232702Z
LAST-MODIFIED:20260115T101157Z
UID:251642-1768476240-1768478040@hhs328.com
SUMMARY:FFA Meeting
DESCRIPTION:
URL:https://hhs328.com/event/ffa-meeting-241/
CATEGORIES:School Calendar
ATTACH;FMTTYPE=image/jpeg:https://hhs328.com/wp-content/uploads/2021/01/Hamilton-Logo-3.jpg
END:VEVENT
BEGIN:VEVENT
DTSTART;TZID=America/Chicago:20260115T160000
DTEND;TZID=America/Chicago:20260115T170000
DTSTAMP:20260425T084709
CREATED:20260109T095650Z
LAST-MODIFIED:20260115T101157Z
UID:254425-1768492800-1768496400@hhs328.com
SUMMARY:Scholastic Bowl @ QND
DESCRIPTION:
URL:https://hhs328.com/event/scholastic-bowl-qnd/
CATEGORIES:School Calendar
ATTACH;FMTTYPE=image/jpeg:https://hhs328.com/wp-content/uploads/2021/01/Hamilton-Logo-3.jpg
END:VEVENT
BEGIN:VEVENT
DTSTART;TZID=America/Chicago:20260115T180000
DTEND;TZID=America/Chicago:20260115T200000
DTSTAMP:20260425T084709
CREATED:20250913T222656Z
LAST-MODIFIED:20260115T125652Z
UID:253209-1768500000-1768507200@hhs328.com
SUMMARY:HSGBB vs West Prairie @ Hamilton
DESCRIPTION:
URL:https://hhs328.com/event/hsgbb-vs-west-prairie-hamilton-2/
CATEGORIES:West Hancock Titans
ATTACH;FMTTYPE=image/jpeg:https://hhs328.com/wp-content/uploads/2021/01/Hamilton-Logo-3.jpg
END:VEVENT
BEGIN:VEVENT
DTSTART;TZID=America/Chicago:20260115T180000
DTEND;TZID=America/Chicago:20260115T200000
DTSTAMP:20260425T084709
CREATED:20251102T061216Z
LAST-MODIFIED:20260115T131200Z
UID:253730-1768500000-1768507200@hhs328.com
SUMMARY:JH Boys Basketbal vs Seymour
DESCRIPTION:
URL:https://hhs328.com/event/jh-boys-basketbal-vs-seymour/
CATEGORIES:Cardinal Athletics
ATTACH;FMTTYPE=image/jpeg:https://hhs328.com/wp-content/uploads/2021/01/Hamilton-Logo-3.jpg
END:VEVENT
BEGIN:VEVENT
DTSTART;VALUE=DATE:20260116
DTEND;VALUE=DATE:20260118
DTSTAMP:20260425T084709
CREATED:20250913T222657Z
LAST-MODIFIED:20260117T125651Z
UID:253210-1768521600-1768694399@hhs328.com
SUMMARY:Wrestling @ QHS Varsity Tourney
DESCRIPTION:
URL:https://hhs328.com/event/wrestling-qhs-varsity-tourney-3/
CATEGORIES:West Hancock Titans
ATTACH;FMTTYPE=image/jpeg:https://hhs328.com/wp-content/uploads/2021/01/Hamilton-Logo-3.jpg
END:VEVENT
BEGIN:VEVENT
DTSTART;TZID=America/Chicago:20260116T180000
DTEND;TZID=America/Chicago:20260116T190000
DTSTAMP:20260425T084709
CREATED:20251104T235653Z
LAST-MODIFIED:20260116T125700Z
UID:253834-1768586400-1768590000@hhs328.com
SUMMARY:HSBBB @ Hancock County Invitational vs Unity @ Southeastern
DESCRIPTION:
URL:https://hhs328.com/event/hsbbb-hancock-county-invitational-vs-unity-southeastern/
CATEGORIES:West Hancock Titans
ATTACH;FMTTYPE=image/jpeg:https://hhs328.com/wp-content/uploads/2021/01/Hamilton-Logo-3.jpg
END:VEVENT
BEGIN:VEVENT
DTSTART;TZID=America/Chicago:20260117T090000
DTEND;TZID=America/Chicago:20260117T100000
DTSTAMP:20260425T084709
CREATED:20260109T122659Z
LAST-MODIFIED:20260117T125651Z
UID:254431-1768640400-1768644000@hhs328.com
SUMMARY:HSBBB Freshmen @ Illini West
DESCRIPTION:
URL:https://hhs328.com/event/hsbbb-freshmen-illini-west-3/
CATEGORIES:West Hancock Titans
ATTACH;FMTTYPE=image/jpeg:https://hhs328.com/wp-content/uploads/2021/01/Hamilton-Logo-3.jpg
END:VEVENT
BEGIN:VEVENT
DTSTART;TZID=America/Chicago:20260117T180000
DTEND;TZID=America/Chicago:20260117T190000
DTSTAMP:20260425T084709
CREATED:20251104T235653Z
LAST-MODIFIED:20260117T125651Z
UID:253835-1768672800-1768676400@hhs328.com
SUMMARY:HSBBB @ Hancock County Invitational vs IW @ Southeastern
DESCRIPTION:
URL:https://hhs328.com/event/hsbbb-hancock-county-invitational-vs-iw-southeastern/
CATEGORIES:West Hancock Titans
ATTACH;FMTTYPE=image/jpeg:https://hhs328.com/wp-content/uploads/2021/01/Hamilton-Logo-3.jpg
END:VEVENT
BEGIN:VEVENT
DTSTART;VALUE=DATE:20260119
DTEND;VALUE=DATE:20260120
DTSTAMP:20260425T084709
CREATED:20250708T192651Z
LAST-MODIFIED:20260119T114149Z
UID:252641-1768780800-1768867199@hhs328.com
SUMMARY:Dr. Martin Luther King\, Jr. Day - No school
DESCRIPTION:
URL:https://hhs328.com/event/dr-martin-luther-king-jr-day-no-school/
CATEGORIES:District Calendar
ATTACH;FMTTYPE=image/jpeg:https://hhs328.com/wp-content/uploads/2021/01/Hamilton-Logo-3.jpg
END:VEVENT
BEGIN:VEVENT
DTSTART;TZID=America/Chicago:20260119T153000
DTEND;TZID=America/Chicago:20260119T163000
DTSTAMP:20260425T084709
CREATED:20250917T224155Z
LAST-MODIFIED:20260119T125702Z
UID:253242-1768836600-1768840200@hhs328.com
SUMMARY:HSGBB @ Jerry Logan Shootout vs Moline (Illini West)
DESCRIPTION:
URL:https://hhs328.com/event/hsgbb-jerry-logan-shootout-vs-moline-illini-west/
CATEGORIES:West Hancock Titans
ATTACH;FMTTYPE=image/jpeg:https://hhs328.com/wp-content/uploads/2021/01/Hamilton-Logo-3.jpg
END:VEVENT
BEGIN:VEVENT
DTSTART;TZID=America/Chicago:20260119T180000
DTEND;TZID=America/Chicago:20260119T210000
DTSTAMP:20260425T084709
CREATED:20250916T222656Z
LAST-MODIFIED:20260119T125702Z
UID:253235-1768845600-1768856400@hhs328.com
SUMMARY:Wrestling @ Pittsfield
DESCRIPTION:
URL:https://hhs328.com/event/wrestling-qnd-2/
CATEGORIES:West Hancock Titans
ATTACH;FMTTYPE=image/jpeg:https://hhs328.com/wp-content/uploads/2021/01/Hamilton-Logo-3.jpg
END:VEVENT
BEGIN:VEVENT
DTSTART;TZID=America/Chicago:20260120T112400
DTEND;TZID=America/Chicago:20260120T115400
DTSTAMP:20260425T084709
CREATED:20250326T094159Z
LAST-MODIFIED:20260120T101151Z
UID:251687-1768908240-1768910040@hhs328.com
SUMMARY:FFA Meeting
DESCRIPTION:
URL:https://hhs328.com/event/ffa-meeting-242/
CATEGORIES:School Calendar
ATTACH;FMTTYPE=image/jpeg:https://hhs328.com/wp-content/uploads/2021/01/Hamilton-Logo-3.jpg
END:VEVENT
BEGIN:VEVENT
DTSTART;TZID=America/Chicago:20260120T173000
DTEND;TZID=America/Chicago:20260120T183000
DTSTAMP:20260425T084709
CREATED:20260108T122651Z
LAST-MODIFIED:20260120T132649Z
UID:254406-1768930200-1768933800@hhs328.com
SUMMARY:5/6 Volleyball @ Dallas City
DESCRIPTION:
URL:https://hhs328.com/event/5-6-volleyball-dallas-city-3/
CATEGORIES:Cardinal Athletics
ATTACH;FMTTYPE=image/jpeg:https://hhs328.com/wp-content/uploads/2021/01/Hamilton-Logo-3.jpg
END:VEVENT
BEGIN:VEVENT
DTSTART;TZID=America/Chicago:20260120T173000
DTEND;TZID=America/Chicago:20260120T193000
DTSTAMP:20260425T084709
CREATED:20251102T061216Z
LAST-MODIFIED:20260120T132649Z
UID:253731-1768930200-1768937400@hhs328.com
SUMMARY:JH Volleyball vs Liberty
DESCRIPTION:
URL:https://hhs328.com/event/jh-volleyball-vs-liberty-2/
CATEGORIES:Cardinal Athletics
ATTACH;FMTTYPE=image/jpeg:https://hhs328.com/wp-content/uploads/2021/01/Hamilton-Logo-3.jpg
END:VEVENT
BEGIN:VEVENT
DTSTART;TZID=America/Chicago:20260120T180000
DTEND;TZID=America/Chicago:20260120T200000
DTSTAMP:20260425T084709
CREATED:20250917T224155Z
LAST-MODIFIED:20260120T125700Z
UID:253243-1768932000-1768939200@hhs328.com
SUMMARY:Wrestling @ Camp Point
DESCRIPTION:
URL:https://hhs328.com/event/wrestling-camp-point-3/
CATEGORIES:West Hancock Titans
ATTACH;FMTTYPE=image/jpeg:https://hhs328.com/wp-content/uploads/2021/01/Hamilton-Logo-3.jpg
END:VEVENT
BEGIN:VEVENT
DTSTART;TZID=America/Chicago:20260120T180000
DTEND;TZID=America/Chicago:20260120T200000
DTSTAMP:20260425T084709
CREATED:20250918T225659Z
LAST-MODIFIED:20260120T125700Z
UID:253253-1768932000-1768939200@hhs328.com
SUMMARY:HSBBB vs Unity @ Warsaw
DESCRIPTION:
URL:https://hhs328.com/event/hsbbb-unity/
CATEGORIES:West Hancock Titans
ATTACH;FMTTYPE=image/jpeg:https://hhs328.com/wp-content/uploads/2021/01/Hamilton-Logo-3.jpg
END:VEVENT
BEGIN:VEVENT
DTSTART;TZID=America/Chicago:20260121T180000
DTEND;TZID=America/Chicago:20260121T190000
DTSTAMP:20260425T084709
CREATED:20250918T225659Z
LAST-MODIFIED:20260121T131155Z
UID:253255-1769018400-1769022000@hhs328.com
SUMMARY:HSBBB Freshmen vs Macomb @ Warsaw
DESCRIPTION:
URL:https://hhs328.com/event/hsbbb-freshmen-vs-macomb-warsaw-2/
CATEGORIES:West Hancock Titans
ATTACH;FMTTYPE=image/jpeg:https://hhs328.com/wp-content/uploads/2021/01/Hamilton-Logo-3.jpg
END:VEVENT
BEGIN:VEVENT
DTSTART;TZID=America/Chicago:20260121T180000
DTEND;TZID=America/Chicago:20260121T190000
DTSTAMP:20260425T084709
CREATED:20260108T122651Z
LAST-MODIFIED:20260121T132653Z
UID:254407-1769018400-1769022000@hhs328.com
SUMMARY:5/6 Volleyball @ West Prairie (Good Hope)
DESCRIPTION:
URL:https://hhs328.com/event/5-6-volleyball-vs-west-prairie-2/
CATEGORIES:Cardinal Athletics
ATTACH;FMTTYPE=image/jpeg:https://hhs328.com/wp-content/uploads/2021/01/Hamilton-Logo-3.jpg
END:VEVENT
BEGIN:VEVENT
DTSTART;TZID=America/Chicago:20260121T180000
DTEND;TZID=America/Chicago:20260121T200000
DTSTAMP:20260425T084709
CREATED:20260101T114152Z
LAST-MODIFIED:20260121T132653Z
UID:254340-1769018400-1769025600@hhs328.com
SUMMARY:5/6 Boys Basketball vs West Prairie
DESCRIPTION:
URL:https://hhs328.com/event/5-6-boys-basketball-vs-west-prairie-3/
CATEGORIES:Cardinal Athletics
ATTACH;FMTTYPE=image/jpeg:https://hhs328.com/wp-content/uploads/2021/01/Hamilton-Logo-3.jpg
END:VEVENT
END:VCALENDAR