BEGIN:VCALENDAR
VERSION:2.0
PRODID:-//Hamilton Schools District 328 - ECPv6.15.12.2//NONSGML v1.0//EN
CALSCALE:GREGORIAN
METHOD:PUBLISH
X-ORIGINAL-URL:https://hhs328.com
X-WR-CALDESC:Events for Hamilton Schools District 328
REFRESH-INTERVAL;VALUE=DURATION:PT1H
X-Robots-Tag:noindex
X-PUBLISHED-TTL:PT1H
BEGIN:VTIMEZONE
TZID:America/Chicago
BEGIN:DAYLIGHT
TZOFFSETFROM:-0600
TZOFFSETTO:-0500
TZNAME:CDT
DTSTART:20250309T080000
END:DAYLIGHT
BEGIN:STANDARD
TZOFFSETFROM:-0500
TZOFFSETTO:-0600
TZNAME:CST
DTSTART:20251102T070000
END:STANDARD
BEGIN:DAYLIGHT
TZOFFSETFROM:-0600
TZOFFSETTO:-0500
TZNAME:CDT
DTSTART:20260308T080000
END:DAYLIGHT
BEGIN:STANDARD
TZOFFSETFROM:-0500
TZOFFSETTO:-0600
TZNAME:CST
DTSTART:20261101T070000
END:STANDARD
BEGIN:DAYLIGHT
TZOFFSETFROM:-0600
TZOFFSETTO:-0500
TZNAME:CDT
DTSTART:20270314T080000
END:DAYLIGHT
BEGIN:STANDARD
TZOFFSETFROM:-0500
TZOFFSETTO:-0600
TZNAME:CST
DTSTART:20271107T070000
END:STANDARD
BEGIN:DAYLIGHT
TZOFFSETFROM:-0600
TZOFFSETTO:-0500
TZNAME:CDT
DTSTART:20280312T080000
END:DAYLIGHT
BEGIN:STANDARD
TZOFFSETFROM:-0500
TZOFFSETTO:-0600
TZNAME:CST
DTSTART:20281105T070000
END:STANDARD
END:VTIMEZONE
BEGIN:VEVENT
DTSTART;TZID=America/Chicago:20261110T112400
DTEND;TZID=America/Chicago:20261110T115400
DTSTAMP:20260424T085237
CREATED:20260225T165703Z
LAST-MODIFIED:20260423T231154Z
UID:254899-1794309840-1794311640@hhs328.com
SUMMARY:FFA Meeting
DESCRIPTION:
URL:https://hhs328.com/event/ffa-meeting-326/
CATEGORIES:School Calendar
ATTACH;FMTTYPE=image/jpeg:https://hhs328.com/wp-content/uploads/2021/01/Hamilton-Logo-3.jpg
END:VEVENT
BEGIN:VEVENT
DTSTART;TZID=America/Chicago:20261112T112400
DTEND;TZID=America/Chicago:20261112T115400
DTSTAMP:20260424T085237
CREATED:20260227T165658Z
LAST-MODIFIED:20260423T231154Z
UID:254917-1794482640-1794484440@hhs328.com
SUMMARY:FFA Meeting
DESCRIPTION:
URL:https://hhs328.com/event/ffa-meeting-327/
CATEGORIES:School Calendar
ATTACH;FMTTYPE=image/jpeg:https://hhs328.com/wp-content/uploads/2021/01/Hamilton-Logo-3.jpg
END:VEVENT
BEGIN:VEVENT
DTSTART;TZID=America/Chicago:20261117T112400
DTEND;TZID=America/Chicago:20261117T115400
DTSTAMP:20260424T085237
CREATED:20260228T165654Z
LAST-MODIFIED:20260423T231154Z
UID:254924-1794914640-1794916440@hhs328.com
SUMMARY:FFA Meeting
DESCRIPTION:
URL:https://hhs328.com/event/ffa-meeting-328/
CATEGORIES:School Calendar
ATTACH;FMTTYPE=image/jpeg:https://hhs328.com/wp-content/uploads/2021/01/Hamilton-Logo-3.jpg
END:VEVENT
BEGIN:VEVENT
DTSTART;TZID=America/Chicago:20261118T183000
DTEND;TZID=America/Chicago:20261118T203000
DTSTAMP:20260424T085237
CREATED:20241119T154152Z
LAST-MODIFIED:20260423T202705Z
UID:250565-1795026600-1795033800@hhs328.com
SUMMARY:Board Meeting
DESCRIPTION:
URL:https://hhs328.com/event/board-meeting-40/
CATEGORIES:District Calendar
ATTACH;FMTTYPE=image/jpeg:https://hhs328.com/wp-content/uploads/2021/01/Hamilton-Logo-3.jpg
END:VEVENT
BEGIN:VEVENT
DTSTART;TZID=America/Chicago:20261119T112400
DTEND;TZID=America/Chicago:20261119T115400
DTSTAMP:20260424T085237
CREATED:20260301T165656Z
LAST-MODIFIED:20260423T231154Z
UID:254931-1795087440-1795089240@hhs328.com
SUMMARY:FFA Meeting
DESCRIPTION:
URL:https://hhs328.com/event/ffa-meeting-329/
CATEGORIES:School Calendar
ATTACH;FMTTYPE=image/jpeg:https://hhs328.com/wp-content/uploads/2021/01/Hamilton-Logo-3.jpg
END:VEVENT
BEGIN:VEVENT
DTSTART;TZID=America/Chicago:20261124T112400
DTEND;TZID=America/Chicago:20261124T115400
DTSTAMP:20260424T085237
CREATED:20260301T165656Z
LAST-MODIFIED:20260423T231154Z
UID:254932-1795519440-1795521240@hhs328.com
SUMMARY:FFA Meeting
DESCRIPTION:
URL:https://hhs328.com/event/ffa-meeting-330/
CATEGORIES:School Calendar
ATTACH;FMTTYPE=image/jpeg:https://hhs328.com/wp-content/uploads/2021/01/Hamilton-Logo-3.jpg
END:VEVENT
BEGIN:VEVENT
DTSTART;TZID=America/Chicago:20261126T112400
DTEND;TZID=America/Chicago:20261126T115400
DTSTAMP:20260424T085237
CREATED:20260304T165706Z
LAST-MODIFIED:20260423T231155Z
UID:254952-1795692240-1795694040@hhs328.com
SUMMARY:FFA Meeting
DESCRIPTION:
URL:https://hhs328.com/event/ffa-meeting-331/
CATEGORIES:School Calendar
ATTACH;FMTTYPE=image/jpeg:https://hhs328.com/wp-content/uploads/2021/01/Hamilton-Logo-3.jpg
END:VEVENT
BEGIN:VEVENT
DTSTART;TZID=America/Chicago:20261201T112400
DTEND;TZID=America/Chicago:20261201T115400
DTSTAMP:20260424T085237
CREATED:20260305T165658Z
LAST-MODIFIED:20260423T231155Z
UID:254966-1796124240-1796126040@hhs328.com
SUMMARY:FFA Meeting
DESCRIPTION:
URL:https://hhs328.com/event/ffa-meeting-332/
CATEGORIES:School Calendar
ATTACH;FMTTYPE=image/jpeg:https://hhs328.com/wp-content/uploads/2021/01/Hamilton-Logo-3.jpg
END:VEVENT
BEGIN:VEVENT
DTSTART;TZID=America/Chicago:20261202T112400
DTEND;TZID=America/Chicago:20261202T115400
DTSTAMP:20260424T085237
CREATED:20260305T165658Z
LAST-MODIFIED:20260423T231155Z
UID:254967-1796210640-1796212440@hhs328.com
SUMMARY:NHS Meeting
DESCRIPTION:
URL:https://hhs328.com/event/nhs-meeting-44/
CATEGORIES:School Calendar
ATTACH;FMTTYPE=image/jpeg:https://hhs328.com/wp-content/uploads/2021/01/Hamilton-Logo-3.jpg
END:VEVENT
BEGIN:VEVENT
DTSTART;TZID=America/Chicago:20261203T112400
DTEND;TZID=America/Chicago:20261203T115400
DTSTAMP:20260424T085237
CREATED:20260305T165659Z
LAST-MODIFIED:20260423T231155Z
UID:254968-1796297040-1796298840@hhs328.com
SUMMARY:FFA Meeting
DESCRIPTION:
URL:https://hhs328.com/event/ffa-meeting-333/
CATEGORIES:School Calendar
ATTACH;FMTTYPE=image/jpeg:https://hhs328.com/wp-content/uploads/2021/01/Hamilton-Logo-3.jpg
END:VEVENT
BEGIN:VEVENT
DTSTART;TZID=America/Chicago:20261207T170000
DTEND;TZID=America/Chicago:20261207T180000
DTSTAMP:20260424T085237
CREATED:20251003T221150Z
LAST-MODIFIED:20260423T202705Z
UID:253423-1796662800-1796666400@hhs328.com
SUMMARY:Music Boosters Meeting @ Elementary Band Room
DESCRIPTION:
URL:https://hhs328.com/event/music-boosters-meeting-elementary-band-room-15/
CATEGORIES:District Calendar
ATTACH;FMTTYPE=image/jpeg:https://hhs328.com/wp-content/uploads/2021/01/Hamilton-Logo-3.jpg
END:VEVENT
BEGIN:VEVENT
DTSTART;TZID=America/Chicago:20261208T112400
DTEND;TZID=America/Chicago:20261208T115400
DTSTAMP:20260424T085237
CREATED:20260306T165724Z
LAST-MODIFIED:20260423T231155Z
UID:254984-1796729040-1796730840@hhs328.com
SUMMARY:FFA Meeting
DESCRIPTION:
URL:https://hhs328.com/event/ffa-meeting-334/
CATEGORIES:School Calendar
ATTACH;FMTTYPE=image/jpeg:https://hhs328.com/wp-content/uploads/2021/01/Hamilton-Logo-3.jpg
END:VEVENT
BEGIN:VEVENT
DTSTART;TZID=America/Chicago:20261210T112400
DTEND;TZID=America/Chicago:20261210T115400
DTSTAMP:20260424T085237
CREATED:20260306T165724Z
LAST-MODIFIED:20260423T231155Z
UID:254985-1796901840-1796903640@hhs328.com
SUMMARY:FFA Meeting
DESCRIPTION:
URL:https://hhs328.com/event/ffa-meeting-335/
CATEGORIES:School Calendar
ATTACH;FMTTYPE=image/jpeg:https://hhs328.com/wp-content/uploads/2021/01/Hamilton-Logo-3.jpg
END:VEVENT
BEGIN:VEVENT
DTSTART;TZID=America/Chicago:20261215T112400
DTEND;TZID=America/Chicago:20261215T115400
DTSTAMP:20260424T085237
CREATED:20260307T171154Z
LAST-MODIFIED:20260423T231155Z
UID:254994-1797333840-1797335640@hhs328.com
SUMMARY:FFA Meeting
DESCRIPTION:
URL:https://hhs328.com/event/ffa-meeting-336/
CATEGORIES:School Calendar
ATTACH;FMTTYPE=image/jpeg:https://hhs328.com/wp-content/uploads/2021/01/Hamilton-Logo-3.jpg
END:VEVENT
BEGIN:VEVENT
DTSTART;TZID=America/Chicago:20261216T183000
DTEND;TZID=America/Chicago:20261216T203000
DTSTAMP:20260424T085237
CREATED:20241217T171154Z
LAST-MODIFIED:20260423T202705Z
UID:250820-1797445800-1797453000@hhs328.com
SUMMARY:Board Meeting
DESCRIPTION:
URL:https://hhs328.com/event/board-meeting-41/
CATEGORIES:District Calendar
ATTACH;FMTTYPE=image/jpeg:https://hhs328.com/wp-content/uploads/2021/01/Hamilton-Logo-3.jpg
END:VEVENT
BEGIN:VEVENT
DTSTART;TZID=America/Chicago:20261217T112400
DTEND;TZID=America/Chicago:20261217T115400
DTSTAMP:20260424T085237
CREATED:20260308T171155Z
LAST-MODIFIED:20260423T231155Z
UID:255002-1797506640-1797508440@hhs328.com
SUMMARY:FFA Meeting
DESCRIPTION:
URL:https://hhs328.com/event/ffa-meeting-337/
CATEGORIES:School Calendar
ATTACH;FMTTYPE=image/jpeg:https://hhs328.com/wp-content/uploads/2021/01/Hamilton-Logo-3.jpg
END:VEVENT
BEGIN:VEVENT
DTSTART;TZID=America/Chicago:20261222T112400
DTEND;TZID=America/Chicago:20261222T115400
DTSTAMP:20260424T085237
CREATED:20260312T171156Z
LAST-MODIFIED:20260423T231155Z
UID:255046-1797938640-1797940440@hhs328.com
SUMMARY:FFA Meeting
DESCRIPTION:
URL:https://hhs328.com/event/ffa-meeting-338/
CATEGORIES:School Calendar
ATTACH;FMTTYPE=image/jpeg:https://hhs328.com/wp-content/uploads/2021/01/Hamilton-Logo-3.jpg
END:VEVENT
BEGIN:VEVENT
DTSTART;TZID=America/Chicago:20261224T112400
DTEND;TZID=America/Chicago:20261224T115400
DTSTAMP:20260424T085237
CREATED:20260312T171156Z
LAST-MODIFIED:20260423T231155Z
UID:255047-1798111440-1798113240@hhs328.com
SUMMARY:FFA Meeting
DESCRIPTION:
URL:https://hhs328.com/event/ffa-meeting-339/
CATEGORIES:School Calendar
ATTACH;FMTTYPE=image/jpeg:https://hhs328.com/wp-content/uploads/2021/01/Hamilton-Logo-3.jpg
END:VEVENT
BEGIN:VEVENT
DTSTART;TZID=America/Chicago:20261229T112400
DTEND;TZID=America/Chicago:20261229T115400
DTSTAMP:20260424T085237
CREATED:20260313T171155Z
LAST-MODIFIED:20260423T231155Z
UID:255059-1798543440-1798545240@hhs328.com
SUMMARY:FFA Meeting
DESCRIPTION:
URL:https://hhs328.com/event/ffa-meeting-340/
CATEGORIES:School Calendar
ATTACH;FMTTYPE=image/jpeg:https://hhs328.com/wp-content/uploads/2021/01/Hamilton-Logo-3.jpg
END:VEVENT
BEGIN:VEVENT
DTSTART;TZID=America/Chicago:20261231T112400
DTEND;TZID=America/Chicago:20261231T115400
DTSTAMP:20260424T085237
CREATED:20260317T171154Z
LAST-MODIFIED:20260423T231155Z
UID:255091-1798716240-1798718040@hhs328.com
SUMMARY:FFA Meeting
DESCRIPTION:
URL:https://hhs328.com/event/ffa-meeting-341/
CATEGORIES:School Calendar
ATTACH;FMTTYPE=image/jpeg:https://hhs328.com/wp-content/uploads/2021/01/Hamilton-Logo-3.jpg
END:VEVENT
BEGIN:VEVENT
DTSTART;TZID=America/Chicago:20270104T170000
DTEND;TZID=America/Chicago:20270104T180000
DTSTAMP:20260424T085237
CREATED:20251003T221150Z
LAST-MODIFIED:20260423T202705Z
UID:253424-1799082000-1799085600@hhs328.com
SUMMARY:Music Boosters Meeting @ Elementary Band Room
DESCRIPTION:
URL:https://hhs328.com/event/music-boosters-meeting-elementary-band-room-16/
CATEGORIES:District Calendar
ATTACH;FMTTYPE=image/jpeg:https://hhs328.com/wp-content/uploads/2021/01/Hamilton-Logo-3.jpg
END:VEVENT
BEGIN:VEVENT
DTSTART;TZID=America/Chicago:20270105T112400
DTEND;TZID=America/Chicago:20270105T115400
DTSTAMP:20260424T085237
CREATED:20260319T172753Z
LAST-MODIFIED:20260423T231155Z
UID:255108-1799148240-1799150040@hhs328.com
SUMMARY:FFA Meeting
DESCRIPTION:
URL:https://hhs328.com/event/ffa-meeting-342/
CATEGORIES:School Calendar
ATTACH;FMTTYPE=image/jpeg:https://hhs328.com/wp-content/uploads/2021/01/Hamilton-Logo-3.jpg
END:VEVENT
BEGIN:VEVENT
DTSTART;TZID=America/Chicago:20270106T112400
DTEND;TZID=America/Chicago:20270106T115400
DTSTAMP:20260424T085237
CREATED:20260324T174158Z
LAST-MODIFIED:20260423T231155Z
UID:255142-1799234640-1799236440@hhs328.com
SUMMARY:NHS Meeting
DESCRIPTION:
URL:https://hhs328.com/event/nhs-meeting-45/
CATEGORIES:School Calendar
ATTACH;FMTTYPE=image/jpeg:https://hhs328.com/wp-content/uploads/2021/01/Hamilton-Logo-3.jpg
END:VEVENT
BEGIN:VEVENT
DTSTART;TZID=America/Chicago:20270107T112400
DTEND;TZID=America/Chicago:20270107T115400
DTSTAMP:20260424T085237
CREATED:20260324T174158Z
LAST-MODIFIED:20260423T231156Z
UID:255143-1799321040-1799322840@hhs328.com
SUMMARY:FFA Meeting
DESCRIPTION:
URL:https://hhs328.com/event/ffa-meeting-343/
CATEGORIES:School Calendar
ATTACH;FMTTYPE=image/jpeg:https://hhs328.com/wp-content/uploads/2021/01/Hamilton-Logo-3.jpg
END:VEVENT
BEGIN:VEVENT
DTSTART;TZID=America/Chicago:20270112T112400
DTEND;TZID=America/Chicago:20270112T115400
DTSTAMP:20260424T085237
CREATED:20260327T175659Z
LAST-MODIFIED:20260423T231156Z
UID:255171-1799753040-1799754840@hhs328.com
SUMMARY:FFA Meeting
DESCRIPTION:
URL:https://hhs328.com/event/ffa-meeting-344/
CATEGORIES:School Calendar
ATTACH;FMTTYPE=image/jpeg:https://hhs328.com/wp-content/uploads/2021/01/Hamilton-Logo-3.jpg
END:VEVENT
BEGIN:VEVENT
DTSTART;TZID=America/Chicago:20270114T112400
DTEND;TZID=America/Chicago:20270114T115400
DTSTAMP:20260424T085237
CREATED:20260327T175659Z
LAST-MODIFIED:20260423T231156Z
UID:255172-1799925840-1799927640@hhs328.com
SUMMARY:FFA Meeting
DESCRIPTION:
URL:https://hhs328.com/event/ffa-meeting-345/
CATEGORIES:School Calendar
ATTACH;FMTTYPE=image/jpeg:https://hhs328.com/wp-content/uploads/2021/01/Hamilton-Logo-3.jpg
END:VEVENT
BEGIN:VEVENT
DTSTART;TZID=America/Chicago:20270119T112400
DTEND;TZID=America/Chicago:20270119T115400
DTSTAMP:20260424T085237
CREATED:20260417T212752Z
LAST-MODIFIED:20260423T231156Z
UID:255302-1800357840-1800359640@hhs328.com
SUMMARY:FFA Meeting
DESCRIPTION:
URL:https://hhs328.com/event/ffa-meeting-346/
CATEGORIES:School Calendar
ATTACH;FMTTYPE=image/jpeg:https://hhs328.com/wp-content/uploads/2021/01/Hamilton-Logo-3.jpg
END:VEVENT
BEGIN:VEVENT
DTSTART;TZID=America/Chicago:20270120T183000
DTEND;TZID=America/Chicago:20270120T203000
DTSTAMP:20260424T085237
CREATED:20250121T181149Z
LAST-MODIFIED:20260423T202705Z
UID:251057-1800469800-1800477000@hhs328.com
SUMMARY:Board Meeting
DESCRIPTION:
URL:https://hhs328.com/event/board-meeting-42/
CATEGORIES:District Calendar
ATTACH;FMTTYPE=image/jpeg:https://hhs328.com/wp-content/uploads/2021/01/Hamilton-Logo-3.jpg
END:VEVENT
BEGIN:VEVENT
DTSTART;TZID=America/Chicago:20270121T112400
DTEND;TZID=America/Chicago:20270121T115400
DTSTAMP:20260424T085237
CREATED:20260417T212752Z
LAST-MODIFIED:20260423T231156Z
UID:255303-1800530640-1800532440@hhs328.com
SUMMARY:FFA Meeting
DESCRIPTION:
URL:https://hhs328.com/event/ffa-meeting-347/
CATEGORIES:School Calendar
ATTACH;FMTTYPE=image/jpeg:https://hhs328.com/wp-content/uploads/2021/01/Hamilton-Logo-3.jpg
END:VEVENT
BEGIN:VEVENT
DTSTART;TZID=America/Chicago:20270126T112400
DTEND;TZID=America/Chicago:20270126T115400
DTSTAMP:20260424T085237
CREATED:20260417T212753Z
LAST-MODIFIED:20260423T231156Z
UID:255304-1800962640-1800964440@hhs328.com
SUMMARY:FFA Meeting
DESCRIPTION:
URL:https://hhs328.com/event/ffa-meeting-348/
CATEGORIES:School Calendar
ATTACH;FMTTYPE=image/jpeg:https://hhs328.com/wp-content/uploads/2021/01/Hamilton-Logo-3.jpg
END:VEVENT
END:VCALENDAR