BEGIN:VCALENDAR
VERSION:2.0
PRODID:-//Hamilton Schools District 328 - ECPv6.15.12.2//NONSGML v1.0//EN
CALSCALE:GREGORIAN
METHOD:PUBLISH
X-WR-CALNAME:Hamilton Schools District 328
X-ORIGINAL-URL:https://hhs328.com
X-WR-CALDESC:Events for Hamilton Schools District 328
REFRESH-INTERVAL;VALUE=DURATION:PT1H
X-Robots-Tag:noindex
X-PUBLISHED-TTL:PT1H
BEGIN:VTIMEZONE
TZID:America/Chicago
BEGIN:DAYLIGHT
TZOFFSETFROM:-0600
TZOFFSETTO:-0500
TZNAME:CDT
DTSTART:20250309T080000
END:DAYLIGHT
BEGIN:STANDARD
TZOFFSETFROM:-0500
TZOFFSETTO:-0600
TZNAME:CST
DTSTART:20251102T070000
END:STANDARD
BEGIN:DAYLIGHT
TZOFFSETFROM:-0600
TZOFFSETTO:-0500
TZNAME:CDT
DTSTART:20260308T080000
END:DAYLIGHT
BEGIN:STANDARD
TZOFFSETFROM:-0500
TZOFFSETTO:-0600
TZNAME:CST
DTSTART:20261101T070000
END:STANDARD
BEGIN:DAYLIGHT
TZOFFSETFROM:-0600
TZOFFSETTO:-0500
TZNAME:CDT
DTSTART:20270314T080000
END:DAYLIGHT
BEGIN:STANDARD
TZOFFSETFROM:-0500
TZOFFSETTO:-0600
TZNAME:CST
DTSTART:20271107T070000
END:STANDARD
END:VTIMEZONE
BEGIN:VEVENT
DTSTART;TZID=America/Chicago:20260120T112400
DTEND;TZID=America/Chicago:20260120T115400
DTSTAMP:20260425T065811
CREATED:20250326T094159Z
LAST-MODIFIED:20260120T101151Z
UID:251687-1768908240-1768910040@hhs328.com
SUMMARY:FFA Meeting
DESCRIPTION:
URL:https://hhs328.com/event/ffa-meeting-242/
CATEGORIES:School Calendar
ATTACH;FMTTYPE=image/jpeg:https://hhs328.com/wp-content/uploads/2021/01/Hamilton-Logo-3.jpg
END:VEVENT
BEGIN:VEVENT
DTSTART;TZID=America/Chicago:20260120T173000
DTEND;TZID=America/Chicago:20260120T183000
DTSTAMP:20260425T065812
CREATED:20260108T122651Z
LAST-MODIFIED:20260120T132649Z
UID:254406-1768930200-1768933800@hhs328.com
SUMMARY:5/6 Volleyball @ Dallas City
DESCRIPTION:
URL:https://hhs328.com/event/5-6-volleyball-dallas-city-3/
CATEGORIES:Cardinal Athletics
ATTACH;FMTTYPE=image/jpeg:https://hhs328.com/wp-content/uploads/2021/01/Hamilton-Logo-3.jpg
END:VEVENT
BEGIN:VEVENT
DTSTART;TZID=America/Chicago:20260120T173000
DTEND;TZID=America/Chicago:20260120T193000
DTSTAMP:20260425T065812
CREATED:20251102T061216Z
LAST-MODIFIED:20260120T132649Z
UID:253731-1768930200-1768937400@hhs328.com
SUMMARY:JH Volleyball vs Liberty
DESCRIPTION:
URL:https://hhs328.com/event/jh-volleyball-vs-liberty-2/
CATEGORIES:Cardinal Athletics
ATTACH;FMTTYPE=image/jpeg:https://hhs328.com/wp-content/uploads/2021/01/Hamilton-Logo-3.jpg
END:VEVENT
BEGIN:VEVENT
DTSTART;TZID=America/Chicago:20260120T180000
DTEND;TZID=America/Chicago:20260120T200000
DTSTAMP:20260425T065812
CREATED:20250917T224155Z
LAST-MODIFIED:20260120T125700Z
UID:253243-1768932000-1768939200@hhs328.com
SUMMARY:Wrestling @ Camp Point
DESCRIPTION:
URL:https://hhs328.com/event/wrestling-camp-point-3/
CATEGORIES:West Hancock Titans
ATTACH;FMTTYPE=image/jpeg:https://hhs328.com/wp-content/uploads/2021/01/Hamilton-Logo-3.jpg
END:VEVENT
BEGIN:VEVENT
DTSTART;TZID=America/Chicago:20260120T180000
DTEND;TZID=America/Chicago:20260120T200000
DTSTAMP:20260425T065812
CREATED:20250918T225659Z
LAST-MODIFIED:20260120T125700Z
UID:253253-1768932000-1768939200@hhs328.com
SUMMARY:HSBBB vs Unity @ Warsaw
DESCRIPTION:
URL:https://hhs328.com/event/hsbbb-unity/
CATEGORIES:West Hancock Titans
ATTACH;FMTTYPE=image/jpeg:https://hhs328.com/wp-content/uploads/2021/01/Hamilton-Logo-3.jpg
END:VEVENT
BEGIN:VEVENT
DTSTART;TZID=America/Chicago:20260121T180000
DTEND;TZID=America/Chicago:20260121T190000
DTSTAMP:20260425T065812
CREATED:20250918T225659Z
LAST-MODIFIED:20260121T131155Z
UID:253255-1769018400-1769022000@hhs328.com
SUMMARY:HSBBB Freshmen vs Macomb @ Warsaw
DESCRIPTION:
URL:https://hhs328.com/event/hsbbb-freshmen-vs-macomb-warsaw-2/
CATEGORIES:West Hancock Titans
ATTACH;FMTTYPE=image/jpeg:https://hhs328.com/wp-content/uploads/2021/01/Hamilton-Logo-3.jpg
END:VEVENT
BEGIN:VEVENT
DTSTART;TZID=America/Chicago:20260121T180000
DTEND;TZID=America/Chicago:20260121T190000
DTSTAMP:20260425T065812
CREATED:20260108T122651Z
LAST-MODIFIED:20260121T132653Z
UID:254407-1769018400-1769022000@hhs328.com
SUMMARY:5/6 Volleyball @ West Prairie (Good Hope)
DESCRIPTION:
URL:https://hhs328.com/event/5-6-volleyball-vs-west-prairie-2/
CATEGORIES:Cardinal Athletics
ATTACH;FMTTYPE=image/jpeg:https://hhs328.com/wp-content/uploads/2021/01/Hamilton-Logo-3.jpg
END:VEVENT
BEGIN:VEVENT
DTSTART;TZID=America/Chicago:20260121T180000
DTEND;TZID=America/Chicago:20260121T200000
DTSTAMP:20260425T065812
CREATED:20260101T114152Z
LAST-MODIFIED:20260121T132653Z
UID:254340-1769018400-1769025600@hhs328.com
SUMMARY:5/6 Boys Basketball vs West Prairie
DESCRIPTION:
URL:https://hhs328.com/event/5-6-boys-basketball-vs-west-prairie-3/
CATEGORIES:Cardinal Athletics
ATTACH;FMTTYPE=image/jpeg:https://hhs328.com/wp-content/uploads/2021/01/Hamilton-Logo-3.jpg
END:VEVENT
BEGIN:VEVENT
DTSTART;TZID=America/Chicago:20260121T183000
DTEND;TZID=America/Chicago:20260121T203000
DTSTAMP:20260425T065812
CREATED:20240122T001238Z
LAST-MODIFIED:20260121T115656Z
UID:77578-1769020200-1769027400@hhs328.com
SUMMARY:Board Meeting
DESCRIPTION:
URL:https://hhs328.com/event/board-meeting-30/
CATEGORIES:District Calendar
ATTACH;FMTTYPE=image/jpeg:https://hhs328.com/wp-content/uploads/2021/01/Hamilton-Logo-3.jpg
END:VEVENT
BEGIN:VEVENT
DTSTART;VALUE=DATE:20260122
DTEND;VALUE=DATE:20260123
DTSTAMP:20260425T065812
CREATED:20251126T115656Z
LAST-MODIFIED:20260122T102653Z
UID:254069-1769040000-1769126399@hhs328.com
SUMMARY:CEO Presentation - So/Jr- 4th Hour
DESCRIPTION:
URL:https://hhs328.com/event/ceo-presentation-so-jr-4th-hour/
CATEGORIES:School Calendar
ATTACH;FMTTYPE=image/jpeg:https://hhs328.com/wp-content/uploads/2021/01/Hamilton-Logo-3.jpg
END:VEVENT
BEGIN:VEVENT
DTSTART;TZID=America/Chicago:20260122T112400
DTEND;TZID=America/Chicago:20260122T115400
DTSTAMP:20260425T065812
CREATED:20250326T094159Z
LAST-MODIFIED:20260122T102653Z
UID:251688-1769081040-1769082840@hhs328.com
SUMMARY:FFA Meeting
DESCRIPTION:
URL:https://hhs328.com/event/ffa-meeting-243/
CATEGORIES:School Calendar
ATTACH;FMTTYPE=image/jpeg:https://hhs328.com/wp-content/uploads/2021/01/Hamilton-Logo-3.jpg
END:VEVENT
BEGIN:VEVENT
DTSTART;TZID=America/Chicago:20260122T173000
DTEND;TZID=America/Chicago:20260122T193000
DTSTAMP:20260425T065812
CREATED:20251102T061216Z
LAST-MODIFIED:20260122T134152Z
UID:253732-1769103000-1769110200@hhs328.com
SUMMARY:JH Volleyball @ LaHarpe
DESCRIPTION:
URL:https://hhs328.com/event/jh-volleyball-laharpe-3/
CATEGORIES:Cardinal Athletics
ATTACH;FMTTYPE=image/jpeg:https://hhs328.com/wp-content/uploads/2021/01/Hamilton-Logo-3.jpg
END:VEVENT
BEGIN:VEVENT
DTSTART;TZID=America/Chicago:20260122T180000
DTEND;TZID=America/Chicago:20260122T200000
DTSTAMP:20260425T065812
CREATED:20250919T225657Z
LAST-MODIFIED:20260122T131150Z
UID:253264-1769104800-1769112000@hhs328.com
SUMMARY:HSGBB @ Liberty
DESCRIPTION:
URL:https://hhs328.com/event/hsgbb-liberty-2/
CATEGORIES:West Hancock Titans
ATTACH;FMTTYPE=image/jpeg:https://hhs328.com/wp-content/uploads/2021/01/Hamilton-Logo-3.jpg
END:VEVENT
BEGIN:VEVENT
DTSTART;TZID=America/Chicago:20260122T180000
DTEND;TZID=America/Chicago:20260122T210000
DTSTAMP:20260425T065812
CREATED:20250919T225657Z
LAST-MODIFIED:20260122T131150Z
UID:253263-1769104800-1769115600@hhs328.com
SUMMARY:Wrestling vs QND\, Pasyon\, IW
DESCRIPTION:
URL:https://hhs328.com/event/wrestling-vs-qnd-pasyon-iw/
CATEGORIES:West Hancock Titans
ATTACH;FMTTYPE=image/jpeg:https://hhs328.com/wp-content/uploads/2021/01/Hamilton-Logo-3.jpg
END:VEVENT
BEGIN:VEVENT
DTSTART;VALUE=DATE:20260124
DTEND;VALUE=DATE:20260126
DTSTAMP:20260425T065812
CREATED:20260123T132650Z
LAST-MODIFIED:20260125T132651Z
UID:254565-1769212800-1769385599@hhs328.com
SUMMARY:Dance @ Altoff
DESCRIPTION:
URL:https://hhs328.com/event/dance-altoff/
CATEGORIES:West Hancock Titans
ATTACH;FMTTYPE=image/jpeg:https://hhs328.com/wp-content/uploads/2021/01/Hamilton-Logo-3.jpg
END:VEVENT
BEGIN:VEVENT
DTSTART;TZID=America/Chicago:20260124T103000
DTEND;TZID=America/Chicago:20260124T113000
DTSTAMP:20260425T065812
CREATED:20250920T225659Z
LAST-MODIFIED:20260124T132703Z
UID:253271-1769250600-1769254200@hhs328.com
SUMMARY:HSBBB @ QHS Shootout
DESCRIPTION:
URL:https://hhs328.com/event/hsbbb-qhs-shootout/
CATEGORIES:West Hancock Titans
ATTACH;FMTTYPE=image/jpeg:https://hhs328.com/wp-content/uploads/2021/01/Hamilton-Logo-3.jpg
END:VEVENT
BEGIN:VEVENT
DTSTART;TZID=America/Chicago:20260126T173000
DTEND;TZID=America/Chicago:20260126T193000
DTSTAMP:20260425T065812
CREATED:20251102T061216Z
LAST-MODIFIED:20260126T135648Z
UID:253733-1769448600-1769455800@hhs328.com
SUMMARY:JH Volleyball @ Nauvoo/Colusa - CANCELLED
DESCRIPTION:
URL:https://hhs328.com/event/jh-volleyball-nauvoo-colusa-3/
CATEGORIES:Cardinal Athletics
ATTACH;FMTTYPE=image/jpeg:https://hhs328.com/wp-content/uploads/2021/01/Hamilton-Logo-3.jpg
END:VEVENT
BEGIN:VEVENT
DTSTART;TZID=America/Chicago:20260126T180000
DTEND;TZID=America/Chicago:20260126T190000
DTSTAMP:20260425T065812
CREATED:20250923T225653Z
LAST-MODIFIED:20260126T132656Z
UID:253309-1769450400-1769454000@hhs328.com
SUMMARY:HSBBB vs Central Lee @ Warsaw
DESCRIPTION:
URL:https://hhs328.com/event/hsbbb-freshmen-central-lee/
CATEGORIES:West Hancock Titans
ATTACH;FMTTYPE=image/jpeg:https://hhs328.com/wp-content/uploads/2021/01/Hamilton-Logo-3.jpg
END:VEVENT
BEGIN:VEVENT
DTSTART;TZID=America/Chicago:20260126T180000
DTEND;TZID=America/Chicago:20260126T200000
DTSTAMP:20260425T065812
CREATED:20250923T225653Z
LAST-MODIFIED:20260120T125700Z
UID:253310-1769450400-1769457600@hhs328.com
SUMMARY:HSGBB @ Canton
DESCRIPTION:
URL:https://hhs328.com/event/hsgbb-canton/
CATEGORIES:West Hancock Titans
ATTACH;FMTTYPE=image/jpeg:https://hhs328.com/wp-content/uploads/2021/01/Hamilton-Logo-3.jpg
END:VEVENT
BEGIN:VEVENT
DTSTART;TZID=America/Chicago:20260127T112400
DTEND;TZID=America/Chicago:20260127T115400
DTSTAMP:20260425T065812
CREATED:20250327T094154Z
LAST-MODIFIED:20260127T142149Z
UID:251699-1769513040-1769514840@hhs328.com
SUMMARY:FFA Meeting
DESCRIPTION:
URL:https://hhs328.com/event/ffa-meeting-244/
CATEGORIES:School Calendar
ATTACH;FMTTYPE=image/jpeg:https://hhs328.com/wp-content/uploads/2021/01/Hamilton-Logo-3.jpg
END:VEVENT
BEGIN:VEVENT
DTSTART;TZID=America/Chicago:20260127T160000
DTEND;TZID=America/Chicago:20260127T170000
DTSTAMP:20260425T065812
CREATED:20260123T132650Z
LAST-MODIFIED:20260127T150659Z
UID:254567-1769529600-1769533200@hhs328.com
SUMMARY:Scholastic Bowl @ Warsaw
DESCRIPTION:
URL:https://hhs328.com/event/scholastic-bowl-warsaw/
CATEGORIES:West Hancock Titans
ATTACH;FMTTYPE=image/jpeg:https://hhs328.com/wp-content/uploads/2021/01/Hamilton-Logo-3.jpg
END:VEVENT
BEGIN:VEVENT
DTSTART;TZID=America/Chicago:20260127T164500
DTEND;TZID=America/Chicago:20260127T174500
DTSTAMP:20260425T065812
CREATED:20260123T132650Z
LAST-MODIFIED:20260127T150659Z
UID:254566-1769532300-1769535900@hhs328.com
SUMMARY:HSBBB JV @ Keokuk
DESCRIPTION:
URL:https://hhs328.com/event/hsbbb-jv-keokuk/
CATEGORIES:West Hancock Titans
ATTACH;FMTTYPE=image/jpeg:https://hhs328.com/wp-content/uploads/2021/01/Hamilton-Logo-3.jpg
END:VEVENT
BEGIN:VEVENT
DTSTART;TZID=America/Chicago:20260127T180000
DTEND;TZID=America/Chicago:20260127T190000
DTSTAMP:20260425T065812
CREATED:20260123T132650Z
LAST-MODIFIED:20260127T150659Z
UID:254568-1769536800-1769540400@hhs328.com
SUMMARY:HSGBB Varsity @ Keokuk
DESCRIPTION:
URL:https://hhs328.com/event/hsgbb-varsity-keokuk/
CATEGORIES:West Hancock Titans
ATTACH;FMTTYPE=image/jpeg:https://hhs328.com/wp-content/uploads/2021/01/Hamilton-Logo-3.jpg
END:VEVENT
BEGIN:VEVENT
DTSTART;TZID=America/Chicago:20260127T180000
DTEND;TZID=America/Chicago:20260127T200000
DTSTAMP:20260425T065812
CREATED:20250923T225653Z
LAST-MODIFIED:20260122T131150Z
UID:253311-1769536800-1769544000@hhs328.com
SUMMARY:HSBBB @ Keokuk
DESCRIPTION:
URL:https://hhs328.com/event/hsbbb-keokuk-2/
CATEGORIES:West Hancock Titans
ATTACH;FMTTYPE=image/jpeg:https://hhs328.com/wp-content/uploads/2021/01/Hamilton-Logo-3.jpg
END:VEVENT
BEGIN:VEVENT
DTSTART;TZID=America/Chicago:20260127T193000
DTEND;TZID=America/Chicago:20260127T203000
DTSTAMP:20260425T065812
CREATED:20260123T132650Z
LAST-MODIFIED:20260127T150659Z
UID:254569-1769542200-1769545800@hhs328.com
SUMMARY:HSBBB Varsity @ Keokuk
DESCRIPTION:
URL:https://hhs328.com/event/hsbbb-varsity-keokuk/
CATEGORIES:West Hancock Titans
ATTACH;FMTTYPE=image/jpeg:https://hhs328.com/wp-content/uploads/2021/01/Hamilton-Logo-3.jpg
END:VEVENT
BEGIN:VEVENT
DTSTART;TZID=America/Chicago:20260128T112400
DTEND;TZID=America/Chicago:20260128T115400
DTSTAMP:20260425T065812
CREATED:20260107T095647Z
LAST-MODIFIED:20260128T142648Z
UID:254392-1769599440-1769601240@hhs328.com
SUMMARY:Student Council Meeting
DESCRIPTION:
URL:https://hhs328.com/event/student-council-meeting-8/
CATEGORIES:School Calendar
ATTACH;FMTTYPE=image/jpeg:https://hhs328.com/wp-content/uploads/2021/01/Hamilton-Logo-3.jpg
END:VEVENT
BEGIN:VEVENT
DTSTART;TZID=America/Chicago:20260128T173000
DTEND;TZID=America/Chicago:20260128T193000
DTSTAMP:20260425T065812
CREATED:20251102T061229Z
LAST-MODIFIED:20260128T152648Z
UID:253734-1769621400-1769628600@hhs328.com
SUMMARY:5/6 Volleyball @ West Central
DESCRIPTION:
URL:https://hhs328.com/event/5-6-volleyball-west-central-2/
CATEGORIES:Cardinal Athletics
ATTACH;FMTTYPE=image/jpeg:https://hhs328.com/wp-content/uploads/2021/01/Hamilton-Logo-3.jpg
END:VEVENT
BEGIN:VEVENT
DTSTART;TZID=America/Chicago:20260128T180000
DTEND;TZID=America/Chicago:20260128T200000
DTSTAMP:20260425T065812
CREATED:20250923T225653Z
LAST-MODIFIED:20260128T151152Z
UID:253312-1769623200-1769630400@hhs328.com
SUMMARY:HSGBB vs Rushville/Industry @ Hamilton
DESCRIPTION:
URL:https://hhs328.com/event/hsgbb-vs-rushville-industry-hamilton/
CATEGORIES:West Hancock Titans
ATTACH;FMTTYPE=image/jpeg:https://hhs328.com/wp-content/uploads/2021/01/Hamilton-Logo-3.jpg
END:VEVENT
BEGIN:VEVENT
DTSTART;TZID=America/Chicago:20260129T112400
DTEND;TZID=America/Chicago:20260129T115400
DTSTAMP:20260425T065812
CREATED:20250328T094153Z
LAST-MODIFIED:20260129T144154Z
UID:251706-1769685840-1769687640@hhs328.com
SUMMARY:FFA Meeting
DESCRIPTION:
URL:https://hhs328.com/event/ffa-meeting-245/
CATEGORIES:School Calendar
ATTACH;FMTTYPE=image/jpeg:https://hhs328.com/wp-content/uploads/2021/01/Hamilton-Logo-3.jpg
END:VEVENT
BEGIN:VEVENT
DTSTART;TZID=America/Chicago:20260129T160000
DTEND;TZID=America/Chicago:20260129T170000
DTSTAMP:20260425T065812
CREATED:20260123T132651Z
LAST-MODIFIED:20260129T152653Z
UID:254570-1769702400-1769706000@hhs328.com
SUMMARY:Scholastic Bowl @ Warsaw
DESCRIPTION:
URL:https://hhs328.com/event/scholastic-bowl-warsaw-2/
CATEGORIES:West Hancock Titans
ATTACH;FMTTYPE=image/jpeg:https://hhs328.com/wp-content/uploads/2021/01/Hamilton-Logo-3.jpg
END:VEVENT
END:VCALENDAR