BEGIN:VCALENDAR
VERSION:2.0
PRODID:-//Hamilton Schools District 328 - ECPv6.15.12.2//NONSGML v1.0//EN
CALSCALE:GREGORIAN
METHOD:PUBLISH
X-ORIGINAL-URL:https://hhs328.com
X-WR-CALDESC:Events for Hamilton Schools District 328
REFRESH-INTERVAL;VALUE=DURATION:PT1H
X-Robots-Tag:noindex
X-PUBLISHED-TTL:PT1H
BEGIN:VTIMEZONE
TZID:America/Chicago
BEGIN:DAYLIGHT
TZOFFSETFROM:-0600
TZOFFSETTO:-0500
TZNAME:CDT
DTSTART:20250309T080000
END:DAYLIGHT
BEGIN:STANDARD
TZOFFSETFROM:-0500
TZOFFSETTO:-0600
TZNAME:CST
DTSTART:20251102T070000
END:STANDARD
BEGIN:DAYLIGHT
TZOFFSETFROM:-0600
TZOFFSETTO:-0500
TZNAME:CDT
DTSTART:20260308T080000
END:DAYLIGHT
BEGIN:STANDARD
TZOFFSETFROM:-0500
TZOFFSETTO:-0600
TZNAME:CST
DTSTART:20261101T070000
END:STANDARD
BEGIN:DAYLIGHT
TZOFFSETFROM:-0600
TZOFFSETTO:-0500
TZNAME:CDT
DTSTART:20270314T080000
END:DAYLIGHT
BEGIN:STANDARD
TZOFFSETFROM:-0500
TZOFFSETTO:-0600
TZNAME:CST
DTSTART:20271107T070000
END:STANDARD
END:VTIMEZONE
BEGIN:VEVENT
DTSTART;TZID=America/Chicago:20260806T112400
DTEND;TZID=America/Chicago:20260806T115400
DTSTAMP:20260423T175902
CREATED:20251023T235707Z
LAST-MODIFIED:20260422T231153Z
UID:253642-1786015440-1786017240@hhs328.com
SUMMARY:FFA Meeting
DESCRIPTION:
URL:https://hhs328.com/event/ffa-meeting-299/
CATEGORIES:School Calendar
ATTACH;FMTTYPE=image/jpeg:https://hhs328.com/wp-content/uploads/2021/01/Hamilton-Logo-3.jpg
END:VEVENT
BEGIN:VEVENT
DTSTART;TZID=America/Chicago:20260811T112400
DTEND;TZID=America/Chicago:20260811T115400
DTSTAMP:20260423T175902
CREATED:20251028T235703Z
LAST-MODIFIED:20260422T231153Z
UID:253678-1786447440-1786449240@hhs328.com
SUMMARY:FFA Meeting
DESCRIPTION:
URL:https://hhs328.com/event/ffa-meeting-300/
CATEGORIES:School Calendar
ATTACH;FMTTYPE=image/jpeg:https://hhs328.com/wp-content/uploads/2021/01/Hamilton-Logo-3.jpg
END:VEVENT
BEGIN:VEVENT
DTSTART;TZID=America/Chicago:20260813T112400
DTEND;TZID=America/Chicago:20260813T115400
DTSTAMP:20260423T175902
CREATED:20251030T001208Z
LAST-MODIFIED:20260422T231153Z
UID:253685-1786620240-1786622040@hhs328.com
SUMMARY:FFA Meeting
DESCRIPTION:
URL:https://hhs328.com/event/ffa-meeting-301/
CATEGORIES:School Calendar
ATTACH;FMTTYPE=image/jpeg:https://hhs328.com/wp-content/uploads/2021/01/Hamilton-Logo-3.jpg
END:VEVENT
BEGIN:VEVENT
DTSTART;TZID=America/Chicago:20260818T112400
DTEND;TZID=America/Chicago:20260818T115400
DTSTAMP:20260423T175902
CREATED:20251031T094154Z
LAST-MODIFIED:20260422T231153Z
UID:253691-1787052240-1787054040@hhs328.com
SUMMARY:FFA Meeting
DESCRIPTION:
URL:https://hhs328.com/event/ffa-meeting-302/
CATEGORIES:School Calendar
ATTACH;FMTTYPE=image/jpeg:https://hhs328.com/wp-content/uploads/2021/01/Hamilton-Logo-3.jpg
END:VEVENT
BEGIN:VEVENT
DTSTART;TZID=America/Chicago:20260819T183000
DTEND;TZID=America/Chicago:20260819T203000
DTSTAMP:20260423T175902
CREATED:20240819T145653Z
LAST-MODIFIED:20260423T202704Z
UID:249896-1787164200-1787171400@hhs328.com
SUMMARY:Board Meeting
DESCRIPTION:
URL:https://hhs328.com/event/board-meeting-37/
CATEGORIES:District Calendar
ATTACH;FMTTYPE=image/jpeg:https://hhs328.com/wp-content/uploads/2021/01/Hamilton-Logo-3.jpg
END:VEVENT
BEGIN:VEVENT
DTSTART;TZID=America/Chicago:20260820T112400
DTEND;TZID=America/Chicago:20260820T115400
DTSTAMP:20260423T175902
CREATED:20251104T095654Z
LAST-MODIFIED:20260422T231153Z
UID:253810-1787225040-1787226840@hhs328.com
SUMMARY:FFA Meeting
DESCRIPTION:
URL:https://hhs328.com/event/ffa-meeting-303/
CATEGORIES:School Calendar
ATTACH;FMTTYPE=image/jpeg:https://hhs328.com/wp-content/uploads/2021/01/Hamilton-Logo-3.jpg
END:VEVENT
BEGIN:VEVENT
DTSTART;TZID=America/Chicago:20260825T112400
DTEND;TZID=America/Chicago:20260825T115400
DTSTAMP:20260423T175902
CREATED:20251106T095655Z
LAST-MODIFIED:20260422T231153Z
UID:253858-1787657040-1787658840@hhs328.com
SUMMARY:FFA Meeting
DESCRIPTION:
URL:https://hhs328.com/event/ffa-meeting-304/
CATEGORIES:School Calendar
ATTACH;FMTTYPE=image/jpeg:https://hhs328.com/wp-content/uploads/2021/01/Hamilton-Logo-3.jpg
END:VEVENT
BEGIN:VEVENT
DTSTART;TZID=America/Chicago:20260827T112400
DTEND;TZID=America/Chicago:20260827T115400
DTSTAMP:20260423T175902
CREATED:20251107T095652Z
LAST-MODIFIED:20260422T231153Z
UID:253874-1787829840-1787831640@hhs328.com
SUMMARY:FFA Meeting
DESCRIPTION:
URL:https://hhs328.com/event/ffa-meeting-305/
CATEGORIES:School Calendar
ATTACH;FMTTYPE=image/jpeg:https://hhs328.com/wp-content/uploads/2021/01/Hamilton-Logo-3.jpg
END:VEVENT
BEGIN:VEVENT
DTSTART;TZID=America/Chicago:20260901T112400
DTEND;TZID=America/Chicago:20260901T115400
DTSTAMP:20260423T175902
CREATED:20251112T102701Z
LAST-MODIFIED:20260422T231153Z
UID:253919-1788261840-1788263640@hhs328.com
SUMMARY:FFA Meeting
DESCRIPTION:
URL:https://hhs328.com/event/ffa-meeting-306/
CATEGORIES:School Calendar
ATTACH;FMTTYPE=image/jpeg:https://hhs328.com/wp-content/uploads/2021/01/Hamilton-Logo-3.jpg
END:VEVENT
BEGIN:VEVENT
DTSTART;TZID=America/Chicago:20260902T112400
DTEND;TZID=America/Chicago:20260902T115400
DTSTAMP:20260423T175902
CREATED:20251113T102652Z
LAST-MODIFIED:20260422T231154Z
UID:253928-1788348240-1788350040@hhs328.com
SUMMARY:NHS Meeting
DESCRIPTION:
URL:https://hhs328.com/event/nhs-meeting-41/
CATEGORIES:School Calendar
ATTACH;FMTTYPE=image/jpeg:https://hhs328.com/wp-content/uploads/2021/01/Hamilton-Logo-3.jpg
END:VEVENT
BEGIN:VEVENT
DTSTART;TZID=America/Chicago:20260903T112400
DTEND;TZID=America/Chicago:20260903T115400
DTSTAMP:20260423T175902
CREATED:20251113T102652Z
LAST-MODIFIED:20260422T231154Z
UID:253929-1788434640-1788436440@hhs328.com
SUMMARY:FFA Meeting
DESCRIPTION:
URL:https://hhs328.com/event/ffa-meeting-307/
CATEGORIES:School Calendar
ATTACH;FMTTYPE=image/jpeg:https://hhs328.com/wp-content/uploads/2021/01/Hamilton-Logo-3.jpg
END:VEVENT
BEGIN:VEVENT
DTSTART;TZID=America/Chicago:20260907T170000
DTEND;TZID=America/Chicago:20260907T180000
DTSTAMP:20260423T175902
CREATED:20251003T221150Z
LAST-MODIFIED:20260423T202704Z
UID:253420-1788800400-1788804000@hhs328.com
SUMMARY:Music Boosters Meeting @ Elementary Band Room
DESCRIPTION:
URL:https://hhs328.com/event/music-boosters-meeting-elementary-band-room-12/
CATEGORIES:District Calendar
ATTACH;FMTTYPE=image/jpeg:https://hhs328.com/wp-content/uploads/2021/01/Hamilton-Logo-3.jpg
END:VEVENT
BEGIN:VEVENT
DTSTART;TZID=America/Chicago:20260908T112400
DTEND;TZID=America/Chicago:20260908T115400
DTSTAMP:20260423T175902
CREATED:20251114T104155Z
LAST-MODIFIED:20260422T231154Z
UID:253937-1788866640-1788868440@hhs328.com
SUMMARY:FFA Meeting
DESCRIPTION:
URL:https://hhs328.com/event/ffa-meeting-308/
CATEGORIES:School Calendar
ATTACH;FMTTYPE=image/jpeg:https://hhs328.com/wp-content/uploads/2021/01/Hamilton-Logo-3.jpg
END:VEVENT
BEGIN:VEVENT
DTSTART;TZID=America/Chicago:20260910T112400
DTEND;TZID=America/Chicago:20260910T115400
DTSTAMP:20260423T175902
CREATED:20251119T111202Z
LAST-MODIFIED:20260422T231154Z
UID:253977-1789039440-1789041240@hhs328.com
SUMMARY:FFA Meeting
DESCRIPTION:
URL:https://hhs328.com/event/ffa-meeting-309/
CATEGORIES:School Calendar
ATTACH;FMTTYPE=image/jpeg:https://hhs328.com/wp-content/uploads/2021/01/Hamilton-Logo-3.jpg
END:VEVENT
BEGIN:VEVENT
DTSTART;TZID=America/Chicago:20260915T112400
DTEND;TZID=America/Chicago:20260915T115400
DTSTAMP:20260423T175902
CREATED:20251120T112759Z
LAST-MODIFIED:20260422T231154Z
UID:253989-1789471440-1789473240@hhs328.com
SUMMARY:FFA Meeting
DESCRIPTION:
URL:https://hhs328.com/event/ffa-meeting-310/
CATEGORIES:School Calendar
ATTACH;FMTTYPE=image/jpeg:https://hhs328.com/wp-content/uploads/2021/01/Hamilton-Logo-3.jpg
END:VEVENT
BEGIN:VEVENT
DTSTART;TZID=America/Chicago:20260916T183000
DTEND;TZID=America/Chicago:20260916T203000
DTSTAMP:20260423T175902
CREATED:20240916T164152Z
LAST-MODIFIED:20260423T202704Z
UID:250187-1789583400-1789590600@hhs328.com
SUMMARY:Board Meeting
DESCRIPTION:
URL:https://hhs328.com/event/board-meeting-38/
CATEGORIES:District Calendar
ATTACH;FMTTYPE=image/jpeg:https://hhs328.com/wp-content/uploads/2021/01/Hamilton-Logo-3.jpg
END:VEVENT
BEGIN:VEVENT
DTSTART;TZID=America/Chicago:20260917T112400
DTEND;TZID=America/Chicago:20260917T115400
DTSTAMP:20260423T175902
CREATED:20251121T112701Z
LAST-MODIFIED:20260422T231154Z
UID:253997-1789644240-1789646040@hhs328.com
SUMMARY:FFA Meeting
DESCRIPTION:
URL:https://hhs328.com/event/ffa-meeting-311/
CATEGORIES:School Calendar
ATTACH;FMTTYPE=image/jpeg:https://hhs328.com/wp-content/uploads/2021/01/Hamilton-Logo-3.jpg
END:VEVENT
BEGIN:VEVENT
DTSTART;TZID=America/Chicago:20260922T112400
DTEND;TZID=America/Chicago:20260922T115400
DTSTAMP:20260423T175902
CREATED:20251218T182704Z
LAST-MODIFIED:20260422T231154Z
UID:254241-1790076240-1790078040@hhs328.com
SUMMARY:FFA Meeting
DESCRIPTION:
URL:https://hhs328.com/event/ffa-meeting-312/
CATEGORIES:School Calendar
ATTACH;FMTTYPE=image/jpeg:https://hhs328.com/wp-content/uploads/2021/01/Hamilton-Logo-3.jpg
END:VEVENT
BEGIN:VEVENT
DTSTART;TZID=America/Chicago:20260924T112400
DTEND;TZID=America/Chicago:20260924T115400
DTSTAMP:20260423T175902
CREATED:20251218T182705Z
LAST-MODIFIED:20260422T231154Z
UID:254242-1790249040-1790250840@hhs328.com
SUMMARY:FFA Meeting
DESCRIPTION:
URL:https://hhs328.com/event/ffa-meeting-313/
CATEGORIES:School Calendar
ATTACH;FMTTYPE=image/jpeg:https://hhs328.com/wp-content/uploads/2021/01/Hamilton-Logo-3.jpg
END:VEVENT
BEGIN:VEVENT
DTSTART;TZID=America/Chicago:20260929T112400
DTEND;TZID=America/Chicago:20260929T115400
DTSTAMP:20260423T175902
CREATED:20251218T182705Z
LAST-MODIFIED:20260422T231154Z
UID:254243-1790681040-1790682840@hhs328.com
SUMMARY:FFA Meeting
DESCRIPTION:
URL:https://hhs328.com/event/ffa-meeting-314/
CATEGORIES:School Calendar
ATTACH;FMTTYPE=image/jpeg:https://hhs328.com/wp-content/uploads/2021/01/Hamilton-Logo-3.jpg
END:VEVENT
BEGIN:VEVENT
DTSTART;TZID=America/Chicago:20261001T112400
DTEND;TZID=America/Chicago:20261001T115400
DTSTAMP:20260423T175902
CREATED:20251218T182705Z
LAST-MODIFIED:20260422T231154Z
UID:254244-1790853840-1790855640@hhs328.com
SUMMARY:FFA Meeting
DESCRIPTION:
URL:https://hhs328.com/event/ffa-meeting-315/
CATEGORIES:School Calendar
ATTACH;FMTTYPE=image/jpeg:https://hhs328.com/wp-content/uploads/2021/01/Hamilton-Logo-3.jpg
END:VEVENT
BEGIN:VEVENT
DTSTART;VALUE=DATE:20261002
DTEND;VALUE=DATE:20261003
DTSTAMP:20260423T175902
CREATED:20241002T171148Z
LAST-MODIFIED:20260423T202704Z
UID:250311-1790899200-1790985599@hhs328.com
SUMMARY:National Custodial Workers Day
DESCRIPTION:
URL:https://hhs328.com/event/national-custodial-workers-day-4/
CATEGORIES:District Calendar
ATTACH;FMTTYPE=image/jpeg:https://hhs328.com/wp-content/uploads/2021/01/Hamilton-Logo-3.jpg
END:VEVENT
BEGIN:VEVENT
DTSTART;TZID=America/Chicago:20261005T170000
DTEND;TZID=America/Chicago:20261005T180000
DTSTAMP:20260423T175902
CREATED:20251003T221150Z
LAST-MODIFIED:20260423T202704Z
UID:253421-1791219600-1791223200@hhs328.com
SUMMARY:Music Boosters Meeting @ Elementary Band Room
DESCRIPTION:
URL:https://hhs328.com/event/music-boosters-meeting-elementary-band-room-13/
CATEGORIES:District Calendar
ATTACH;FMTTYPE=image/jpeg:https://hhs328.com/wp-content/uploads/2021/01/Hamilton-Logo-3.jpg
END:VEVENT
BEGIN:VEVENT
DTSTART;TZID=America/Chicago:20261006T112400
DTEND;TZID=America/Chicago:20261006T115400
DTSTAMP:20260423T175902
CREATED:20251219T192658Z
LAST-MODIFIED:20260422T231154Z
UID:254256-1791285840-1791287640@hhs328.com
SUMMARY:FFA Meeting
DESCRIPTION:
URL:https://hhs328.com/event/ffa-meeting-316/
CATEGORIES:School Calendar
ATTACH;FMTTYPE=image/jpeg:https://hhs328.com/wp-content/uploads/2021/01/Hamilton-Logo-3.jpg
END:VEVENT
BEGIN:VEVENT
DTSTART;TZID=America/Chicago:20261007T112400
DTEND;TZID=America/Chicago:20261007T115400
DTSTAMP:20260423T175902
CREATED:20251220T192700Z
LAST-MODIFIED:20260422T231154Z
UID:254266-1791372240-1791374040@hhs328.com
SUMMARY:NHS Meeting
DESCRIPTION:
URL:https://hhs328.com/event/nhs-meeting-42/
CATEGORIES:School Calendar
ATTACH;FMTTYPE=image/jpeg:https://hhs328.com/wp-content/uploads/2021/01/Hamilton-Logo-3.jpg
END:VEVENT
BEGIN:VEVENT
DTSTART;TZID=America/Chicago:20261008T112400
DTEND;TZID=America/Chicago:20261008T115400
DTSTAMP:20260423T175902
CREATED:20251220T192700Z
LAST-MODIFIED:20260422T231154Z
UID:254267-1791458640-1791460440@hhs328.com
SUMMARY:FFA Meeting
DESCRIPTION:
URL:https://hhs328.com/event/ffa-meeting-317/
CATEGORIES:School Calendar
ATTACH;FMTTYPE=image/jpeg:https://hhs328.com/wp-content/uploads/2021/01/Hamilton-Logo-3.jpg
END:VEVENT
BEGIN:VEVENT
DTSTART;TZID=America/Chicago:20261013T112400
DTEND;TZID=America/Chicago:20261013T115400
DTSTAMP:20260423T175902
CREATED:20251223T195837Z
LAST-MODIFIED:20260422T231154Z
UID:254294-1791890640-1791892440@hhs328.com
SUMMARY:FFA Meeting
DESCRIPTION:
URL:https://hhs328.com/event/ffa-meeting-318/
CATEGORIES:School Calendar
ATTACH;FMTTYPE=image/jpeg:https://hhs328.com/wp-content/uploads/2021/01/Hamilton-Logo-3.jpg
END:VEVENT
BEGIN:VEVENT
DTSTART;TZID=America/Chicago:20261015T112400
DTEND;TZID=America/Chicago:20261015T115400
DTSTAMP:20260423T175902
CREATED:20251225T201155Z
LAST-MODIFIED:20260422T231154Z
UID:254308-1792063440-1792065240@hhs328.com
SUMMARY:FFA Meeting
DESCRIPTION:
URL:https://hhs328.com/event/ffa-meeting-319/
CATEGORIES:School Calendar
ATTACH;FMTTYPE=image/jpeg:https://hhs328.com/wp-content/uploads/2021/01/Hamilton-Logo-3.jpg
END:VEVENT
BEGIN:VEVENT
DTSTART;TZID=America/Chicago:20261020T112400
DTEND;TZID=America/Chicago:20261020T115400
DTSTAMP:20260423T175902
CREATED:20251231T094153Z
LAST-MODIFIED:20260422T231154Z
UID:254323-1792495440-1792497240@hhs328.com
SUMMARY:FFA Meeting
DESCRIPTION:
URL:https://hhs328.com/event/ffa-meeting-320/
CATEGORIES:School Calendar
ATTACH;FMTTYPE=image/jpeg:https://hhs328.com/wp-content/uploads/2021/01/Hamilton-Logo-3.jpg
END:VEVENT
BEGIN:VEVENT
DTSTART;TZID=America/Chicago:20261021T183000
DTEND;TZID=America/Chicago:20261021T203000
DTSTAMP:20260423T175902
CREATED:20241030T140035Z
LAST-MODIFIED:20260423T202704Z
UID:250422-1792607400-1792614600@hhs328.com
SUMMARY:Board Meeting
DESCRIPTION:
URL:https://hhs328.com/event/board-meeting-39/
CATEGORIES:District Calendar
ATTACH;FMTTYPE=image/jpeg:https://hhs328.com/wp-content/uploads/2021/01/Hamilton-Logo-3.jpg
END:VEVENT
END:VCALENDAR