BEGIN:VCALENDAR
VERSION:2.0
PRODID:-//Hamilton Schools District 328 - ECPv6.15.12.2//NONSGML v1.0//EN
CALSCALE:GREGORIAN
METHOD:PUBLISH
X-WR-CALNAME:Hamilton Schools District 328
X-ORIGINAL-URL:https://hhs328.com
X-WR-CALDESC:Events for Hamilton Schools District 328
REFRESH-INTERVAL;VALUE=DURATION:PT1H
X-Robots-Tag:noindex
X-PUBLISHED-TTL:PT1H
BEGIN:VTIMEZONE
TZID:America/Chicago
BEGIN:DAYLIGHT
TZOFFSETFROM:-0600
TZOFFSETTO:-0500
TZNAME:CDT
DTSTART:20240310T080000
END:DAYLIGHT
BEGIN:STANDARD
TZOFFSETFROM:-0500
TZOFFSETTO:-0600
TZNAME:CST
DTSTART:20241103T070000
END:STANDARD
BEGIN:DAYLIGHT
TZOFFSETFROM:-0600
TZOFFSETTO:-0500
TZNAME:CDT
DTSTART:20250309T080000
END:DAYLIGHT
BEGIN:STANDARD
TZOFFSETFROM:-0500
TZOFFSETTO:-0600
TZNAME:CST
DTSTART:20251102T070000
END:STANDARD
BEGIN:DAYLIGHT
TZOFFSETFROM:-0600
TZOFFSETTO:-0500
TZNAME:CDT
DTSTART:20260308T080000
END:DAYLIGHT
BEGIN:STANDARD
TZOFFSETFROM:-0500
TZOFFSETTO:-0600
TZNAME:CST
DTSTART:20261101T070000
END:STANDARD
END:VTIMEZONE
BEGIN:VEVENT
DTSTART;TZID=America/Chicago:20251211T180000
DTEND;TZID=America/Chicago:20251211T210000
DTSTAMP:20260425T114952
CREATED:20250830T215656Z
LAST-MODIFIED:20251211T134156Z
UID:253048-1765476000-1765486800@hhs328.com
SUMMARY:Wrestling @ Beardstown
DESCRIPTION:
URL:https://hhs328.com/event/wrestling-beardstown/
CATEGORIES:West Hancock Titans
ATTACH;FMTTYPE=image/jpeg:https://hhs328.com/wp-content/uploads/2021/01/Hamilton-Logo-3.jpg
END:VEVENT
BEGIN:VEVENT
DTSTART;TZID=America/Chicago:20251211T180000
DTEND;TZID=America/Chicago:20251211T200000
DTSTAMP:20260425T114952
CREATED:20250830T215656Z
LAST-MODIFIED:20251103T235650Z
UID:253049-1765476000-1765483200@hhs328.com
SUMMARY:HSGBB @ Lewistown
DESCRIPTION:
URL:https://hhs328.com/event/hsgbb-lewistown-2/
CATEGORIES:West Hancock Titans
ATTACH;FMTTYPE=image/jpeg:https://hhs328.com/wp-content/uploads/2021/01/Hamilton-Logo-3.jpg
END:VEVENT
BEGIN:VEVENT
DTSTART;TZID=America/Chicago:20251211T180000
DTEND;TZID=America/Chicago:20251211T190000
DTSTAMP:20260425T114952
CREATED:20251206T134148Z
LAST-MODIFIED:20251211T134156Z
UID:254143-1765476000-1765479600@hhs328.com
SUMMARY:HSBBB Freshmen vs Illini West @ Warsaw
DESCRIPTION:
URL:https://hhs328.com/event/hsbbb-freshmen-vs-illini-west-warsaw-2/
CATEGORIES:West Hancock Titans
ATTACH;FMTTYPE=image/jpeg:https://hhs328.com/wp-content/uploads/2021/01/Hamilton-Logo-3.jpg
END:VEVENT
BEGIN:VEVENT
DTSTART;TZID=America/Chicago:20251211T180000
DTEND;TZID=America/Chicago:20251211T190000
DTSTAMP:20260425T114952
CREATED:20251125T121146Z
LAST-MODIFIED:20251211T122649Z
UID:254048-1765476000-1765479600@hhs328.com
SUMMARY:3rd-5th Grade Holiday Concert @ HHS Gym
DESCRIPTION:
URL:https://hhs328.com/event/3rd-5th-grade-holiday-concert-hhs-gym/
CATEGORIES:District Calendar
ATTACH;FMTTYPE=image/jpeg:https://hhs328.com/wp-content/uploads/2021/01/Hamilton-Logo-3.jpg
END:VEVENT
BEGIN:VEVENT
DTSTART;TZID=America/Chicago:20251211T112400
DTEND;TZID=America/Chicago:20251211T115400
DTSTAMP:20260425T114952
CREATED:20250206T214159Z
LAST-MODIFIED:20251211T121150Z
UID:251313-1765452240-1765454040@hhs328.com
SUMMARY:FFA Meeting
DESCRIPTION:
URL:https://hhs328.com/event/ffa-meeting-231/
CATEGORIES:School Calendar
ATTACH;FMTTYPE=image/jpeg:https://hhs328.com/wp-content/uploads/2021/01/Hamilton-Logo-3.jpg
END:VEVENT
BEGIN:VEVENT
DTSTART;VALUE=DATE:20251211
DTEND;VALUE=DATE:20251212
DTSTAMP:20260425T114952
CREATED:20251125T114153Z
LAST-MODIFIED:20251211T121150Z
UID:254030-1765411200-1765497599@hhs328.com
SUMMARY:X-mas Dress Up: Christmas in July
DESCRIPTION:
URL:https://hhs328.com/event/x-mas-dress-up-christmas-in-july/
CATEGORIES:School Calendar
ATTACH;FMTTYPE=image/jpeg:https://hhs328.com/wp-content/uploads/2021/01/Hamilton-Logo-3.jpg
END:VEVENT
BEGIN:VEVENT
DTSTART;TZID=America/Chicago:20251210T190000
DTEND;TZID=America/Chicago:20251210T200000
DTSTAMP:20260425T114952
CREATED:20251125T121146Z
LAST-MODIFIED:20251210T122649Z
UID:254047-1765393200-1765396800@hhs328.com
SUMMARY:HS Chorus/HS & JH Band Holiday Concert @ HHS Gym
DESCRIPTION:
URL:https://hhs328.com/event/hs-chorus-hs-jh-band-holiday-concert-hhs-gym/
CATEGORIES:District Calendar
ATTACH;FMTTYPE=image/jpeg:https://hhs328.com/wp-content/uploads/2021/01/Hamilton-Logo-3.jpg
END:VEVENT
BEGIN:VEVENT
DTSTART;TZID=America/Chicago:20251210T180000
DTEND;TZID=America/Chicago:20251210T200000
DTSTAMP:20260425T114952
CREATED:20251104T235651Z
LAST-MODIFIED:20251210T134151Z
UID:253825-1765389600-1765396800@hhs328.com
SUMMARY:HSGBB @ Lewiston
DESCRIPTION:
URL:https://hhs328.com/event/hsgbb-lewiston/
CATEGORIES:West Hancock Titans
ATTACH;FMTTYPE=image/jpeg:https://hhs328.com/wp-content/uploads/2021/01/Hamilton-Logo-3.jpg
END:VEVENT
BEGIN:VEVENT
DTSTART;TZID=America/Chicago:20251210T163000
DTEND;TZID=America/Chicago:20251210T183000
DTSTAMP:20260425T114952
CREATED:20251102T061204Z
LAST-MODIFIED:20251210T141153Z
UID:253721-1765384200-1765391400@hhs328.com
SUMMARY:JH Boys Basketball vs Quincy
DESCRIPTION:
URL:https://hhs328.com/event/jh-boys-basketball-vs-quincy-2/
CATEGORIES:Cardinal Athletics
ATTACH;FMTTYPE=image/jpeg:https://hhs328.com/wp-content/uploads/2021/01/Hamilton-Logo-3.jpg
END:VEVENT
BEGIN:VEVENT
DTSTART;VALUE=DATE:20251210
DTEND;VALUE=DATE:20251211
DTSTAMP:20260425T114952
CREATED:20251125T114153Z
LAST-MODIFIED:20251210T121148Z
UID:254031-1765324800-1765411199@hhs328.com
SUMMARY:X-mas Dress Up: White Out Wednesday
DESCRIPTION:
URL:https://hhs328.com/event/x-mas-dress-up-white-out-wednesday/
CATEGORIES:School Calendar
ATTACH;FMTTYPE=image/jpeg:https://hhs328.com/wp-content/uploads/2021/01/Hamilton-Logo-3.jpg
END:VEVENT
BEGIN:VEVENT
DTSTART;TZID=America/Chicago:20251209T180000
DTEND;TZID=America/Chicago:20251209T200000
DTSTAMP:20260425T114952
CREATED:20250829T214153Z
LAST-MODIFIED:20251209T134150Z
UID:253038-1765303200-1765310400@hhs328.com
SUMMARY:HSBBB @ Ft. Madison
DESCRIPTION:
URL:https://hhs328.com/event/hsbbb-ft-madison/
CATEGORIES:West Hancock Titans
ATTACH;FMTTYPE=image/jpeg:https://hhs328.com/wp-content/uploads/2021/01/Hamilton-Logo-3.jpg
END:VEVENT
BEGIN:VEVENT
DTSTART;TZID=America/Chicago:20251209T180000
DTEND;TZID=America/Chicago:20251209T190000
DTSTAMP:20260425T114952
CREATED:20251125T121146Z
LAST-MODIFIED:20251209T122655Z
UID:254046-1765303200-1765306800@hhs328.com
SUMMARY:K-2nd Grade Holiday Concert @ HES
DESCRIPTION:
URL:https://hhs328.com/event/k-2nd-grade-holiday-concert-hes/
CATEGORIES:District Calendar
ATTACH;FMTTYPE=image/jpeg:https://hhs328.com/wp-content/uploads/2021/01/Hamilton-Logo-3.jpg
END:VEVENT
BEGIN:VEVENT
DTSTART;TZID=America/Chicago:20251209T173000
DTEND;TZID=America/Chicago:20251209T193000
DTSTAMP:20260425T114952
CREATED:20251104T235651Z
LAST-MODIFIED:20251209T134150Z
UID:253824-1765301400-1765308600@hhs328.com
SUMMARY:HSGBB @ Western
DESCRIPTION:
URL:https://hhs328.com/event/hsgbb-western-3/
CATEGORIES:West Hancock Titans
ATTACH;FMTTYPE=image/jpeg:https://hhs328.com/wp-content/uploads/2021/01/Hamilton-Logo-3.jpg
END:VEVENT
BEGIN:VEVENT
DTSTART;TZID=America/Chicago:20251209T112400
DTEND;TZID=America/Chicago:20251209T115400
DTSTAMP:20260425T114952
CREATED:20231210T025419Z
LAST-MODIFIED:20251209T121150Z
UID:72989-1765279440-1765281240@hhs328.com
SUMMARY:FFA Meeting
DESCRIPTION:
URL:https://hhs328.com/event/ffa-meeting-230/
CATEGORIES:School Calendar
ATTACH;FMTTYPE=image/jpeg:https://hhs328.com/wp-content/uploads/2021/01/Hamilton-Logo-3.jpg
END:VEVENT
BEGIN:VEVENT
DTSTART;VALUE=DATE:20251209
DTEND;VALUE=DATE:20251210
DTSTAMP:20260425T114952
CREATED:20251125T114152Z
LAST-MODIFIED:20251209T121150Z
UID:254028-1765238400-1765324799@hhs328.com
SUMMARY:X-mas Dress Up: Tinsel Tuesday
DESCRIPTION:
URL:https://hhs328.com/event/x-mas-dress-up-tinsel-tuesday/
CATEGORIES:School Calendar
ATTACH;FMTTYPE=image/jpeg:https://hhs328.com/wp-content/uploads/2021/01/Hamilton-Logo-3.jpg
END:VEVENT
BEGIN:VEVENT
DTSTART;TZID=America/Chicago:20251208T180000
DTEND;TZID=America/Chicago:20251208T200000
DTSTAMP:20260425T114952
CREATED:20251102T061204Z
LAST-MODIFIED:20251208T141151Z
UID:253720-1765216800-1765224000@hhs328.com
SUMMARY:JH Boys Basketball @ Clark County (Kahoka)
DESCRIPTION:
URL:https://hhs328.com/event/jh-boys-basketball-clark-county-kahoka/
CATEGORIES:Cardinal Athletics
ATTACH;FMTTYPE=image/jpeg:https://hhs328.com/wp-content/uploads/2021/01/Hamilton-Logo-3.jpg
END:VEVENT
BEGIN:VEVENT
DTSTART;TZID=America/Chicago:20251208T180000
DTEND;TZID=America/Chicago:20251208T200000
DTSTAMP:20260425T114952
CREATED:20250829T214153Z
LAST-MODIFIED:20251015T232652Z
UID:253037-1765216800-1765224000@hhs328.com
SUMMARY:HSGBB vs Payson @ Hamilton
DESCRIPTION:
URL:https://hhs328.com/event/hsgbb-vs-payson-hamilton-2/
CATEGORIES:West Hancock Titans
ATTACH;FMTTYPE=image/jpeg:https://hhs328.com/wp-content/uploads/2021/01/Hamilton-Logo-3.jpg
END:VEVENT
BEGIN:VEVENT
DTSTART;VALUE=DATE:20251208
DTEND;VALUE=DATE:20251209
DTSTAMP:20260425T114952
CREATED:20251125T114153Z
LAST-MODIFIED:20251208T121152Z
UID:254029-1765152000-1765238399@hhs328.com
SUMMARY:X-mas Dress Up: Red & White/Candy Cane
DESCRIPTION:
URL:https://hhs328.com/event/x-mas-dress-up-red-white-candy-cane/
CATEGORIES:School Calendar
ATTACH;FMTTYPE=image/jpeg:https://hhs328.com/wp-content/uploads/2021/01/Hamilton-Logo-3.jpg
END:VEVENT
BEGIN:VEVENT
DTSTART;TZID=America/Chicago:20251206T180000
DTEND;TZID=America/Chicago:20251206T200000
DTSTAMP:20260425T114952
CREATED:20250829T214153Z
LAST-MODIFIED:20251206T134149Z
UID:253036-1765044000-1765051200@hhs328.com
SUMMARY:HSBBB @ Payson
DESCRIPTION:
URL:https://hhs328.com/event/hsbbb-payson-2/
CATEGORIES:West Hancock Titans
ATTACH;FMTTYPE=image/jpeg:https://hhs328.com/wp-content/uploads/2021/01/Hamilton-Logo-3.jpg
END:VEVENT
BEGIN:VEVENT
DTSTART;TZID=America/Chicago:20251206T090000
DTEND;TZID=America/Chicago:20251206T160000
DTSTAMP:20260425T114952
CREATED:20251121T122649Z
LAST-MODIFIED:20251206T134149Z
UID:254001-1765011600-1765036800@hhs328.com
SUMMARY:Wrestling @ Southeast (Springfield)
DESCRIPTION:
URL:https://hhs328.com/event/wrestling-southeast-springfield/
CATEGORIES:West Hancock Titans
ATTACH;FMTTYPE=image/jpeg:https://hhs328.com/wp-content/uploads/2021/01/Hamilton-Logo-3.jpg
END:VEVENT
BEGIN:VEVENT
DTSTART;TZID=America/Chicago:20251205T180000
DTEND;TZID=America/Chicago:20251205T210000
DTSTAMP:20260425T114952
CREATED:20251125T124149Z
LAST-MODIFIED:20251205T134150Z
UID:254055-1764957600-1764968400@hhs328.com
SUMMARY:HSBBB vs A-Town @ Warsaw
DESCRIPTION:
URL:https://hhs328.com/event/hsbbb-vs-a-town-warsaw/
CATEGORIES:West Hancock Titans
ATTACH;FMTTYPE=image/jpeg:https://hhs328.com/wp-content/uploads/2021/01/Hamilton-Logo-3.jpg
END:VEVENT
BEGIN:VEVENT
DTSTART;TZID=America/Chicago:20251205T130000
DTEND;TZID=America/Chicago:20251205T140000
DTSTAMP:20260425T114952
CREATED:20250708T192651Z
LAST-MODIFIED:20251205T121153Z
UID:252633-1764939600-1764943200@hhs328.com
SUMMARY:School Improvement - Early Dismissal
DESCRIPTION:
URL:https://hhs328.com/event/school-improvement-early-dismissal-2/
CATEGORIES:District Calendar
ATTACH;FMTTYPE=image/jpeg:https://hhs328.com/wp-content/uploads/2021/01/Hamilton-Logo-3.jpg
END:VEVENT
BEGIN:VEVENT
DTSTART;VALUE=DATE:20251205
DTEND;VALUE=DATE:20251206
DTSTAMP:20260425T114952
CREATED:20251125T114152Z
LAST-MODIFIED:20251205T115652Z
UID:254027-1764892800-1764979199@hhs328.com
SUMMARY:X-mas Dress Up: Santa/Holiday Hat
DESCRIPTION:
URL:https://hhs328.com/event/x-mas-dress-up-santa-holiday-hat/
CATEGORIES:School Calendar
ATTACH;FMTTYPE=image/jpeg:https://hhs328.com/wp-content/uploads/2021/01/Hamilton-Logo-3.jpg
END:VEVENT
BEGIN:VEVENT
DTSTART;TZID=America/Chicago:20251204T180000
DTEND;TZID=America/Chicago:20251204T200000
DTSTAMP:20260425T114952
CREATED:20251102T061203Z
LAST-MODIFIED:20251204T135657Z
UID:253719-1764871200-1764878400@hhs328.com
SUMMARY:JH Boys Basketball vs West Prairie
DESCRIPTION:
URL:https://hhs328.com/event/jh-boys-basketball-vs-west-prairie-2/
CATEGORIES:Cardinal Athletics
ATTACH;FMTTYPE=image/jpeg:https://hhs328.com/wp-content/uploads/2021/01/Hamilton-Logo-3.jpg
END:VEVENT
BEGIN:VEVENT
DTSTART;TZID=America/Chicago:20251204T173000
DTEND;TZID=America/Chicago:20251204T193000
DTSTAMP:20260425T114952
CREATED:20250828T214202Z
LAST-MODIFIED:20251204T134154Z
UID:253018-1764869400-1764876600@hhs328.com
SUMMARY:HSGBB @ QND
DESCRIPTION:
URL:https://hhs328.com/event/hsgbb-qnd-2/
CATEGORIES:West Hancock Titans
ATTACH;FMTTYPE=image/jpeg:https://hhs328.com/wp-content/uploads/2021/01/Hamilton-Logo-3.jpg
END:VEVENT
BEGIN:VEVENT
DTSTART;TZID=America/Chicago:20251204T112400
DTEND;TZID=America/Chicago:20251204T115400
DTSTAMP:20260425T114952
CREATED:20231210T025419Z
LAST-MODIFIED:20251204T115654Z
UID:72988-1764847440-1764849240@hhs328.com
SUMMARY:FFA Meeting
DESCRIPTION:
URL:https://hhs328.com/event/ffa-meeting-229/
CATEGORIES:School Calendar
ATTACH;FMTTYPE=image/jpeg:https://hhs328.com/wp-content/uploads/2021/01/Hamilton-Logo-3.jpg
END:VEVENT
BEGIN:VEVENT
DTSTART;VALUE=DATE:20251204
DTEND;VALUE=DATE:20251205
DTSTAMP:20260425T114952
CREATED:20251125T114152Z
LAST-MODIFIED:20251204T115654Z
UID:254026-1764806400-1764892799@hhs328.com
SUMMARY:X-mas Dress Up: Mad About Plaid
DESCRIPTION:
URL:https://hhs328.com/event/x-mas-dress-up-mad-about-plaid/
CATEGORIES:School Calendar
ATTACH;FMTTYPE=image/jpeg:https://hhs328.com/wp-content/uploads/2021/01/Hamilton-Logo-3.jpg
END:VEVENT
BEGIN:VEVENT
DTSTART;TZID=America/Chicago:20251203T180000
DTEND;TZID=America/Chicago:20251203T200000
DTSTAMP:20260425T114952
CREATED:20250828T214202Z
LAST-MODIFIED:20251203T132651Z
UID:253017-1764784800-1764792000@hhs328.com
SUMMARY:HSBBB vs Monmouth/Roseville @ Warsaw
DESCRIPTION:
URL:https://hhs328.com/event/hsbbb-vs-monmouth-roseville-warsaw-2/
CATEGORIES:West Hancock Titans
ATTACH;FMTTYPE=image/jpeg:https://hhs328.com/wp-content/uploads/2021/01/Hamilton-Logo-3.jpg
END:VEVENT
BEGIN:VEVENT
DTSTART;TZID=America/Chicago:20251203T112400
DTEND;TZID=America/Chicago:20251203T115400
DTSTAMP:20260425T114952
CREATED:20250130T205829Z
LAST-MODIFIED:20251203T115647Z
UID:251267-1764761040-1764762840@hhs328.com
SUMMARY:NHS Meeting
DESCRIPTION:
URL:https://hhs328.com/event/nhs-meeting-31/
CATEGORIES:School Calendar
ATTACH;FMTTYPE=image/jpeg:https://hhs328.com/wp-content/uploads/2021/01/Hamilton-Logo-3.jpg
END:VEVENT
BEGIN:VEVENT
DTSTART;TZID=America/Chicago:20251202T180000
DTEND;TZID=America/Chicago:20251202T200000
DTSTAMP:20260425T114952
CREATED:20250828T214202Z
LAST-MODIFIED:20251202T132653Z
UID:253016-1764698400-1764705600@hhs328.com
SUMMARY:HSGBB @ Keokuk
DESCRIPTION:
URL:https://hhs328.com/event/hsgbb-keokuk-2/
CATEGORIES:West Hancock Titans
ATTACH;FMTTYPE=image/jpeg:https://hhs328.com/wp-content/uploads/2021/01/Hamilton-Logo-3.jpg
END:VEVENT
END:VCALENDAR