BEGIN:VCALENDAR
VERSION:2.0
PRODID:-//Hamilton Schools District 328 - ECPv6.15.12.2//NONSGML v1.0//EN
CALSCALE:GREGORIAN
METHOD:PUBLISH
X-ORIGINAL-URL:https://hhs328.com
X-WR-CALDESC:Events for Hamilton Schools District 328
REFRESH-INTERVAL;VALUE=DURATION:PT1H
X-Robots-Tag:noindex
X-PUBLISHED-TTL:PT1H
BEGIN:VTIMEZONE
TZID:America/Chicago
BEGIN:DAYLIGHT
TZOFFSETFROM:-0600
TZOFFSETTO:-0500
TZNAME:CDT
DTSTART:20260308T080000
END:DAYLIGHT
BEGIN:STANDARD
TZOFFSETFROM:-0500
TZOFFSETTO:-0600
TZNAME:CST
DTSTART:20261101T070000
END:STANDARD
BEGIN:DAYLIGHT
TZOFFSETFROM:-0600
TZOFFSETTO:-0500
TZNAME:CDT
DTSTART:20270314T080000
END:DAYLIGHT
BEGIN:STANDARD
TZOFFSETFROM:-0500
TZOFFSETTO:-0600
TZNAME:CST
DTSTART:20271107T070000
END:STANDARD
BEGIN:DAYLIGHT
TZOFFSETFROM:-0600
TZOFFSETTO:-0500
TZNAME:CDT
DTSTART:20280312T080000
END:DAYLIGHT
BEGIN:STANDARD
TZOFFSETFROM:-0500
TZOFFSETTO:-0600
TZNAME:CST
DTSTART:20281105T070000
END:STANDARD
END:VTIMEZONE
BEGIN:VEVENT
DTSTART;TZID=America/Chicago:20270114T112400
DTEND;TZID=America/Chicago:20270114T115400
DTSTAMP:20260425T064033
CREATED:20260327T175659Z
LAST-MODIFIED:20260424T232659Z
UID:255172-1799925840-1799927640@hhs328.com
SUMMARY:FFA Meeting
DESCRIPTION:
URL:https://hhs328.com/event/ffa-meeting-345/
CATEGORIES:School Calendar
ATTACH;FMTTYPE=image/jpeg:https://hhs328.com/wp-content/uploads/2021/01/Hamilton-Logo-3.jpg
END:VEVENT
BEGIN:VEVENT
DTSTART;TZID=America/Chicago:20270119T112400
DTEND;TZID=America/Chicago:20270119T115400
DTSTAMP:20260425T064033
CREATED:20260417T212752Z
LAST-MODIFIED:20260424T232659Z
UID:255302-1800357840-1800359640@hhs328.com
SUMMARY:FFA Meeting
DESCRIPTION:
URL:https://hhs328.com/event/ffa-meeting-346/
CATEGORIES:School Calendar
ATTACH;FMTTYPE=image/jpeg:https://hhs328.com/wp-content/uploads/2021/01/Hamilton-Logo-3.jpg
END:VEVENT
BEGIN:VEVENT
DTSTART;TZID=America/Chicago:20270120T183000
DTEND;TZID=America/Chicago:20270120T203000
DTSTAMP:20260425T064033
CREATED:20250121T181149Z
LAST-MODIFIED:20260424T202652Z
UID:251057-1800469800-1800477000@hhs328.com
SUMMARY:Board Meeting
DESCRIPTION:
URL:https://hhs328.com/event/board-meeting-42/
CATEGORIES:District Calendar
ATTACH;FMTTYPE=image/jpeg:https://hhs328.com/wp-content/uploads/2021/01/Hamilton-Logo-3.jpg
END:VEVENT
BEGIN:VEVENT
DTSTART;TZID=America/Chicago:20270121T112400
DTEND;TZID=America/Chicago:20270121T115400
DTSTAMP:20260425T064033
CREATED:20260417T212752Z
LAST-MODIFIED:20260424T232659Z
UID:255303-1800530640-1800532440@hhs328.com
SUMMARY:FFA Meeting
DESCRIPTION:
URL:https://hhs328.com/event/ffa-meeting-347/
CATEGORIES:School Calendar
ATTACH;FMTTYPE=image/jpeg:https://hhs328.com/wp-content/uploads/2021/01/Hamilton-Logo-3.jpg
END:VEVENT
BEGIN:VEVENT
DTSTART;TZID=America/Chicago:20270126T112400
DTEND;TZID=America/Chicago:20270126T115400
DTSTAMP:20260425T064033
CREATED:20260417T212753Z
LAST-MODIFIED:20260424T232659Z
UID:255304-1800962640-1800964440@hhs328.com
SUMMARY:FFA Meeting
DESCRIPTION:
URL:https://hhs328.com/event/ffa-meeting-348/
CATEGORIES:School Calendar
ATTACH;FMTTYPE=image/jpeg:https://hhs328.com/wp-content/uploads/2021/01/Hamilton-Logo-3.jpg
END:VEVENT
BEGIN:VEVENT
DTSTART;TZID=America/Chicago:20270128T112400
DTEND;TZID=America/Chicago:20270128T115400
DTSTAMP:20260425T064033
CREATED:20260418T225701Z
LAST-MODIFIED:20260424T232659Z
UID:255313-1801135440-1801137240@hhs328.com
SUMMARY:FFA Meeting
DESCRIPTION:
URL:https://hhs328.com/event/ffa-meeting-349/
CATEGORIES:School Calendar
ATTACH;FMTTYPE=image/jpeg:https://hhs328.com/wp-content/uploads/2021/01/Hamilton-Logo-3.jpg
END:VEVENT
BEGIN:VEVENT
DTSTART;TZID=America/Chicago:20270201T170000
DTEND;TZID=America/Chicago:20270201T180000
DTSTAMP:20260425T064033
CREATED:20251003T221150Z
LAST-MODIFIED:20260424T202652Z
UID:253425-1801501200-1801504800@hhs328.com
SUMMARY:Music Boosters Meeting @ Elementary Band Room
DESCRIPTION:
URL:https://hhs328.com/event/music-boosters-meeting-elementary-band-room-17/
CATEGORIES:District Calendar
ATTACH;FMTTYPE=image/jpeg:https://hhs328.com/wp-content/uploads/2021/01/Hamilton-Logo-3.jpg
END:VEVENT
BEGIN:VEVENT
DTSTART;TZID=America/Chicago:20270202T112400
DTEND;TZID=America/Chicago:20270202T115400
DTSTAMP:20260425T064033
CREATED:20260421T231154Z
LAST-MODIFIED:20260424T232659Z
UID:255329-1801567440-1801569240@hhs328.com
SUMMARY:FFA Meeting
DESCRIPTION:
URL:https://hhs328.com/event/ffa-meeting-350/
CATEGORIES:School Calendar
ATTACH;FMTTYPE=image/jpeg:https://hhs328.com/wp-content/uploads/2021/01/Hamilton-Logo-3.jpg
END:VEVENT
BEGIN:VEVENT
DTSTART;TZID=America/Chicago:20270203T112400
DTEND;TZID=America/Chicago:20270203T115400
DTSTAMP:20260425T064033
CREATED:20260422T231157Z
LAST-MODIFIED:20260424T232659Z
UID:255335-1801653840-1801655640@hhs328.com
SUMMARY:NHS Meeting
DESCRIPTION:
URL:https://hhs328.com/event/nhs-meeting-46/
CATEGORIES:School Calendar
ATTACH;FMTTYPE=image/jpeg:https://hhs328.com/wp-content/uploads/2021/01/Hamilton-Logo-3.jpg
END:VEVENT
BEGIN:VEVENT
DTSTART;TZID=America/Chicago:20270204T112400
DTEND;TZID=America/Chicago:20270204T115400
DTSTAMP:20260425T064033
CREATED:20260423T231156Z
LAST-MODIFIED:20260424T232659Z
UID:255341-1801740240-1801742040@hhs328.com
SUMMARY:FFA Meeting
DESCRIPTION:
URL:https://hhs328.com/event/ffa-meeting-351/
CATEGORIES:School Calendar
ATTACH;FMTTYPE=image/jpeg:https://hhs328.com/wp-content/uploads/2021/01/Hamilton-Logo-3.jpg
END:VEVENT
BEGIN:VEVENT
DTSTART;TZID=America/Chicago:20270209T112400
DTEND;TZID=America/Chicago:20270209T115400
DTSTAMP:20260425T064033
CREATED:20260424T232659Z
LAST-MODIFIED:20260424T232659Z
UID:255347-1802172240-1802174040@hhs328.com
SUMMARY:FFA Meeting
DESCRIPTION:
URL:https://hhs328.com/event/ffa-meeting-352/
CATEGORIES:School Calendar
ATTACH;FMTTYPE=image/jpeg:https://hhs328.com/wp-content/uploads/2021/01/Hamilton-Logo-3.jpg
END:VEVENT
BEGIN:VEVENT
DTSTART;TZID=America/Chicago:20270217T183000
DTEND;TZID=America/Chicago:20270217T203000
DTSTAMP:20260425T064033
CREATED:20250218T194153Z
LAST-MODIFIED:20260424T202652Z
UID:251381-1802889000-1802896200@hhs328.com
SUMMARY:Board Meeting
DESCRIPTION:
URL:https://hhs328.com/event/board-meeting-43/
CATEGORIES:District Calendar
ATTACH;FMTTYPE=image/jpeg:https://hhs328.com/wp-content/uploads/2021/01/Hamilton-Logo-3.jpg
END:VEVENT
BEGIN:VEVENT
DTSTART;TZID=America/Chicago:20270301T170000
DTEND;TZID=America/Chicago:20270301T180000
DTSTAMP:20260425T064033
CREATED:20251003T221151Z
LAST-MODIFIED:20260424T202652Z
UID:253426-1803920400-1803924000@hhs328.com
SUMMARY:Music Boosters Meeting @ Elementary Band Room
DESCRIPTION:
URL:https://hhs328.com/event/music-boosters-meeting-elementary-band-room-18/
CATEGORIES:District Calendar
ATTACH;FMTTYPE=image/jpeg:https://hhs328.com/wp-content/uploads/2021/01/Hamilton-Logo-3.jpg
END:VEVENT
BEGIN:VEVENT
DTSTART;TZID=America/Chicago:20270317T183000
DTEND;TZID=America/Chicago:20270317T203000
DTSTAMP:20260425T064033
CREATED:20250317T195653Z
LAST-MODIFIED:20260424T202652Z
UID:251622-1805308200-1805315400@hhs328.com
SUMMARY:Board Meeting
DESCRIPTION:
URL:https://hhs328.com/event/board-meeting-44/
CATEGORIES:District Calendar
ATTACH;FMTTYPE=image/jpeg:https://hhs328.com/wp-content/uploads/2021/01/Hamilton-Logo-3.jpg
END:VEVENT
BEGIN:VEVENT
DTSTART;TZID=America/Chicago:20270405T170000
DTEND;TZID=America/Chicago:20270405T180000
DTSTAMP:20260425T064033
CREATED:20251003T221151Z
LAST-MODIFIED:20260424T202652Z
UID:253427-1806944400-1806948000@hhs328.com
SUMMARY:Music Boosters Meeting @ Elementary Band Room
DESCRIPTION:
URL:https://hhs328.com/event/music-boosters-meeting-elementary-band-room-19/
CATEGORIES:District Calendar
ATTACH;FMTTYPE=image/jpeg:https://hhs328.com/wp-content/uploads/2021/01/Hamilton-Logo-3.jpg
END:VEVENT
BEGIN:VEVENT
DTSTART;TZID=America/Chicago:20270421T183000
DTEND;TZID=America/Chicago:20270421T203000
DTSTAMP:20260425T064033
CREATED:20250421T205652Z
LAST-MODIFIED:20260424T202652Z
UID:251859-1808332200-1808339400@hhs328.com
SUMMARY:Board Meeting
DESCRIPTION:
URL:https://hhs328.com/event/board-meeting-45/
CATEGORIES:District Calendar
ATTACH;FMTTYPE=image/jpeg:https://hhs328.com/wp-content/uploads/2021/01/Hamilton-Logo-3.jpg
END:VEVENT
BEGIN:VEVENT
DTSTART;TZID=America/Chicago:20270503T170000
DTEND;TZID=America/Chicago:20270503T180000
DTSTAMP:20260425T064033
CREATED:20251003T221151Z
LAST-MODIFIED:20260424T202652Z
UID:253428-1809363600-1809367200@hhs328.com
SUMMARY:Music Boosters Meeting @ Elementary Band Room
DESCRIPTION:
URL:https://hhs328.com/event/music-boosters-meeting-elementary-band-room-20/
CATEGORIES:District Calendar
ATTACH;FMTTYPE=image/jpeg:https://hhs328.com/wp-content/uploads/2021/01/Hamilton-Logo-3.jpg
END:VEVENT
BEGIN:VEVENT
DTSTART;TZID=America/Chicago:20270519T183000
DTEND;TZID=America/Chicago:20270519T203000
DTSTAMP:20260425T064033
CREATED:20250520T072653Z
LAST-MODIFIED:20260424T202652Z
UID:252102-1810751400-1810758600@hhs328.com
SUMMARY:Board Meeting
DESCRIPTION:
URL:https://hhs328.com/event/board-meeting-46/
CATEGORIES:District Calendar
ATTACH;FMTTYPE=image/jpeg:https://hhs328.com/wp-content/uploads/2021/01/Hamilton-Logo-3.jpg
END:VEVENT
BEGIN:VEVENT
DTSTART;TZID=America/Chicago:20270607T170000
DTEND;TZID=America/Chicago:20270607T180000
DTSTAMP:20260425T064033
CREATED:20251003T221151Z
LAST-MODIFIED:20260424T202652Z
UID:253429-1812387600-1812391200@hhs328.com
SUMMARY:Music Boosters Meeting @ Elementary Band Room
DESCRIPTION:
URL:https://hhs328.com/event/music-boosters-meeting-elementary-band-room-21/
CATEGORIES:District Calendar
ATTACH;FMTTYPE=image/jpeg:https://hhs328.com/wp-content/uploads/2021/01/Hamilton-Logo-3.jpg
END:VEVENT
BEGIN:VEVENT
DTSTART;TZID=America/Chicago:20270616T183000
DTEND;TZID=America/Chicago:20270616T203000
DTSTAMP:20260425T064033
CREATED:20250616T114150Z
LAST-MODIFIED:20260424T202652Z
UID:252266-1813170600-1813177800@hhs328.com
SUMMARY:Board Meeting
DESCRIPTION:
URL:https://hhs328.com/event/board-meeting-47/
CATEGORIES:District Calendar
ATTACH;FMTTYPE=image/jpeg:https://hhs328.com/wp-content/uploads/2021/01/Hamilton-Logo-3.jpg
END:VEVENT
BEGIN:VEVENT
DTSTART;TZID=America/Chicago:20270705T170000
DTEND;TZID=America/Chicago:20270705T180000
DTSTAMP:20260425T064033
CREATED:20251003T221151Z
LAST-MODIFIED:20260424T202653Z
UID:253430-1814806800-1814810400@hhs328.com
SUMMARY:Music Boosters Meeting @ Elementary Band Room
DESCRIPTION:
URL:https://hhs328.com/event/music-boosters-meeting-elementary-band-room-22/
CATEGORIES:District Calendar
ATTACH;FMTTYPE=image/jpeg:https://hhs328.com/wp-content/uploads/2021/01/Hamilton-Logo-3.jpg
END:VEVENT
BEGIN:VEVENT
DTSTART;TZID=America/Chicago:20270721T183000
DTEND;TZID=America/Chicago:20270721T203000
DTSTAMP:20260425T064033
CREATED:20250721T201150Z
LAST-MODIFIED:20260424T202653Z
UID:252749-1816194600-1816201800@hhs328.com
SUMMARY:Board Meeting
DESCRIPTION:
URL:https://hhs328.com/event/board-meeting-48/
CATEGORIES:District Calendar
ATTACH;FMTTYPE=image/jpeg:https://hhs328.com/wp-content/uploads/2021/01/Hamilton-Logo-3.jpg
END:VEVENT
BEGIN:VEVENT
DTSTART;TZID=America/Chicago:20270802T170000
DTEND;TZID=America/Chicago:20270802T180000
DTSTAMP:20260425T064033
CREATED:20251003T221151Z
LAST-MODIFIED:20260424T202653Z
UID:253431-1817226000-1817229600@hhs328.com
SUMMARY:Music Boosters Meeting @ Elementary Band Room
DESCRIPTION:
URL:https://hhs328.com/event/music-boosters-meeting-elementary-band-room-23/
CATEGORIES:District Calendar
ATTACH;FMTTYPE=image/jpeg:https://hhs328.com/wp-content/uploads/2021/01/Hamilton-Logo-3.jpg
END:VEVENT
BEGIN:VEVENT
DTSTART;TZID=America/Chicago:20270818T183000
DTEND;TZID=America/Chicago:20270818T203000
DTSTAMP:20260425T064033
CREATED:20250818T211156Z
LAST-MODIFIED:20260424T202653Z
UID:252914-1818613800-1818621000@hhs328.com
SUMMARY:Board Meeting
DESCRIPTION:
URL:https://hhs328.com/event/board-meeting-49/
CATEGORIES:District Calendar
ATTACH;FMTTYPE=image/jpeg:https://hhs328.com/wp-content/uploads/2021/01/Hamilton-Logo-3.jpg
END:VEVENT
BEGIN:VEVENT
DTSTART;TZID=America/Chicago:20270906T170000
DTEND;TZID=America/Chicago:20270906T180000
DTSTAMP:20260425T064033
CREATED:20251003T221151Z
LAST-MODIFIED:20260424T202653Z
UID:253432-1820250000-1820253600@hhs328.com
SUMMARY:Music Boosters Meeting @ Elementary Band Room
DESCRIPTION:
URL:https://hhs328.com/event/music-boosters-meeting-elementary-band-room-24/
CATEGORIES:District Calendar
ATTACH;FMTTYPE=image/jpeg:https://hhs328.com/wp-content/uploads/2021/01/Hamilton-Logo-3.jpg
END:VEVENT
BEGIN:VEVENT
DTSTART;TZID=America/Chicago:20270915T183000
DTEND;TZID=America/Chicago:20270915T203000
DTSTAMP:20260425T064033
CREATED:20250915T215655Z
LAST-MODIFIED:20260424T202653Z
UID:253222-1821033000-1821040200@hhs328.com
SUMMARY:Board Meeting
DESCRIPTION:
URL:https://hhs328.com/event/board-meeting-50/
CATEGORIES:District Calendar
ATTACH;FMTTYPE=image/jpeg:https://hhs328.com/wp-content/uploads/2021/01/Hamilton-Logo-3.jpg
END:VEVENT
BEGIN:VEVENT
DTSTART;VALUE=DATE:20271002
DTEND;VALUE=DATE:20271003
DTSTAMP:20260425T064033
CREATED:20251002T221150Z
LAST-MODIFIED:20260424T202653Z
UID:253397-1822435200-1822521599@hhs328.com
SUMMARY:National Custodial Workers Day
DESCRIPTION:
URL:https://hhs328.com/event/national-custodial-workers-day-5/
CATEGORIES:District Calendar
ATTACH;FMTTYPE=image/jpeg:https://hhs328.com/wp-content/uploads/2021/01/Hamilton-Logo-3.jpg
END:VEVENT
BEGIN:VEVENT
DTSTART;TZID=America/Chicago:20271004T170000
DTEND;TZID=America/Chicago:20271004T180000
DTSTAMP:20260425T064033
CREATED:20251004T222652Z
LAST-MODIFIED:20260424T202653Z
UID:253464-1822669200-1822672800@hhs328.com
SUMMARY:Music Boosters Meeting @ Elementary Band Room
DESCRIPTION:
URL:https://hhs328.com/event/music-boosters-meeting-elementary-band-room-25/
CATEGORIES:District Calendar
ATTACH;FMTTYPE=image/jpeg:https://hhs328.com/wp-content/uploads/2021/01/Hamilton-Logo-3.jpg
END:VEVENT
BEGIN:VEVENT
DTSTART;TZID=America/Chicago:20271020T183000
DTEND;TZID=America/Chicago:20271020T203000
DTSTAMP:20260425T064033
CREATED:20251020T232653Z
LAST-MODIFIED:20260424T202653Z
UID:253611-1824057000-1824064200@hhs328.com
SUMMARY:Board Meeting
DESCRIPTION:
URL:https://hhs328.com/event/board-meeting-51/
CATEGORIES:District Calendar
ATTACH;FMTTYPE=image/jpeg:https://hhs328.com/wp-content/uploads/2021/01/Hamilton-Logo-3.jpg
END:VEVENT
BEGIN:VEVENT
DTSTART;TZID=America/Chicago:20271101T170000
DTEND;TZID=America/Chicago:20271101T180000
DTSTAMP:20260425T064033
CREATED:20251101T111154Z
LAST-MODIFIED:20260424T202653Z
UID:253700-1825088400-1825092000@hhs328.com
SUMMARY:Music Boosters Meeting @ Elementary Band Room
DESCRIPTION:
URL:https://hhs328.com/event/music-boosters-meeting-elementary-band-room-26/
CATEGORIES:District Calendar
ATTACH;FMTTYPE=image/jpeg:https://hhs328.com/wp-content/uploads/2021/01/Hamilton-Logo-3.jpg
END:VEVENT
END:VCALENDAR