BEGIN:VCALENDAR
VERSION:2.0
PRODID:-//Hamilton Schools District 328 - ECPv6.15.12.2//NONSGML v1.0//EN
CALSCALE:GREGORIAN
METHOD:PUBLISH
X-ORIGINAL-URL:https://hhs328.com
X-WR-CALDESC:Events for Hamilton Schools District 328
REFRESH-INTERVAL;VALUE=DURATION:PT1H
X-Robots-Tag:noindex
X-PUBLISHED-TTL:PT1H
BEGIN:VTIMEZONE
TZID:America/Chicago
BEGIN:DAYLIGHT
TZOFFSETFROM:-0600
TZOFFSETTO:-0500
TZNAME:CDT
DTSTART:20250309T080000
END:DAYLIGHT
BEGIN:STANDARD
TZOFFSETFROM:-0500
TZOFFSETTO:-0600
TZNAME:CST
DTSTART:20251102T070000
END:STANDARD
BEGIN:DAYLIGHT
TZOFFSETFROM:-0600
TZOFFSETTO:-0500
TZNAME:CDT
DTSTART:20260308T080000
END:DAYLIGHT
BEGIN:STANDARD
TZOFFSETFROM:-0500
TZOFFSETTO:-0600
TZNAME:CST
DTSTART:20261101T070000
END:STANDARD
BEGIN:DAYLIGHT
TZOFFSETFROM:-0600
TZOFFSETTO:-0500
TZNAME:CDT
DTSTART:20270314T080000
END:DAYLIGHT
BEGIN:STANDARD
TZOFFSETFROM:-0500
TZOFFSETTO:-0600
TZNAME:CST
DTSTART:20271107T070000
END:STANDARD
END:VTIMEZONE
BEGIN:VEVENT
DTSTART;VALUE=DATE:20260216
DTEND;VALUE=DATE:20260217
DTSTAMP:20260425T113237
CREATED:20250708T192651Z
LAST-MODIFIED:20260216T154157Z
UID:252643-1771200000-1771286399@hhs328.com
SUMMARY:President's Day - No School
DESCRIPTION:
URL:https://hhs328.com/event/presidents-day-no-school-3/
CATEGORIES:District Calendar
ATTACH;FMTTYPE=image/jpeg:https://hhs328.com/wp-content/uploads/2021/01/Hamilton-Logo-3.jpg
END:VEVENT
BEGIN:VEVENT
DTSTART;VALUE=DATE:20260216
DTEND;VALUE=DATE:20260217
DTSTAMP:20260425T113237
CREATED:20251003T231157Z
LAST-MODIFIED:20260212T164151Z
UID:253437-1771200000-1771286399@hhs328.com
SUMMARY:HSBBB @ Riverton Shootout
DESCRIPTION:
URL:https://hhs328.com/event/hsbbb-riverton-shootout/
CATEGORIES:West Hancock Titans
ATTACH;FMTTYPE=image/jpeg:https://hhs328.com/wp-content/uploads/2021/01/Hamilton-Logo-3.jpg
END:VEVENT
BEGIN:VEVENT
DTSTART;TZID=America/Chicago:20260216T180000
DTEND;TZID=America/Chicago:20260216T190000
DTSTAMP:20260425T113237
CREATED:20260213T164156Z
LAST-MODIFIED:20260216T165651Z
UID:254800-1771264800-1771268400@hhs328.com
SUMMARY:Girls Basketball Regionals @ Hamilton Peoria Manual vs Eureka
DESCRIPTION:
URL:https://hhs328.com/event/girls-basketball-regionals-hamilton-peoria-manual-vs-eureka/
CATEGORIES:West Hancock Titans
ATTACH;FMTTYPE=image/jpeg:https://hhs328.com/wp-content/uploads/2021/01/Hamilton-Logo-3.jpg
END:VEVENT
BEGIN:VEVENT
DTSTART;TZID=America/Chicago:20260216T193000
DTEND;TZID=America/Chicago:20260216T203000
DTSTAMP:20260425T113237
CREATED:20251003T231157Z
LAST-MODIFIED:20260216T165652Z
UID:253436-1771270200-1771273800@hhs328.com
SUMMARY:HSGBB @ Regionals vs Illini West or Beardstown @ Hamilton
DESCRIPTION:
URL:https://hhs328.com/event/hsgbb-regionals-4/
CATEGORIES:West Hancock Titans
ATTACH;FMTTYPE=image/jpeg:https://hhs328.com/wp-content/uploads/2021/01/Hamilton-Logo-3.jpg
END:VEVENT
BEGIN:VEVENT
DTSTART;TZID=America/Chicago:20260217T112400
DTEND;TZID=America/Chicago:20260217T115400
DTSTAMP:20260425T113237
CREATED:20250423T134158Z
LAST-MODIFIED:20260217T151156Z
UID:251870-1771327440-1771329240@hhs328.com
SUMMARY:FFA Meeting
DESCRIPTION:
URL:https://hhs328.com/event/ffa-meeting-250/
CATEGORIES:School Calendar
ATTACH;FMTTYPE=image/jpeg:https://hhs328.com/wp-content/uploads/2021/01/Hamilton-Logo-3.jpg
END:VEVENT
BEGIN:VEVENT
DTSTART;TZID=America/Chicago:20260217T173000
DTEND;TZID=America/Chicago:20260217T193000
DTSTAMP:20260425T113237
CREATED:20251102T061229Z
LAST-MODIFIED:20260217T174146Z
UID:253740-1771349400-1771356600@hhs328.com
SUMMARY:JH Volleyball @ Camp Point/Central
DESCRIPTION:
URL:https://hhs328.com/event/jh-volleyball-camp-point-central-2/
CATEGORIES:Cardinal Athletics
ATTACH;FMTTYPE=image/jpeg:https://hhs328.com/wp-content/uploads/2021/01/Hamilton-Logo-3.jpg
END:VEVENT
BEGIN:VEVENT
DTSTART;TZID=America/Chicago:20260217T180000
DTEND;TZID=America/Chicago:20260217T200000
DTSTAMP:20260425T113237
CREATED:20251004T232657Z
LAST-MODIFIED:20260217T165651Z
UID:253468-1771351200-1771358400@hhs328.com
SUMMARY:HSBBB vs QND @ Warsaw
DESCRIPTION:
URL:https://hhs328.com/event/hsbbb-vs-qnd-warsaw-2/
CATEGORIES:West Hancock Titans
ATTACH;FMTTYPE=image/jpeg:https://hhs328.com/wp-content/uploads/2021/01/Hamilton-Logo-3.jpg
END:VEVENT
BEGIN:VEVENT
DTSTART;VALUE=DATE:20260218
DTEND;VALUE=DATE:20260219
DTSTAMP:20260425T113237
CREATED:20260121T101157Z
LAST-MODIFIED:20260218T151150Z
UID:254537-1771372800-1771459199@hhs328.com
SUMMARY:Culver-Stockton College Visit
DESCRIPTION:
URL:https://hhs328.com/event/culver-stockton-college-visit/
CATEGORIES:School Calendar
ATTACH;FMTTYPE=image/jpeg:https://hhs328.com/wp-content/uploads/2021/01/Hamilton-Logo-3.jpg
END:VEVENT
BEGIN:VEVENT
DTSTART;TZID=America/Chicago:20260218T112700
DTEND;TZID=America/Chicago:20260218T115700
DTSTAMP:20260425T113237
CREATED:20260129T144153Z
LAST-MODIFIED:20260218T151150Z
UID:254619-1771414020-1771415820@hhs328.com
SUMMARY:Student Council Meeting
DESCRIPTION:
URL:https://hhs328.com/event/student-council-meeting-9/
CATEGORIES:School Calendar
ATTACH;FMTTYPE=image/jpeg:https://hhs328.com/wp-content/uploads/2021/01/Hamilton-Logo-3.jpg
END:VEVENT
BEGIN:VEVENT
DTSTART;TZID=America/Chicago:20260218T121500
DTEND;TZID=America/Chicago:20260218T144500
DTSTAMP:20260425T113237
CREATED:20260205T151154Z
LAST-MODIFIED:20260218T151150Z
UID:254688-1771416900-1771425900@hhs328.com
SUMMARY:Prom Committee to Warsaw
DESCRIPTION:
URL:https://hhs328.com/event/prom-committee-to-warsaw/
CATEGORIES:School Calendar
ATTACH;FMTTYPE=image/jpeg:https://hhs328.com/wp-content/uploads/2021/01/Hamilton-Logo-3.jpg
END:VEVENT
BEGIN:VEVENT
DTSTART;TZID=America/Chicago:20260218T180000
DTEND;TZID=America/Chicago:20260218T200000
DTSTAMP:20260425T113237
CREATED:20260108T122715Z
LAST-MODIFIED:20260218T174146Z
UID:254415-1771437600-1771444800@hhs328.com
SUMMARY:5/6 Volleyball @ Warsaw
DESCRIPTION:
URL:https://hhs328.com/event/5-6-volleyball-warsaw-3/
CATEGORIES:Cardinal Athletics
ATTACH;FMTTYPE=image/jpeg:https://hhs328.com/wp-content/uploads/2021/01/Hamilton-Logo-3.jpg
END:VEVENT
BEGIN:VEVENT
DTSTART;TZID=America/Chicago:20260218T180000
DTEND;TZID=America/Chicago:20260218T200000
DTSTAMP:20260425T113237
CREATED:20260210T165647Z
LAST-MODIFIED:20260218T174146Z
UID:254762-1771437600-1771444800@hhs328.com
SUMMARY:JH Volleyball vs Liberty
DESCRIPTION:
URL:https://hhs328.com/event/jh-volleyball-vs-liberty-3/
CATEGORIES:Cardinal Athletics
ATTACH;FMTTYPE=image/jpeg:https://hhs328.com/wp-content/uploads/2021/01/Hamilton-Logo-3.jpg
END:VEVENT
BEGIN:VEVENT
DTSTART;TZID=America/Chicago:20260218T183000
DTEND;TZID=America/Chicago:20260218T203000
DTSTAMP:20260425T113237
CREATED:20240219T001236Z
LAST-MODIFIED:20260218T154149Z
UID:80497-1771439400-1771446600@hhs328.com
SUMMARY:Board Meeting
DESCRIPTION:
URL:https://hhs328.com/event/board-meeting-31/
CATEGORIES:District Calendar
ATTACH;FMTTYPE=image/jpeg:https://hhs328.com/wp-content/uploads/2021/01/Hamilton-Logo-3.jpg
END:VEVENT
BEGIN:VEVENT
DTSTART;VALUE=DATE:20260219
DTEND;VALUE=DATE:20260220
DTSTAMP:20260425T113237
CREATED:20260128T142647Z
LAST-MODIFIED:20260219T151150Z
UID:254606-1771459200-1771545599@hhs328.com
SUMMARY:Army Recruiter Lunch Visit
DESCRIPTION:
URL:https://hhs328.com/event/army-recruiter-lunch-visit/
CATEGORIES:School Calendar
ATTACH;FMTTYPE=image/jpeg:https://hhs328.com/wp-content/uploads/2021/01/Hamilton-Logo-3.jpg
END:VEVENT
BEGIN:VEVENT
DTSTART;VALUE=DATE:20260219
DTEND;VALUE=DATE:20260222
DTSTAMP:20260425T113237
CREATED:20251004T232657Z
LAST-MODIFIED:20260221T172651Z
UID:253469-1771459200-1771718399@hhs328.com
SUMMARY:Wrestling State
DESCRIPTION:
URL:https://hhs328.com/event/wrestling-state-3/
CATEGORIES:West Hancock Titans
ATTACH;FMTTYPE=image/jpeg:https://hhs328.com/wp-content/uploads/2021/01/Hamilton-Logo-3.jpg
END:VEVENT
BEGIN:VEVENT
DTSTART;TZID=America/Chicago:20260219T112400
DTEND;TZID=America/Chicago:20260219T115400
DTSTAMP:20260425T113237
CREATED:20250423T134158Z
LAST-MODIFIED:20260219T151150Z
UID:251871-1771500240-1771502040@hhs328.com
SUMMARY:FFA Meeting
DESCRIPTION:
URL:https://hhs328.com/event/ffa-meeting-251/
CATEGORIES:School Calendar
ATTACH;FMTTYPE=image/jpeg:https://hhs328.com/wp-content/uploads/2021/01/Hamilton-Logo-3.jpg
END:VEVENT
BEGIN:VEVENT
DTSTART;TZID=America/Chicago:20260219T173000
DTEND;TZID=America/Chicago:20260219T193000
DTSTAMP:20260425T113237
CREATED:20251102T061229Z
LAST-MODIFIED:20260219T175649Z
UID:253741-1771522200-1771529400@hhs328.com
SUMMARY:JH Volleyball vs Nauvoo/Colusa
DESCRIPTION:
URL:https://hhs328.com/event/jh-volleyball-vs-nauvoo-colusa-3/
CATEGORIES:Cardinal Athletics
ATTACH;FMTTYPE=image/jpeg:https://hhs328.com/wp-content/uploads/2021/01/Hamilton-Logo-3.jpg
END:VEVENT
BEGIN:VEVENT
DTSTART;TZID=America/Chicago:20260219T180000
DTEND;TZID=America/Chicago:20260219T190000
DTSTAMP:20260425T113237
CREATED:20260213T164156Z
LAST-MODIFIED:20260219T171157Z
UID:254802-1771524000-1771527600@hhs328.com
SUMMARY:HSGBB vs Eureka Regional Finals @ Hamilton
DESCRIPTION:
URL:https://hhs328.com/event/girls-basketball-regional-finals-hamilton/
CATEGORIES:West Hancock Titans
ATTACH;FMTTYPE=image/jpeg:https://hhs328.com/wp-content/uploads/2021/01/Hamilton-Logo-3.jpg
END:VEVENT
BEGIN:VEVENT
DTSTART;VALUE=DATE:20260220
DTEND;VALUE=DATE:20260221
DTSTAMP:20260425T113237
CREATED:20260122T102652Z
LAST-MODIFIED:20260220T151154Z
UID:254549-1771545600-1771631999@hhs328.com
SUMMARY:Marine Lunch Visit
DESCRIPTION:
URL:https://hhs328.com/event/marine-lunch-visit-2/
CATEGORIES:School Calendar
ATTACH;FMTTYPE=image/jpeg:https://hhs328.com/wp-content/uploads/2021/01/Hamilton-Logo-3.jpg
END:VEVENT
BEGIN:VEVENT
DTSTART;TZID=America/Chicago:20260220T112400
DTEND;TZID=America/Chicago:20260220T122400
DTSTAMP:20260425T113237
CREATED:20260210T151148Z
LAST-MODIFIED:20260220T151154Z
UID:254751-1771586640-1771590240@hhs328.com
SUMMARY:Lunch and Learn - Applying for Scholarships
DESCRIPTION:
URL:https://hhs328.com/event/lunch-and-learn-applying-for-scholarships/
CATEGORIES:School Calendar
ATTACH;FMTTYPE=image/jpeg:https://hhs328.com/wp-content/uploads/2021/01/Hamilton-Logo-3.jpg
END:VEVENT
BEGIN:VEVENT
DTSTART;TZID=America/Chicago:20260220T181500
DTEND;TZID=America/Chicago:20260220T201500
DTSTAMP:20260425T113237
CREATED:20260212T164149Z
LAST-MODIFIED:20260220T172649Z
UID:254787-1771611300-1771618500@hhs328.com
SUMMARY:HSBBB vs Rushville/Industry
DESCRIPTION:
URL:https://hhs328.com/event/hsbbb-vs-rushville-industry/
CATEGORIES:West Hancock Titans
ATTACH;FMTTYPE=image/jpeg:https://hhs328.com/wp-content/uploads/2021/01/Hamilton-Logo-3.jpg
END:VEVENT
BEGIN:VEVENT
DTSTART;VALUE=DATE:20260221
DTEND;VALUE=DATE:20260222
DTSTAMP:20260425T113237
CREATED:20251102T061229Z
LAST-MODIFIED:20260221T181149Z
UID:253742-1771632000-1771718399@hhs328.com
SUMMARY:JH Volleyball @ West Prairie Tourney
DESCRIPTION:
URL:https://hhs328.com/event/jh-volleyball-west-prairie-tourney/
CATEGORIES:Cardinal Athletics
ATTACH;FMTTYPE=image/jpeg:https://hhs328.com/wp-content/uploads/2021/01/Hamilton-Logo-3.jpg
END:VEVENT
BEGIN:VEVENT
DTSTART;VALUE=DATE:20260223
DTEND;VALUE=DATE:20260224
DTSTAMP:20260425T113237
CREATED:20251006T232657Z
LAST-MODIFIED:20260218T171159Z
UID:253484-1771804800-1771891199@hhs328.com
SUMMARY:HSBBB Post Season Play
DESCRIPTION:
URL:https://hhs328.com/event/hsbbb-post-season-play-3/
CATEGORIES:West Hancock Titans
ATTACH;FMTTYPE=image/jpeg:https://hhs328.com/wp-content/uploads/2021/01/Hamilton-Logo-3.jpg
END:VEVENT
BEGIN:VEVENT
DTSTART;VALUE=DATE:20260223
DTEND;VALUE=DATE:20260301
DTSTAMP:20260425T113237
CREATED:20250116T181154Z
LAST-MODIFIED:20260228T174156Z
UID:251022-1771804800-1772323199@hhs328.com
SUMMARY:FFA Week
DESCRIPTION:
URL:https://hhs328.com/event/ffa-week-2/
CATEGORIES:District Calendar
ATTACH;FMTTYPE=image/jpeg:https://hhs328.com/wp-content/uploads/2021/01/Hamilton-Logo-3.jpg
END:VEVENT
BEGIN:VEVENT
DTSTART;VALUE=DATE:20260223
DTEND;VALUE=DATE:20260301
DTSTAMP:20260425T113237
CREATED:20250501T135656Z
LAST-MODIFIED:20260228T165648Z
UID:251922-1771804800-1772323199@hhs328.com
SUMMARY:FFA Week
DESCRIPTION:
URL:https://hhs328.com/event/ffa-week-4/
CATEGORIES:School Calendar
ATTACH;FMTTYPE=image/jpeg:https://hhs328.com/wp-content/uploads/2021/01/Hamilton-Logo-3.jpg
END:VEVENT
BEGIN:VEVENT
DTSTART;VALUE=DATE:20260224
DTEND;VALUE=DATE:20260225
DTSTAMP:20260425T113237
CREATED:20251004T232657Z
LAST-MODIFIED:20260224T174149Z
UID:253470-1771891200-1771977599@hhs328.com
SUMMARY:HSGBB Sectionals
DESCRIPTION:
URL:https://hhs328.com/event/hsgbb-sectionals-3/
CATEGORIES:West Hancock Titans
ATTACH;FMTTYPE=image/jpeg:https://hhs328.com/wp-content/uploads/2021/01/Hamilton-Logo-3.jpg
END:VEVENT
BEGIN:VEVENT
DTSTART;TZID=America/Chicago:20260224T112400
DTEND;TZID=America/Chicago:20260224T115400
DTSTAMP:20260425T113237
CREATED:20250427T134155Z
LAST-MODIFIED:20260224T165651Z
UID:251897-1771932240-1771934040@hhs328.com
SUMMARY:FFA Meeting
DESCRIPTION:
URL:https://hhs328.com/event/ffa-meeting-252/
CATEGORIES:School Calendar
ATTACH;FMTTYPE=image/jpeg:https://hhs328.com/wp-content/uploads/2021/01/Hamilton-Logo-3.jpg
END:VEVENT
BEGIN:VEVENT
DTSTART;TZID=America/Chicago:20260224T173000
DTEND;TZID=America/Chicago:20260224T193000
DTSTAMP:20260425T113237
CREATED:20251102T061229Z
LAST-MODIFIED:20260224T181157Z
UID:253743-1771954200-1771961400@hhs328.com
SUMMARY:JH Volleyball vs Brown County
DESCRIPTION:
URL:https://hhs328.com/event/jh-volleyball-vs-brown-county-2/
CATEGORIES:Cardinal Athletics
ATTACH;FMTTYPE=image/jpeg:https://hhs328.com/wp-content/uploads/2021/01/Hamilton-Logo-3.jpg
END:VEVENT
BEGIN:VEVENT
DTSTART;TZID=America/Chicago:20260225T115700
DTEND;TZID=America/Chicago:20260225T122700
DTSTAMP:20260425T113237
CREATED:20260211T151152Z
LAST-MODIFIED:20260225T165657Z
UID:254764-1772020620-1772022420@hhs328.com
SUMMARY:Hamilton Educators Rising Meeting -  5b
DESCRIPTION:
URL:https://hhs328.com/event/hamilton-educators-rising-meeting-5b/
CATEGORIES:School Calendar
ATTACH;FMTTYPE=image/jpeg:https://hhs328.com/wp-content/uploads/2021/01/Hamilton-Logo-3.jpg
END:VEVENT
BEGIN:VEVENT
DTSTART;TZID=America/Chicago:20260225T180000
DTEND;TZID=America/Chicago:20260225T190000
DTSTAMP:20260425T113237
CREATED:20260217T165649Z
LAST-MODIFIED:20260225T175650Z
UID:254839-1772042400-1772046000@hhs328.com
SUMMARY:HSBBB @ Regionals vs TBD @ Canton
DESCRIPTION:
URL:https://hhs328.com/event/hsbbb-regionals-vs-tbd-canton/
CATEGORIES:West Hancock Titans
ATTACH;FMTTYPE=image/jpeg:https://hhs328.com/wp-content/uploads/2021/01/Hamilton-Logo-3.jpg
END:VEVENT
END:VCALENDAR