BEGIN:VCALENDAR
VERSION:2.0
PRODID:-//Hamilton Schools District 328 - ECPv6.15.12.2//NONSGML v1.0//EN
CALSCALE:GREGORIAN
METHOD:PUBLISH
X-WR-CALNAME:Hamilton Schools District 328
X-ORIGINAL-URL:https://hhs328.com
X-WR-CALDESC:Events for Hamilton Schools District 328
REFRESH-INTERVAL;VALUE=DURATION:PT1H
X-Robots-Tag:noindex
X-PUBLISHED-TTL:PT1H
BEGIN:VTIMEZONE
TZID:America/Chicago
BEGIN:DAYLIGHT
TZOFFSETFROM:-0600
TZOFFSETTO:-0500
TZNAME:CDT
DTSTART:20250309T080000
END:DAYLIGHT
BEGIN:STANDARD
TZOFFSETFROM:-0500
TZOFFSETTO:-0600
TZNAME:CST
DTSTART:20251102T070000
END:STANDARD
BEGIN:DAYLIGHT
TZOFFSETFROM:-0600
TZOFFSETTO:-0500
TZNAME:CDT
DTSTART:20260308T080000
END:DAYLIGHT
BEGIN:STANDARD
TZOFFSETFROM:-0500
TZOFFSETTO:-0600
TZNAME:CST
DTSTART:20261101T070000
END:STANDARD
BEGIN:DAYLIGHT
TZOFFSETFROM:-0600
TZOFFSETTO:-0500
TZNAME:CDT
DTSTART:20270314T080000
END:DAYLIGHT
BEGIN:STANDARD
TZOFFSETFROM:-0500
TZOFFSETTO:-0600
TZNAME:CST
DTSTART:20271107T070000
END:STANDARD
END:VTIMEZONE
BEGIN:VEVENT
DTSTART;TZID=America/Chicago:20260302T170000
DTEND;TZID=America/Chicago:20260302T180000
DTSTAMP:20260423T135232
CREATED:20251003T221148Z
LAST-MODIFIED:20260302T175654Z
UID:253413-1772470800-1772474400@hhs328.com
SUMMARY:Music Boosters Meeting @ Elementary Band Room
DESCRIPTION:
URL:https://hhs328.com/event/music-boosters-meeting-elementary-band-room-6/
CATEGORIES:District Calendar
ATTACH;FMTTYPE=image/jpeg:https://hhs328.com/wp-content/uploads/2021/01/Hamilton-Logo-3.jpg
END:VEVENT
BEGIN:VEVENT
DTSTART;VALUE=DATE:20260303
DTEND;VALUE=DATE:20260304
DTSTAMP:20260423T135232
CREATED:20251007T232659Z
LAST-MODIFIED:20260227T181152Z
UID:253490-1772496000-1772582399@hhs328.com
SUMMARY:HSGBB Super Sectionals
DESCRIPTION:
URL:https://hhs328.com/event/hsgbb-super-sectionals-3/
CATEGORIES:West Hancock Titans
ATTACH;FMTTYPE=image/jpeg:https://hhs328.com/wp-content/uploads/2021/01/Hamilton-Logo-3.jpg
END:VEVENT
BEGIN:VEVENT
DTSTART;TZID=America/Chicago:20260303T112400
DTEND;TZID=America/Chicago:20260303T115400
DTSTAMP:20260423T135232
CREATED:20250503T135702Z
LAST-MODIFIED:20260303T165650Z
UID:251947-1772537040-1772538840@hhs328.com
SUMMARY:FFA Meeting
DESCRIPTION:
URL:https://hhs328.com/event/ffa-meeting-254/
CATEGORIES:School Calendar
ATTACH;FMTTYPE=image/jpeg:https://hhs328.com/wp-content/uploads/2021/01/Hamilton-Logo-3.jpg
END:VEVENT
BEGIN:VEVENT
DTSTART;VALUE=DATE:20260304
DTEND;VALUE=DATE:20260305
DTSTAMP:20260423T135232
CREATED:20260226T165650Z
LAST-MODIFIED:20260304T165659Z
UID:254905-1772582400-1772668799@hhs328.com
SUMMARY:Future Teacher Meeting
DESCRIPTION:
URL:https://hhs328.com/event/future-teacher-meeting/
CATEGORIES:School Calendar
ATTACH;FMTTYPE=image/jpeg:https://hhs328.com/wp-content/uploads/2021/01/Hamilton-Logo-3.jpg
END:VEVENT
BEGIN:VEVENT
DTSTART;TZID=America/Chicago:20260304T112400
DTEND;TZID=America/Chicago:20260304T115400
DTSTAMP:20260423T135232
CREATED:20250507T135701Z
LAST-MODIFIED:20260304T165659Z
UID:251971-1772623440-1772625240@hhs328.com
SUMMARY:NHS Meeting
DESCRIPTION:
URL:https://hhs328.com/event/nhs-meeting-34/
CATEGORIES:School Calendar
ATTACH;FMTTYPE=image/jpeg:https://hhs328.com/wp-content/uploads/2021/01/Hamilton-Logo-3.jpg
END:VEVENT
BEGIN:VEVENT
DTSTART;TZID=America/Chicago:20260304T124500
DTEND;TZID=America/Chicago:20260304T134500
DTSTAMP:20260423T135232
CREATED:20260227T165652Z
LAST-MODIFIED:20260304T165659Z
UID:254914-1772628300-1772631900@hhs328.com
SUMMARY:Prom Committee
DESCRIPTION:
URL:https://hhs328.com/event/prom-committee/
LOCATION:Smokin’ Gun Hunting Lodge\, 995 E Co Rd 1550\, Hamilton\, IL\, United States
CATEGORIES:School Calendar
ATTACH;FMTTYPE=image/jpeg:https://hhs328.com/wp-content/uploads/2021/01/Hamilton-Logo-3.jpg
END:VEVENT
BEGIN:VEVENT
DTSTART;VALUE=DATE:20260305
DTEND;VALUE=DATE:20260308
DTSTAMP:20260423T135232
CREATED:20251007T232700Z
LAST-MODIFIED:20260227T181152Z
UID:253491-1772668800-1772927999@hhs328.com
SUMMARY:HSGBB State
DESCRIPTION:
URL:https://hhs328.com/event/hsgbb-state-3/
CATEGORIES:West Hancock Titans
ATTACH;FMTTYPE=image/jpeg:https://hhs328.com/wp-content/uploads/2021/01/Hamilton-Logo-3.jpg
END:VEVENT
BEGIN:VEVENT
DTSTART;TZID=America/Chicago:20260305T112400
DTEND;TZID=America/Chicago:20260305T115400
DTSTAMP:20260423T135232
CREATED:20250508T141153Z
LAST-MODIFIED:20260305T165651Z
UID:251981-1772709840-1772711640@hhs328.com
SUMMARY:FFA Meeting
DESCRIPTION:
URL:https://hhs328.com/event/ffa-meeting-255/
CATEGORIES:School Calendar
ATTACH;FMTTYPE=image/jpeg:https://hhs328.com/wp-content/uploads/2021/01/Hamilton-Logo-3.jpg
END:VEVENT
BEGIN:VEVENT
DTSTART;TZID=America/Chicago:20260305T112400
DTEND;TZID=America/Chicago:20260305T122400
DTSTAMP:20260423T135232
CREATED:20260212T151156Z
LAST-MODIFIED:20260305T165651Z
UID:254780-1772709840-1772713440@hhs328.com
SUMMARY:Seniors - Jostens Announcement Delivery
DESCRIPTION:
URL:https://hhs328.com/event/seniors-jostens-announcement-delivery/
CATEGORIES:School Calendar
ATTACH;FMTTYPE=image/jpeg:https://hhs328.com/wp-content/uploads/2021/01/Hamilton-Logo-3.jpg
END:VEVENT
BEGIN:VEVENT
DTSTART;TZID=America/Chicago:20260305T183000
DTEND;TZID=America/Chicago:20260305T193000
DTSTAMP:20260423T135232
CREATED:20260114T101149Z
LAST-MODIFIED:20260305T165651Z
UID:254471-1772735400-1772739000@hhs328.com
SUMMARY:NHS Induction Ceremony
DESCRIPTION:
URL:https://hhs328.com/event/nhs-induction-ceremony/
CATEGORIES:School Calendar
ATTACH;FMTTYPE=image/jpeg:https://hhs328.com/wp-content/uploads/2021/01/Hamilton-Logo-3.jpg
END:VEVENT
BEGIN:VEVENT
DTSTART;TZID=America/Chicago:20260306T112400
DTEND;TZID=America/Chicago:20260306T122400
DTSTAMP:20260423T135232
CREATED:20260210T151150Z
LAST-MODIFIED:20260306T165717Z
UID:254754-1772796240-1772799840@hhs328.com
SUMMARY:Lunch and Learn - Money Management
DESCRIPTION:
URL:https://hhs328.com/event/lunch-and-learn-money-management/
CATEGORIES:School Calendar
ATTACH;FMTTYPE=image/jpeg:https://hhs328.com/wp-content/uploads/2021/01/Hamilton-Logo-3.jpg
END:VEVENT
BEGIN:VEVENT
DTSTART;TZID=America/Chicago:20260307T190000
DTEND;TZID=America/Chicago:20260307T220000
DTSTAMP:20260423T135232
CREATED:20260205T151155Z
LAST-MODIFIED:20260307T171149Z
UID:254690-1772910000-1772920800@hhs328.com
SUMMARY:FFA Sadie Hawkins Dance @ Elementary Gym
DESCRIPTION:
URL:https://hhs328.com/event/ffa-sadie-hawkins-dance-elementary-gym/
CATEGORIES:School Calendar
ATTACH;FMTTYPE=image/jpeg:https://hhs328.com/wp-content/uploads/2021/01/Hamilton-Logo-3.jpg
END:VEVENT
BEGIN:VEVENT
DTSTART;TZID=America/Chicago:20260310T084500
DTEND;TZID=America/Chicago:20260310T100000
DTSTAMP:20260423T135232
CREATED:20260212T151156Z
LAST-MODIFIED:20260309T171155Z
UID:254782-1773132300-1773136800@hhs328.com
SUMMARY:Future Teacher Club
DESCRIPTION:
URL:https://hhs328.com/event/future-teacher-club/
LOCATION:Macomb\, Macomb\, IL\, United States
CATEGORIES:School Calendar
ATTACH;FMTTYPE=image/jpeg:https://hhs328.com/wp-content/uploads/2021/01/Hamilton-Logo-3.jpg
END:VEVENT
BEGIN:VEVENT
DTSTART;TZID=America/Chicago:20260310T112400
DTEND;TZID=America/Chicago:20260310T115400
DTSTAMP:20260423T135232
CREATED:20250509T141201Z
LAST-MODIFIED:20260309T171155Z
UID:251988-1773141840-1773143640@hhs328.com
SUMMARY:FFA Meeting
DESCRIPTION:
URL:https://hhs328.com/event/ffa-meeting-256/
CATEGORIES:School Calendar
ATTACH;FMTTYPE=image/jpeg:https://hhs328.com/wp-content/uploads/2021/01/Hamilton-Logo-3.jpg
END:VEVENT
BEGIN:VEVENT
DTSTART;TZID=America/Chicago:20260310T173000
DTEND;TZID=America/Chicago:20260310T193000
DTSTAMP:20260423T135232
CREATED:20260109T125704Z
LAST-MODIFIED:20260310T191150Z
UID:254436-1773163800-1773171000@hhs328.com
SUMMARY:5/6 Volleyball @ Macomb St. Paul
DESCRIPTION:
URL:https://hhs328.com/event/5-6-volleyball-macomb-st-paul-2/
CATEGORIES:Cardinal Athletics
ATTACH;FMTTYPE=image/jpeg:https://hhs328.com/wp-content/uploads/2021/01/Hamilton-Logo-3.jpg
END:VEVENT
BEGIN:VEVENT
DTSTART;TZID=America/Chicago:20260311T083000
DTEND;TZID=America/Chicago:20260311T143000
DTSTAMP:20260423T135232
CREATED:20251120T112755Z
LAST-MODIFIED:20260311T171149Z
UID:253987-1773217800-1773239400@hhs328.com
SUMMARY:HHS Student Council - Blood Drive
DESCRIPTION:
URL:https://hhs328.com/event/hhs-student-council-blood-drive-2/
CATEGORIES:School Calendar
ATTACH;FMTTYPE=image/jpeg:https://hhs328.com/wp-content/uploads/2021/01/Hamilton-Logo-3.jpg
END:VEVENT
BEGIN:VEVENT
DTSTART;VALUE=DATE:20260312
DTEND;VALUE=DATE:20260313
DTSTAMP:20260423T135232
CREATED:20260306T165716Z
LAST-MODIFIED:20260312T171150Z
UID:254979-1773273600-1773359999@hhs328.com
SUMMARY:University of Illinois Springfield Lunch Visit
DESCRIPTION:
URL:https://hhs328.com/event/university-of-illinois-springfield-lunch-visit/
CATEGORIES:School Calendar
ATTACH;FMTTYPE=image/jpeg:https://hhs328.com/wp-content/uploads/2021/01/Hamilton-Logo-3.jpg
END:VEVENT
BEGIN:VEVENT
DTSTART;TZID=America/Chicago:20260312T112400
DTEND;TZID=America/Chicago:20260312T115400
DTSTAMP:20260423T135232
CREATED:20250510T141151Z
LAST-MODIFIED:20260311T171149Z
UID:251997-1773314640-1773316440@hhs328.com
SUMMARY:FFA Meeting
DESCRIPTION:
URL:https://hhs328.com/event/ffa-meeting-257/
CATEGORIES:School Calendar
ATTACH;FMTTYPE=image/jpeg:https://hhs328.com/wp-content/uploads/2021/01/Hamilton-Logo-3.jpg
END:VEVENT
BEGIN:VEVENT
DTSTART;VALUE=DATE:20260313
DTEND;VALUE=DATE:20260314
DTSTAMP:20260423T135232
CREATED:20250708T192651Z
LAST-MODIFIED:20260313T181157Z
UID:252644-1773360000-1773446399@hhs328.com
SUMMARY:End of 3rd Quarter
DESCRIPTION:
URL:https://hhs328.com/event/end-of-3rd-quarter-3/
CATEGORIES:District Calendar
ATTACH;FMTTYPE=image/jpeg:https://hhs328.com/wp-content/uploads/2021/01/Hamilton-Logo-3.jpg
END:VEVENT
BEGIN:VEVENT
DTSTART;TZID=America/Chicago:20260314T093000
DTEND;TZID=America/Chicago:20260314T130000
DTSTAMP:20260423T135232
CREATED:20251008T232655Z
LAST-MODIFIED:20260313T185652Z
UID:253499-1773480600-1773493200@hhs328.com
SUMMARY:Track @ Illinois College (Indoor Meet)
DESCRIPTION:
URL:https://hhs328.com/event/track-illinois-college/
CATEGORIES:West Hancock Titans
ATTACH;FMTTYPE=image/jpeg:https://hhs328.com/wp-content/uploads/2021/01/Hamilton-Logo-3.jpg
END:VEVENT
BEGIN:VEVENT
DTSTART;TZID=America/Chicago:20260316T163000
DTEND;TZID=America/Chicago:20260316T183000
DTSTAMP:20260423T135232
CREATED:20251010T232654Z
LAST-MODIFIED:20260316T192652Z
UID:253514-1773678600-1773685800@hhs328.com
SUMMARY:HSBB @ Mercer County - CANCELLED
DESCRIPTION:
URL:https://hhs328.com/event/hsbb-mercer-county-2/
CATEGORIES:West Hancock Titans
ATTACH;FMTTYPE=image/jpeg:https://hhs328.com/wp-content/uploads/2021/01/Hamilton-Logo-3.jpg
END:VEVENT
BEGIN:VEVENT
DTSTART;TZID=America/Chicago:20260317T112400
DTEND;TZID=America/Chicago:20260317T115400
DTSTAMP:20260423T135232
CREATED:20250512T141156Z
LAST-MODIFIED:20260316T171152Z
UID:252009-1773746640-1773748440@hhs328.com
SUMMARY:FFA Meeting
DESCRIPTION:
URL:https://hhs328.com/event/ffa-meeting-258/
CATEGORIES:School Calendar
ATTACH;FMTTYPE=image/jpeg:https://hhs328.com/wp-content/uploads/2021/01/Hamilton-Logo-3.jpg
END:VEVENT
BEGIN:VEVENT
DTSTART;TZID=America/Chicago:20260317T163000
DTEND;TZID=America/Chicago:20260317T183000
DTSTAMP:20260423T135232
CREATED:20251011T232700Z
LAST-MODIFIED:20260317T192649Z
UID:253524-1773765000-1773772200@hhs328.com
SUMMARY:HSSB @ Western
DESCRIPTION:
URL:https://hhs328.com/event/hssb-western-2/
CATEGORIES:West Hancock Titans
ATTACH;FMTTYPE=image/jpeg:https://hhs328.com/wp-content/uploads/2021/01/Hamilton-Logo-3.jpg
END:VEVENT
BEGIN:VEVENT
DTSTART;TZID=America/Chicago:20260318T163000
DTEND;TZID=America/Chicago:20260318T173000
DTSTAMP:20260423T135232
CREATED:20251021T232655Z
LAST-MODIFIED:20260318T194155Z
UID:253619-1773851400-1773855000@hhs328.com
SUMMARY:HSBB JV @ QHS - CANCELLED
DESCRIPTION:
URL:https://hhs328.com/event/hsbb-jv-qhs/
CATEGORIES:West Hancock Titans
ATTACH;FMTTYPE=image/jpeg:https://hhs328.com/wp-content/uploads/2021/01/Hamilton-Logo-3.jpg
END:VEVENT
BEGIN:VEVENT
DTSTART;TZID=America/Chicago:20260318T163000
DTEND;TZID=America/Chicago:20260318T183000
DTSTAMP:20260423T135232
CREATED:20251011T232700Z
LAST-MODIFIED:20260318T194155Z
UID:253525-1773851400-1773858600@hhs328.com
SUMMARY:HSSB @ Monmouth United - CANCELLED
DESCRIPTION:
URL:https://hhs328.com/event/hssb-monmouth-united/
CATEGORIES:West Hancock Titans
ATTACH;FMTTYPE=image/jpeg:https://hhs328.com/wp-content/uploads/2021/01/Hamilton-Logo-3.jpg
END:VEVENT
BEGIN:VEVENT
DTSTART;TZID=America/Chicago:20260318T183000
DTEND;TZID=America/Chicago:20260318T203000
DTSTAMP:20260423T135232
CREATED:20240318T121151Z
LAST-MODIFIED:20260318T182651Z
UID:81505-1773858600-1773865800@hhs328.com
SUMMARY:Board Meeting
DESCRIPTION:
URL:https://hhs328.com/event/board-meeting-32/
CATEGORIES:District Calendar
ATTACH;FMTTYPE=image/jpeg:https://hhs328.com/wp-content/uploads/2021/01/Hamilton-Logo-3.jpg
END:VEVENT
BEGIN:VEVENT
DTSTART;TZID=America/Chicago:20260319T112400
DTEND;TZID=America/Chicago:20260319T115400
DTSTAMP:20260423T135232
CREATED:20250617T175656Z
LAST-MODIFIED:20260318T172652Z
UID:252295-1773919440-1773921240@hhs328.com
SUMMARY:FFA Meeting
DESCRIPTION:
URL:https://hhs328.com/event/ffa-meeting-259/
CATEGORIES:School Calendar
ATTACH;FMTTYPE=image/jpeg:https://hhs328.com/wp-content/uploads/2021/01/Hamilton-Logo-3.jpg
END:VEVENT
BEGIN:VEVENT
DTSTART;TZID=America/Chicago:20260319T163000
DTEND;TZID=America/Chicago:20260319T183000
DTSTAMP:20260423T135232
CREATED:20251012T232659Z
LAST-MODIFIED:20260319T194155Z
UID:253532-1773937800-1773945000@hhs328.com
SUMMARY:HSBB vs West Central - CANCELLED
DESCRIPTION:
URL:https://hhs328.com/event/hsbb-vs-west-central-2/
CATEGORIES:West Hancock Titans
ATTACH;FMTTYPE=image/jpeg:https://hhs328.com/wp-content/uploads/2021/01/Hamilton-Logo-3.jpg
END:VEVENT
BEGIN:VEVENT
DTSTART;TZID=America/Chicago:20260319T163000
DTEND;TZID=America/Chicago:20260319T183000
DTSTAMP:20260423T135232
CREATED:20251012T232659Z
LAST-MODIFIED:20260319T194155Z
UID:253533-1773937800-1773945000@hhs328.com
SUMMARY:HSSB vs QHS
DESCRIPTION:
URL:https://hhs328.com/event/hssb-vs-qhs-2/
CATEGORIES:West Hancock Titans
ATTACH;FMTTYPE=image/jpeg:https://hhs328.com/wp-content/uploads/2021/01/Hamilton-Logo-3.jpg
END:VEVENT
BEGIN:VEVENT
DTSTART;TZID=America/Chicago:20260320T130000
DTEND;TZID=America/Chicago:20260320T140000
DTSTAMP:20260423T135232
CREATED:20250708T192652Z
LAST-MODIFIED:20260320T182657Z
UID:252645-1774011600-1774015200@hhs328.com
SUMMARY:School Improvement - Early Dismissal
DESCRIPTION:
URL:https://hhs328.com/event/school-improvement-early-dismissal-3/
CATEGORIES:District Calendar
ATTACH;FMTTYPE=image/jpeg:https://hhs328.com/wp-content/uploads/2021/01/Hamilton-Logo-3.jpg
END:VEVENT
END:VCALENDAR